BEGIN:VCALENDAR
VERSION:2.0
PRODID:-//Events for LONDON - ECPv6.15.20//NONSGML v1.0//EN
CALSCALE:GREGORIAN
METHOD:PUBLISH
X-ORIGINAL-URL:https://eventsforlondon.co.uk
X-WR-CALDESC:Events for Events for LONDON
REFRESH-INTERVAL;VALUE=DURATION:PT1H
X-Robots-Tag:noindex
X-PUBLISHED-TTL:PT1H
BEGIN:VTIMEZONE
TZID:Europe/London
BEGIN:DAYLIGHT
TZOFFSETFROM:+0000
TZOFFSETTO:+0100
TZNAME:BST
DTSTART:20180325T010000
END:DAYLIGHT
BEGIN:STANDARD
TZOFFSETFROM:+0100
TZOFFSETTO:+0000
TZNAME:GMT
DTSTART:20181028T010000
END:STANDARD
BEGIN:DAYLIGHT
TZOFFSETFROM:+0000
TZOFFSETTO:+0100
TZNAME:BST
DTSTART:20190331T010000
END:DAYLIGHT
BEGIN:STANDARD
TZOFFSETFROM:+0100
TZOFFSETTO:+0000
TZNAME:GMT
DTSTART:20191027T010000
END:STANDARD
BEGIN:DAYLIGHT
TZOFFSETFROM:+0000
TZOFFSETTO:+0100
TZNAME:BST
DTSTART:20200329T010000
END:DAYLIGHT
BEGIN:STANDARD
TZOFFSETFROM:+0100
TZOFFSETTO:+0000
TZNAME:GMT
DTSTART:20201025T010000
END:STANDARD
END:VTIMEZONE
BEGIN:VEVENT
DTSTART;VALUE=DATE:20190110
DTEND;VALUE=DATE:20190111
DTSTAMP:20260422T010039
CREATED:20181029T054934Z
LAST-MODIFIED:20181029T060044Z
UID:30047128-1547078400-1547164799@eventsforlondon.co.uk
SUMMARY:Free Event Lumiere London 2018
DESCRIPTION:  \nEnjoy the night lighted up by creative Lumiere Lights. Over 40 international and local artist create a spectacle as they transform the streets\, into a magical place.  Everyone in invited to glaze upon the view. It is Free for all. So come enjoy UK’s largest light festival. \nhttp://www.lumiere-festival.com/ \n \n  \n﻿
URL:https://eventsforlondon.co.uk/event/free-event-lumiere-london-2018/
LOCATION:Wonders of London\, 1 Piccadilly Circus\,\, London\, W1J 0DA\, United Kingdom
CATEGORIES:Arts,Digital Arts,Entertainment,Exhibitions,Family Activities,Free Events,Visual Arts
ATTACH;FMTTYPE=image/jpeg:https://eventsforlondon.co.uk/wp-content/uploads/2018/10/lumiere10.jpg
ORGANIZER;CN="Wonders of London":MAILTO:info@wondersoflondon.com
GEO:51.5103733;-0.1339141
X-APPLE-STRUCTURED-LOCATION;VALUE=URI;X-ADDRESS=Wonders of London 1 Piccadilly Circus London W1J 0DA United Kingdom;X-APPLE-RADIUS=500;X-TITLE=1 Piccadilly Circus\,:geo:-0.1339141,51.5103733
END:VEVENT
END:VCALENDAR