BEGIN:VCALENDAR
VERSION:2.0
PRODID:-//Events for LONDON - ECPv6.15.20//NONSGML v1.0//EN
CALSCALE:GREGORIAN
METHOD:PUBLISH
X-WR-CALNAME:Events for LONDON
X-ORIGINAL-URL:https://eventsforlondon.co.uk
X-WR-CALDESC:Events for Events for LONDON
REFRESH-INTERVAL;VALUE=DURATION:PT1H
X-Robots-Tag:noindex
X-PUBLISHED-TTL:PT1H
BEGIN:VTIMEZONE
TZID:Europe/London
BEGIN:DAYLIGHT
TZOFFSETFROM:+0000
TZOFFSETTO:+0100
TZNAME:BST
DTSTART:20170326T010000
END:DAYLIGHT
BEGIN:STANDARD
TZOFFSETFROM:+0100
TZOFFSETTO:+0000
TZNAME:GMT
DTSTART:20171029T010000
END:STANDARD
BEGIN:DAYLIGHT
TZOFFSETFROM:+0000
TZOFFSETTO:+0100
TZNAME:BST
DTSTART:20180325T010000
END:DAYLIGHT
BEGIN:STANDARD
TZOFFSETFROM:+0100
TZOFFSETTO:+0000
TZNAME:GMT
DTSTART:20181028T010000
END:STANDARD
BEGIN:DAYLIGHT
TZOFFSETFROM:+0000
TZOFFSETTO:+0100
TZNAME:BST
DTSTART:20190331T010000
END:DAYLIGHT
BEGIN:STANDARD
TZOFFSETFROM:+0100
TZOFFSETTO:+0000
TZNAME:GMT
DTSTART:20191027T010000
END:STANDARD
BEGIN:DAYLIGHT
TZOFFSETFROM:+0000
TZOFFSETTO:+0100
TZNAME:BST
DTSTART:20200329T010000
END:DAYLIGHT
BEGIN:STANDARD
TZOFFSETFROM:+0100
TZOFFSETTO:+0000
TZNAME:GMT
DTSTART:20201025T010000
END:STANDARD
END:VTIMEZONE
BEGIN:VEVENT
DTSTART;TZID=Europe/London:20190110T183000
DTEND;TZID=Europe/London:20190110T213000
DTSTAMP:20260424T015312
CREATED:20190108T071754Z
LAST-MODIFIED:20190108T072643Z
UID:30050845-1547145000-1547155800@eventsforlondon.co.uk
SUMMARY:Peter Gronquist: Shape Shifter
DESCRIPTION:Peter Gronquist is an American multidisciplinary artist of painting\, sculpture and installation who uses unique materials for his work. Shape Shifter is his new vision of colour and temporality produced by the transience of humanity\, addressing themes of impermanence\, excess and escapism.\n\n\n\nLearn about the techniques he uses for this spectacular exhibition: https://theunitldn.com/whats-on/28/\n\n\nTaken from https://www.imgrumweb.com/hashtag/petergronquist”\n\n\n\n\n\n\nShape Shifter is a re-evaluation of themes that are at once known and unknown\, questioning the foundations of 21st Century society in order to uncover the artist’s personal and creative questions. Peter Gronquist has exhibited in galleries and fairs across the globe\, most recently at Hashimoto Contemporary in San Francisco\, and Winston Wachter in Seattle.\n\n\nBook Free Ticket to ensure a spot.
URL:https://eventsforlondon.co.uk/event/peter-gronquist-shape-shifter/
LOCATION:Unit London\, 6a Langley Street\, London\, WC2H 9JA\, United Kingdom
CATEGORIES:Arts,Exhibitions,Free Events,Visual Arts
ATTACH;FMTTYPE=image/jpeg:https://eventsforlondon.co.uk/wp-content/uploads/2019/01/shape-shifter.jpg
ORGANIZER;CN="Unit London":MAILTO:art@theunitldn.com
GEO:51.5132651;-0.1250943
X-APPLE-STRUCTURED-LOCATION;VALUE=URI;X-ADDRESS=Unit London 6a Langley Street London WC2H 9JA United Kingdom;X-APPLE-RADIUS=500;X-TITLE=6a Langley Street:geo:-0.1250943,51.5132651
END:VEVENT
BEGIN:VEVENT
DTSTART;TZID=Europe/London:20181026T120000
DTEND;TZID=Europe/London:20181026T190000
DTSTAMP:20260424T015312
CREATED:20181012T235730Z
LAST-MODIFIED:20181015T020653Z
UID:30050489-1540555200-1540580400@eventsforlondon.co.uk
SUMMARY:Introducing Norvia: holistic fitness\, nutrition and motivation sessions
DESCRIPTION:Norvia proudly invites you to the launch of their premium nutrition brand championing ‘The Science of Natural Nutrition.’ Celebrating their Norwegian heritage whilst combining science with nature to bring you the highest quality products\, this event marks Norvia’s launch for the first time into the UK and Europe. \n \nTeaming up with expert coaches in the wellness industry\, Norvia will present their holistic philosophy including healthy nutrition\, exercise and mental wellbeing. \nIn this immersive event\, you’ll be guided through the Norvia wellness programme with an invigorating exercise class taken by fitness guru Emma Louise-Burrows\, a food demonstration from nutritionist and health consultant Lilo Ask-Henriksen and a motivational talk from celebrated base-jumper\, wingsuit pilot and motivator Tom Erik Heimen . \nYou’ll also be the first to try Norvia’s plant-based\, nutritionally-complete shakes before they are made available the masses. These highly nutritious powders are rich in vital macro and micronutrients\, vitamins and minerals needed by the body for maximum performance in sports and safe weight loss. They only need to be added to water to create a deliciously filling drink! \nSpaces are limited for this exclusive evening so book a place – and take Friday afternoon to the next level! \nEssential information: \nSessions will take 45 minutes in total – including time with each of the three coaches\nPlease arrive wearing activewear and comfortable shoes such as trainers\nA small cloakroom will be in operation\nPlease alert the coaches of any health issues before starting your session
URL:https://eventsforlondon.co.uk/event/introducing-norvia-holistic-fitness-nutrition-and-motivation-sessions/
LOCATION:Unit London\, 6a Langley Street\, London\, WC2H 9JA\, United Kingdom
CATEGORIES:Food & Drink,Free Events,Health,Sports
ATTACH;FMTTYPE=image/jpeg:https://eventsforlondon.co.uk/wp-content/uploads/2018/10/42045175_1992909711005129_2799074910297653248_o-e1539569199572.jpg
GEO:51.5132651;-0.1250943
X-APPLE-STRUCTURED-LOCATION;VALUE=URI;X-ADDRESS=Unit London 6a Langley Street London WC2H 9JA United Kingdom;X-APPLE-RADIUS=500;X-TITLE=6a Langley Street:geo:-0.1250943,51.5132651
END:VEVENT
END:VCALENDAR