BEGIN:VCALENDAR
VERSION:2.0
PRODID:-//Events for LONDON - ECPv6.15.20//NONSGML v1.0//EN
CALSCALE:GREGORIAN
METHOD:PUBLISH
X-WR-CALNAME:Events for LONDON
X-ORIGINAL-URL:https://eventsforlondon.co.uk
X-WR-CALDESC:Events for Events for LONDON
REFRESH-INTERVAL;VALUE=DURATION:PT1H
X-Robots-Tag:noindex
X-PUBLISHED-TTL:PT1H
BEGIN:VTIMEZONE
TZID:Europe/London
BEGIN:DAYLIGHT
TZOFFSETFROM:+0000
TZOFFSETTO:+0100
TZNAME:BST
DTSTART:20220327T010000
END:DAYLIGHT
BEGIN:STANDARD
TZOFFSETFROM:+0100
TZOFFSETTO:+0000
TZNAME:GMT
DTSTART:20221030T010000
END:STANDARD
BEGIN:DAYLIGHT
TZOFFSETFROM:+0000
TZOFFSETTO:+0100
TZNAME:BST
DTSTART:20230326T010000
END:DAYLIGHT
BEGIN:STANDARD
TZOFFSETFROM:+0100
TZOFFSETTO:+0000
TZNAME:GMT
DTSTART:20231029T010000
END:STANDARD
BEGIN:DAYLIGHT
TZOFFSETFROM:+0000
TZOFFSETTO:+0100
TZNAME:BST
DTSTART:20240331T010000
END:DAYLIGHT
BEGIN:STANDARD
TZOFFSETFROM:+0100
TZOFFSETTO:+0000
TZNAME:GMT
DTSTART:20241027T010000
END:STANDARD
END:VTIMEZONE
BEGIN:VEVENT
DTSTART;TZID=Europe/London:20230314T213000
DTEND;TZID=Europe/London:20230319T223000
DTSTAMP:20260424T114821
CREATED:20230227T170135Z
LAST-MODIFIED:20230227T170138Z
UID:30059961-1678829400-1679265000@eventsforlondon.co.uk
SUMMARY:Grey Widow
DESCRIPTION:WINNER London Horror Festival Playwriting Competition 2019 \nIn this acclaimed monologue play\, Lady Aria Grey tells the haunting tale of her turbulent marriage with her recently deceased ex-husband. She killed him\, you see\, but she didn’t do it properly\, and now she can’t seem to banish his ghost. Marvel as she glides effortlessly from memoir\, to lip sync\, to ghost story\, to something altogether unholy. \nWritten and performed by Lady Aria Grey (AKA Callum Tilbury)\, Grey Widow takes the audience on an eerie\, hilarious journey into the darkest corners of drag. So strap in\, strap on\, and prepare to summon some spirits – it’s going to be a bumpy night.
URL:https://eventsforlondon.co.uk/event/grey-widow/
LOCATION:The Pit\, The Vaults\, Leake Street\, The Vaults\, Leake Street\, London\, SE1 7NN
CATEGORIES:Festivals,London Theatre
ATTACH;FMTTYPE=image/png:https://eventsforlondon.co.uk/wp-content/uploads/2023/02/Grey-Widow-VAULT-Poster-Photographer-Credit-Elliot-Moody-Poster-Design-Credit-Kei-Ella-Lowe.png
GEO:51.5010745;-0.1142973
X-APPLE-STRUCTURED-LOCATION;VALUE=URI;X-ADDRESS=The Pit The Vaults Leake Street The Vaults Leake Street London SE1 7NN;X-APPLE-RADIUS=500;X-TITLE=The Vaults\, Leake Street:geo:-0.1142973,51.5010745
END:VEVENT
BEGIN:VEVENT
DTSTART;TZID=Europe/London:20230310T183000
DTEND;TZID=Europe/London:20230310T183000
DTSTAMP:20260424T114821
CREATED:20230118T125239Z
LAST-MODIFIED:20230118T125243Z
UID:30059851-1678473000-1678473000@eventsforlondon.co.uk
SUMMARY:'Honour-Bound' at VAULT Festival 2023
DESCRIPTION:A 4-night run of a new solo show written and performed by recent drama school graduate\, Zahra Jassi\, exploring honour-based violence (HBV) and anti-Blackness in South Asian communities\, family\, and what we sacrifice for love. Funny\, poignant\, and thought-provoking. Soon-to-be published by Nick Hern Books in ‘Plays From VAULT: Six’ which “features five of the best plays from this year’s VAULT Festival”. \n\n\n\nMarch 7-10th at 6:30 pm at VAULT Festival. The Vaults\, Leake Street\, London\, SE1 7NN. \n\n\n\nTicket link — https://vaultfestival.com/events/honour-bound/
URL:https://eventsforlondon.co.uk/event/honour-bound-at-vault-festival-2023/2023-03-10/
LOCATION:The Pit\, The Vaults\, Leake Street\, The Vaults\, Leake Street\, London\, SE1 7NN
CATEGORIES:Arts,Cheap Tickets,Entertainment,Events in London,Festivals,London Theatre,Performing Arts,Shows,Writers
ATTACH;FMTTYPE=image/jpeg:https://eventsforlondon.co.uk/wp-content/uploads/2023/01/Honour-bound-flyer-e1674046346106.jpg
GEO:51.5010745;-0.1142973
X-APPLE-STRUCTURED-LOCATION;VALUE=URI;X-ADDRESS=The Pit The Vaults Leake Street The Vaults Leake Street London SE1 7NN;X-APPLE-RADIUS=500;X-TITLE=The Vaults\, Leake Street:geo:-0.1142973,51.5010745
END:VEVENT
BEGIN:VEVENT
DTSTART;TZID=Europe/London:20230228T213000
DTEND;TZID=Europe/London:20230305T223000
DTSTAMP:20260424T114821
CREATED:20230217T070733Z
LAST-MODIFIED:20230217T070737Z
UID:30059939-1677619800-1678055400@eventsforlondon.co.uk
SUMMARY:My Lover Was a Salmon in the Climate Apocalypse
DESCRIPTION:An Irish folk gig goes off the rails when one band member turns into a fish. Come for the trad tunes\, stay for the salmon trivia and existential despair: this gig gets weird. \n\n\n\nEverything Theatre ★★★★ “A masterclass of gig theatre” \n\n\n\nFringebiscuit ★★★★ “Informative\, energetic\, divinely absurd […] the music is sublime throughout” \n\n\n\nHumanity’s ruined the ecosystem\, but humanity’s just a dodgy side branch of fish evolution. The solution’s clear – and that’s where the salmon come in. \n\n\n\nFin’s climate anxiety culminates in his thinking he’s a salmon onstage while his girlfriend and bandmate look on in fishy horror. This could be a climate revolution. \n\n\n\nBut being a salmon would put particular stress on everyone’s personal lives. And actually\, that’s a good question to ask: can our relationships survive this overwhelming timeline we’re in at all? (Features salmon.) \n\n\n\nWith live trad music\, FX pedal soundscapes\, global industrial food production\, colonialism\, fish farming\, and probably inevitable ecological destruction? \n\n\n\nWinner of Staging Change x VAULT Award 2022Winner of Axis Green Arts Award (for previous work)
URL:https://eventsforlondon.co.uk/event/my-lover-was-a-salmon-in-the-climate-apocalypse/2023-02-28/
LOCATION:The Pit\, The Vaults\, Leake Street\, The Vaults\, Leake Street\, London\, SE1 7NN
CATEGORIES:Arts,Environment,Events in London,London Musicals,London Theatre,Music,Performing Arts
ATTACH;FMTTYPE=image/jpeg:https://eventsforlondon.co.uk/wp-content/uploads/2023/02/V23-Flyer-front-e1676617618641.jpeg
ORGANIZER;CN="bradan theatre":MAILTO:bbaktsu1@gmail.com
GEO:51.5010745;-0.1142973
X-APPLE-STRUCTURED-LOCATION;VALUE=URI;X-ADDRESS=The Pit The Vaults Leake Street The Vaults Leake Street London SE1 7NN;X-APPLE-RADIUS=500;X-TITLE=The Vaults\, Leake Street:geo:-0.1142973,51.5010745
END:VEVENT
BEGIN:VEVENT
DTSTART;TZID=Europe/London:20230128T193000
DTEND;TZID=Europe/London:20230128T203000
DTSTAMP:20260424T114821
CREATED:20230123T065823Z
LAST-MODIFIED:20230124T132239Z
UID:30059871-1674934200-1674937800@eventsforlondon.co.uk
SUMMARY:BUTCHERED @ VAULT Festival
DESCRIPTION:Expial Atrocious are bringing their 5-star absurdist horror to VAULT Festival 2023\, and you’re all invited… \n  \n“Welcome to the kitchen where dreams come to die. \nAfter working in a basement kitchen for as long as they can remember\, Master Sausage only knows one thing. Eat\, sleep\, sausage\, repeat. Trying to appease the greed of their faceless employers\, the Top Steps\, they work relentlessly and cannot imagine their life beyond the butchery. \nBut when a babbling\, fresh-faced Apprentice arrives\, a harsh reality is brought with them. With their daily routine disrupted\, the Master is forced to look their life in the eye and climb into the belly of the beast. As tensions rise\, sinister questions rear their heads. What does it mean to be happy? Is there more to life than this? What’s in those sausages anyway? \n‘Sweeney Todd’ meets ‘The Trap Door’ in this blood-thirsty absurdist thriller about challenging tradition\, surviving in a cut-throat world and doing what has to be done…” \n  \nREVIEWS: \nFringebiscuit ★★★★★ “Stellar performances\, sensational writing and masterfully executed stagecraft. Powerful\, moving and thrillingly gruesome.” \n  \nEdFringeReview ★★★★ “A nightmarish piece of theatre.” \n  \nBritish Theatre Guide ★★★★ “An experience that will leave you shocked\, shaken and possibly feeling like you want a shower afterwards.” \n  \nCONTENT WARNINGS: Suitable for ages 15+. Flashing lights\, loud/uncomfortable sound effects and music\, depictions of stylised/physical violence and body horror\, graphic descriptions of death and murder\, reference to death and suicide.
URL:https://eventsforlondon.co.uk/event/butchered-vault-festival/2023-01-28/
LOCATION:The Pit\, The Vaults\, Leake Street\, The Vaults\, Leake Street\, London\, SE1 7NN
CATEGORIES:Entertainment,Events in London,London Theatre,Performing Arts
ATTACH;FMTTYPE=image/jpeg:https://eventsforlondon.co.uk/wp-content/uploads/2023/01/BUTCHERED-promo-1-e1674457092848.jpg
GEO:51.5010745;-0.1142973
X-APPLE-STRUCTURED-LOCATION;VALUE=URI;X-ADDRESS=The Pit The Vaults Leake Street The Vaults Leake Street London SE1 7NN;X-APPLE-RADIUS=500;X-TITLE=The Vaults\, Leake Street:geo:-0.1142973,51.5010745
END:VEVENT
END:VCALENDAR