BEGIN:VCALENDAR
VERSION:2.0
PRODID:-//Events for LONDON - ECPv6.15.20//NONSGML v1.0//EN
CALSCALE:GREGORIAN
METHOD:PUBLISH
X-WR-CALNAME:Events for LONDON
X-ORIGINAL-URL:https://eventsforlondon.co.uk
X-WR-CALDESC:Events for Events for LONDON
REFRESH-INTERVAL;VALUE=DURATION:PT1H
X-Robots-Tag:noindex
X-PUBLISHED-TTL:PT1H
BEGIN:VTIMEZONE
TZID:Europe/London
BEGIN:DAYLIGHT
TZOFFSETFROM:+0000
TZOFFSETTO:+0100
TZNAME:BST
DTSTART:20200329T010000
END:DAYLIGHT
BEGIN:STANDARD
TZOFFSETFROM:+0100
TZOFFSETTO:+0000
TZNAME:GMT
DTSTART:20201025T010000
END:STANDARD
BEGIN:DAYLIGHT
TZOFFSETFROM:+0000
TZOFFSETTO:+0100
TZNAME:BST
DTSTART:20210328T010000
END:DAYLIGHT
BEGIN:STANDARD
TZOFFSETFROM:+0100
TZOFFSETTO:+0000
TZNAME:GMT
DTSTART:20211031T010000
END:STANDARD
BEGIN:DAYLIGHT
TZOFFSETFROM:+0000
TZOFFSETTO:+0100
TZNAME:BST
DTSTART:20220327T010000
END:DAYLIGHT
BEGIN:STANDARD
TZOFFSETFROM:+0100
TZOFFSETTO:+0000
TZNAME:GMT
DTSTART:20221030T010000
END:STANDARD
BEGIN:DAYLIGHT
TZOFFSETFROM:+0000
TZOFFSETTO:+0100
TZNAME:BST
DTSTART:20230326T010000
END:DAYLIGHT
BEGIN:STANDARD
TZOFFSETFROM:+0100
TZOFFSETTO:+0000
TZNAME:GMT
DTSTART:20231029T010000
END:STANDARD
BEGIN:DAYLIGHT
TZOFFSETFROM:+0000
TZOFFSETTO:+0100
TZNAME:BST
DTSTART:20240331T010000
END:DAYLIGHT
BEGIN:STANDARD
TZOFFSETFROM:+0100
TZOFFSETTO:+0000
TZNAME:GMT
DTSTART:20241027T010000
END:STANDARD
BEGIN:DAYLIGHT
TZOFFSETFROM:+0000
TZOFFSETTO:+0100
TZNAME:BST
DTSTART:20250330T010000
END:DAYLIGHT
BEGIN:STANDARD
TZOFFSETFROM:+0100
TZOFFSETTO:+0000
TZNAME:GMT
DTSTART:20251026T010000
END:STANDARD
END:VTIMEZONE
BEGIN:VEVENT
DTSTART;TZID=Europe/London:20240518T210000
DTEND;TZID=Europe/London:20240518T220000
DTSTAMP:20260421T144512
CREATED:20240516T022908Z
LAST-MODIFIED:20240516T022908Z
UID:30068018-1716066000-1716069600@eventsforlondon.co.uk
SUMMARY:Vulva Voce
DESCRIPTION:Virtuosic string quartet Vulva Voce present the music and stories of women across the centuries\, from Renaissance madrigals to African-American Romanticism and contemporary classical. Brand new arrangements and compositions by the ensemble will feature throughout\, inspired by the sound worlds of folk\, jazz\, and techno.
URL:https://eventsforlondon.co.uk/event/vulva-voce/
LOCATION:The Jago\, 440 Kingsland Road\, London\, E8 4AA\, United Kingdom
CATEGORIES:Events in London,Live Music,Music
ATTACH;FMTTYPE=image/jpeg:https://eventsforlondon.co.uk/wp-content/uploads/2024/05/230530_lead_vulvavoce_moritomusic_hackney-e1715826541576.jpg
ORGANIZER;CN="through the noise":MAILTO:info@throughthenoise.co.uk
GEO:51.5423141;-0.0755863
X-APPLE-STRUCTURED-LOCATION;VALUE=URI;X-ADDRESS=The Jago 440 Kingsland Road London E8 4AA United Kingdom;X-APPLE-RADIUS=500;X-TITLE=440 Kingsland Road:geo:-0.0755863,51.5423141
END:VEVENT
BEGIN:VEVENT
DTSTART;TZID=Europe/London:20240518T200000
DTEND;TZID=Europe/London:20240519T033000
DTSTAMP:20260421T144512
CREATED:20240426T104127Z
LAST-MODIFIED:20240426T104127Z
UID:30067900-1716062400-1716089400@eventsforlondon.co.uk
SUMMARY:Vulva Voce at the Jago\, Dalston
DESCRIPTION:Vulva Voce is a genre-defying string quartet that brings exciting\, dynamic performances of music composed by women and underrepresented voices to venues beyond the concert hall. Their mission is to break away from long held conventions of classical music and the string quartet\, presenting audiences with radical and refreshing musical experiences. All classically trained\, but with interests in folk\, jazz\, contemporary classical\, and techno\, their performances are a unique delve into female composers from across centuries. \n8pm: doors open \n9pm: vulva voce set \nfrom 11pm: live bands and DJs across the venue’s two floors ’til 3.30am
URL:https://eventsforlondon.co.uk/event/vulva-voce-at-the-jago-dalston/
LOCATION:The Jago\, 440 Kingsland Road\, London\, E8 4AA\, United Kingdom
CATEGORIES:Concerts,Entertainment,Events in London,Live Music,Music,Performing Arts,Women
ATTACH;FMTTYPE=image/jpeg:https://eventsforlondon.co.uk/wp-content/uploads/2024/04/DSC00864-Enhanced_11zon-e1714128079102.jpg
ORGANIZER;CN="through the noise":MAILTO:info@throughthenoise.co.uk
GEO:51.5423141;-0.0755863
X-APPLE-STRUCTURED-LOCATION;VALUE=URI;X-ADDRESS=The Jago 440 Kingsland Road London E8 4AA United Kingdom;X-APPLE-RADIUS=500;X-TITLE=440 Kingsland Road:geo:-0.0755863,51.5423141
END:VEVENT
BEGIN:VEVENT
DTSTART;TZID=Europe/London:20230513T220000
DTEND;TZID=Europe/London:20230514T033000
DTSTAMP:20260421T144512
CREATED:20230508T134459Z
LAST-MODIFIED:20230508T134504Z
UID:30060159-1684015200-1684035000@eventsforlondon.co.uk
SUMMARY:Shez Raja + SANOY
DESCRIPTION:Legendary bassist Shez Raja blends East with West at The Jago Dalston\, combining euphoric jazz\, thundering funk\, ancient ragas\, and intoxicating grooves. \n\n\n\nShez is famed for his high-energy live shows\, unique Indojazzfunk sound\, and collaborations with global jazz legends Mike Stern\, Randy Brecker\, Trilok Gurtu\, and Wayne Krantz. \n\n\n\nRecently voted one of the ‘Hottest Bass Players in the World’\, Shez follows-up on recent sold-out performances at Ronnie Scott’s Jazz Club\, the Royal Festival Hall\, and the Jazz Café with this exclusive live set in legendary Dalston live music venue\, The Jago. \n\n\n\nHis band will feature internationally renowned saxophone legend Tony Kofi\, the incredible Tomasz Bura on keyboards and Chris Nickolls on drums.
URL:https://eventsforlondon.co.uk/event/shez-raja-sanoy/
LOCATION:The Jago\, 440 Kingsland Road\, London\, E8 4AA\, United Kingdom
CATEGORIES:Arts,Cheap Tickets,Events in London,Gigs,Live Music
ATTACH;FMTTYPE=image/jpeg:https://eventsforlondon.co.uk/wp-content/uploads/2023/05/B-Shez-Raja-live.jpg
ORGANIZER;CN="through the noise":MAILTO:info@throughthenoise.co.uk
GEO:51.5423141;-0.0755863
X-APPLE-STRUCTURED-LOCATION;VALUE=URI;X-ADDRESS=The Jago 440 Kingsland Road London E8 4AA United Kingdom;X-APPLE-RADIUS=500;X-TITLE=440 Kingsland Road:geo:-0.0755863,51.5423141
END:VEVENT
BEGIN:VEVENT
DTSTART;TZID=Europe/London:20230513T210000
DTEND;TZID=Europe/London:20230513T220000
DTSTAMP:20260421T144512
CREATED:20230411T160908Z
LAST-MODIFIED:20230411T160914Z
UID:30060054-1684011600-1684015200@eventsforlondon.co.uk
SUMMARY:noisenight23: Third Culture Collective x Ashnaa
DESCRIPTION:The Third Culture Collective collaborate with Tamil-British singer Ashnaa in Dalston’s iconic live music venue\, The Jago. \n\n\n\nThe Third Culture Collective journey through entwined musical cultures from nineteenth-century Germany to modern India. Having just toured India to great acclaim\, they’ll bring a set of indo-jazz fusion\, western classical\, and new music to Dalston. \n\n\n\nDirector Kavi Pau’s arrangements will showcase everything from Bruckner and Schumann to raga-inspired jazz\, offering a seamless blend of East and West. \n\n\n\nCarnatic vocalist Ashnaa will join the Collective for this performance\, presenting traditional Indian classical music and new compositions that blend singing techniques and languages worldwide.
URL:https://eventsforlondon.co.uk/event/noisenight23-third-culture-collective-x-ashnaa/
LOCATION:The Jago\, 440 Kingsland Road\, London\, E8 4AA\, United Kingdom
CATEGORIES:Arts,Cheap Tickets,Concerts,Gigs,Live Music
ATTACH;FMTTYPE=image/jpeg:https://eventsforlondon.co.uk/wp-content/uploads/2023/04/ashnaa.jpg
ORGANIZER;CN="through the noise":MAILTO:info@throughthenoise.co.uk
GEO:51.5423141;-0.0755863
X-APPLE-STRUCTURED-LOCATION;VALUE=URI;X-ADDRESS=The Jago 440 Kingsland Road London E8 4AA United Kingdom;X-APPLE-RADIUS=500;X-TITLE=440 Kingsland Road:geo:-0.0755863,51.5423141
END:VEVENT
BEGIN:VEVENT
DTSTART;TZID=Europe/London:20230429T220000
DTEND;TZID=Europe/London:20230430T033000
DTSTAMP:20260421T144512
CREATED:20230425T140202Z
LAST-MODIFIED:20230425T140208Z
UID:30060119-1682805600-1682825400@eventsforlondon.co.uk
SUMMARY:Afla Sackey + SANOY
DESCRIPTION:Afla Sackey brings his signature style of afrojazz\, rhythm-driven funk\, and dance-inducing afrobeat fusion to The Jago\, followed by a set of funk\, disco\, and African-infused house from Italo-Ethiopian London-based DJ SANOY.
URL:https://eventsforlondon.co.uk/event/afla-sackey-sanoy/
LOCATION:The Jago\, 440 Kingsland Road\, London\, E8 4AA\, United Kingdom
CATEGORIES:Arts,Cheap Tickets,Concerts,Gigs,Live Music,Music
ATTACH;FMTTYPE=image/jpeg:https://eventsforlondon.co.uk/wp-content/uploads/2023/04/Screenshot-2022-05-16-at-18.00.13-e1682430418344.jpg
ORGANIZER;CN="through the noise":MAILTO:info@throughthenoise.co.uk
GEO:51.5423141;-0.0755863
X-APPLE-STRUCTURED-LOCATION;VALUE=URI;X-ADDRESS=The Jago 440 Kingsland Road London E8 4AA United Kingdom;X-APPLE-RADIUS=500;X-TITLE=440 Kingsland Road:geo:-0.0755863,51.5423141
END:VEVENT
BEGIN:VEVENT
DTSTART;TZID=Europe/London:20230429T200000
DTEND;TZID=Europe/London:20230429T220000
DTSTAMP:20260421T144512
CREATED:20230411T160341Z
LAST-MODIFIED:20230411T160346Z
UID:30060133-1682798400-1682805600@eventsforlondon.co.uk
SUMMARY:noisenight22: Aaron Akugbo + Milo Harper
DESCRIPTION:Trumpeter Aaron Akugbo and Harpist Milo Harper present a new collaboration in the iconic Dalston live music venue\, The Jago. \n\n\n\nFor their debut performance as a duo\, Aaron and Milo will perform brand new arrangements of their favourite duets\, including adaptations of Florence Price\, Francis Poulenc\, Claude Debussy\, Nadia Boulanger\, Samuel Coleridge-Taylor\, and more.
URL:https://eventsforlondon.co.uk/event/noisenight22-aaron-akugbo-milo-harper/
LOCATION:The Jago\, 440 Kingsland Road\, London\, E8 4AA\, United Kingdom
CATEGORIES:Arts,Cheap Tickets,Concerts,Gigs,Live Music
ATTACH;FMTTYPE=image/jpeg:https://eventsforlondon.co.uk/wp-content/uploads/2023/04/aaron-akugbo_website-header-e1681228970504.jpeg
ORGANIZER;CN="through the noise":MAILTO:info@throughthenoise.co.uk
GEO:51.5423141;-0.0755863
X-APPLE-STRUCTURED-LOCATION;VALUE=URI;X-ADDRESS=The Jago 440 Kingsland Road London E8 4AA United Kingdom;X-APPLE-RADIUS=500;X-TITLE=440 Kingsland Road:geo:-0.0755863,51.5423141
END:VEVENT
BEGIN:VEVENT
DTSTART;TZID=Europe/London:20221029T210000
DTEND;TZID=Europe/London:20221029T220000
DTSTAMP:20260421T144512
CREATED:20221024T044416Z
LAST-MODIFIED:20221024T044423Z
UID:30059685-1667077200-1667080800@eventsforlondon.co.uk
SUMMARY:Kabantu - album launch
DESCRIPTION:Kabantu is an award-winning folk-fusion collective from Manchester. Kabantu means “of the people” – stemming from the South African philosophy of Ubuntu: “I am who I am because of who we all are.” \nAiming to celebrate the space where different cultures meet\, the collective’s 2018 debut album “Of the People” won critical acclaim from the Guardian\, Songlines Magazine\, and FRoots. The Jago will host the launch of their latest album of global folk sounds\, freehand. \nAlongside the launch of their latest album of global folk sounds\, freehand\, Kabantu is proud to present a unique and exciting collaboration with the incredible Will Pound\, A multi-award-winning harmonica and melodeon player whose work spans folk\, jazz\, blues\, and gospel music from across the world. You don’t want to miss this voyage into cross-genre\, boundary-breaking live performance.
URL:https://eventsforlondon.co.uk/event/kabantu-album-launch/
LOCATION:The Jago\, 440 Kingsland Road\, London\, E8 4AA\, United Kingdom
CATEGORIES:Live Music,Music
ATTACH;FMTTYPE=image/jpeg:https://eventsforlondon.co.uk/wp-content/uploads/2022/10/KABANTU-socialsEnhanced-3.jpeg
ORGANIZER;CN="through the noise":MAILTO:info@throughthenoise.co.uk
GEO:51.5423141;-0.0755863
X-APPLE-STRUCTURED-LOCATION;VALUE=URI;X-ADDRESS=The Jago 440 Kingsland Road London E8 4AA United Kingdom;X-APPLE-RADIUS=500;X-TITLE=440 Kingsland Road:geo:-0.0755863,51.5423141
END:VEVENT
BEGIN:VEVENT
DTSTART;TZID=Europe/London:20220313T180000
DTEND;TZID=Europe/London:20220313T220000
DTSTAMP:20260421T144512
CREATED:20220216T112342Z
LAST-MODIFIED:20220216T112342Z
UID:30058152-1647194400-1647208800@eventsforlondon.co.uk
SUMMARY:The Scorpios + The Flotsam Orchestra - Live!
DESCRIPTION:The legendary Sudanese-London collective The Scorpios brings their electrifying Eastern funk & soul-infused Afrobeat to perform live at The Jago Sunday 13 March! Supported by the incredible global-roots ensemble The Flotsam Orchestra. \nTHE SCORPIOS \nHailing from Central Sudan and now based in London after fleeing the fundamentalist takeover in that region\, the 10-piece psychedelic Afrobeat band\, The Scorpios\, meld Arabic rhythms and guitar with raw Eastern funk and Western jazz in a cyclical swooning ecstasy. \nDismantling cultural barriers in pursuit of a unifying rhythmic bliss\, heavy bass\, synths\, horns\, and percussions drive through traditional Sudanese forms to create a sound that owes as much to Detroit as it does to Khartoum. \nTHE FLOTSAM ORCHESTRA \nSupported by The Flotsam Orchestra\, an incredible 30-piece global roots ensemble bringing together talented musicians spanning diverse backgrounds and cultures. United by a vision to play the music that transcends boundaries\, their unique sound creates an uplifting and genuinely spellbinding celebration of unity and diversity! \nJoin them on their musical journey across the globe that will take you from Ethiopia to Chile\, Pakistan to Finland and many more\, showcasing material from a week-long residency in South-East London—promising unforgettable and border defying performance\, with music from all corners of the world! \nFollow us on\nFlotsamsessions.co.uk\nFacebook.com/flotsamsessions\nInstagram.com/flotsamsessions
URL:https://eventsforlondon.co.uk/event/the-scorpios-the-flotsam-orchestra-live/
LOCATION:The Jago\, 440 Kingsland Road\, London\, E8 4AA\, United Kingdom
CATEGORIES:Live Music,Music
ATTACH;FMTTYPE=image/png:https://eventsforlondon.co.uk/wp-content/uploads/2022/02/The-Scorpios-13-Fab-Poster-.png
ORGANIZER;CN="flotsam sessions":MAILTO:flotsamsessions@gmail.com
GEO:51.5423141;-0.0755863
X-APPLE-STRUCTURED-LOCATION;VALUE=URI;X-ADDRESS=The Jago 440 Kingsland Road London E8 4AA United Kingdom;X-APPLE-RADIUS=500;X-TITLE=440 Kingsland Road:geo:-0.0755863,51.5423141
END:VEVENT
BEGIN:VEVENT
DTSTART;TZID=Europe/London:20211204T190000
DTEND;TZID=Europe/London:20211204T200000
DTSTAMP:20260421T144512
CREATED:20211021T053245Z
LAST-MODIFIED:20211021T053246Z
UID:30058428-1638644400-1638648000@eventsforlondon.co.uk
SUMMARY:Noisenight Three: Abel Selaocoe - Live Music Concert
DESCRIPTION:Noisenight Three: Abel Selaocoe – Cellist plays Baroque Contemporary African Music\nSupported by Nkoda. Recommended by Classic FM\, Gramophone Magazine\, and BBC Radio 3. \nGenre-defying virtuoso cellist Abel Selaocoe embarks on exploring baroque and contemporary African music in The Jago\, Dalston\, as part of Noise Nights. \n \n  \nEach noise night features two short classical sets\, one early evening\, one late. All tickets to the late set include live music for the rest of the night\, including jazz\, Latin\, afrobeat\, swing and funk acts. \n  \n 
URL:https://eventsforlondon.co.uk/event/noisenight-three-abel-selaocoe-live-music-concert/
LOCATION:The Jago\, 440 Kingsland Road\, London\, E8 4AA\, United Kingdom
CATEGORIES:Arts,Community Events,Concerts,Events in London,Gigs,Live Music,London Musicals,Music
ATTACH;FMTTYPE=image/png:https://eventsforlondon.co.uk/wp-content/uploads/2021/10/abel-selaocoe_supported-by-nkoda_noisenight-three-copy.png
ORGANIZER;CN="through the noise":MAILTO:info@throughthenoise.co.uk
GEO:51.5423141;-0.0755863
X-APPLE-STRUCTURED-LOCATION;VALUE=URI;X-ADDRESS=The Jago 440 Kingsland Road London E8 4AA United Kingdom;X-APPLE-RADIUS=500;X-TITLE=440 Kingsland Road:geo:-0.0755863,51.5423141
END:VEVENT
END:VCALENDAR