BEGIN:VCALENDAR
VERSION:2.0
PRODID:-//Events for LONDON - ECPv6.15.20//NONSGML v1.0//EN
CALSCALE:GREGORIAN
METHOD:PUBLISH
X-ORIGINAL-URL:https://eventsforlondon.co.uk
X-WR-CALDESC:Events for Events for LONDON
REFRESH-INTERVAL;VALUE=DURATION:PT1H
X-Robots-Tag:noindex
X-PUBLISHED-TTL:PT1H
BEGIN:VTIMEZONE
TZID:Europe/London
BEGIN:DAYLIGHT
TZOFFSETFROM:+0000
TZOFFSETTO:+0100
TZNAME:BST
DTSTART:20180325T010000
END:DAYLIGHT
BEGIN:STANDARD
TZOFFSETFROM:+0100
TZOFFSETTO:+0000
TZNAME:GMT
DTSTART:20181028T010000
END:STANDARD
BEGIN:DAYLIGHT
TZOFFSETFROM:+0000
TZOFFSETTO:+0100
TZNAME:BST
DTSTART:20190331T010000
END:DAYLIGHT
BEGIN:STANDARD
TZOFFSETFROM:+0100
TZOFFSETTO:+0000
TZNAME:GMT
DTSTART:20191027T010000
END:STANDARD
BEGIN:DAYLIGHT
TZOFFSETFROM:+0000
TZOFFSETTO:+0100
TZNAME:BST
DTSTART:20200329T010000
END:DAYLIGHT
BEGIN:STANDARD
TZOFFSETFROM:+0100
TZOFFSETTO:+0000
TZNAME:GMT
DTSTART:20201025T010000
END:STANDARD
END:VTIMEZONE
BEGIN:VEVENT
DTSTART;TZID=Europe/London:20191031T200000
DTEND;TZID=Europe/London:20191031T200000
DTSTAMP:20260424T171622
CREATED:20191015T150656Z
LAST-MODIFIED:20191015T151244Z
UID:30054201-1572552000-1572552000@eventsforlondon.co.uk
SUMMARY:Fright Club presents… Jitters
DESCRIPTION:An hour of grisly tricks and hysterical treats this Halloween \nFright Club presents… a Halloween Special: Jitters is a fright-tastic new horror-filled comedy show full of twisted tricks and terrifying treats. \nThere are three shows on Halloween night\, at 8pm 10pm and midnight at the Comedy Pub\, Piccadilly. Over 18’s only.\n\n\nToying with your love of horror – and proving that things do indeed still go bump in the night – this is magic\, comedy and Halloween shocks like you’ve never experienced before.\n\nEnter the dark and eerie world of Jitters… three one-hour special performances this Halloween at The Comedy Pub in London’s West End.\nStrictly 18+\, tickets cost £15 each from  www.frightclub.co.uk \n\nWebsite:  www.frightclub.co.uk\n\nTickets:  https://www.frightclub.co.uk/#tickets
URL:https://eventsforlondon.co.uk/event/fright-club-presents-jitters/
LOCATION:The Comedy Pub\, 7 Oxendon St\, London\, SW1Y 4EE\, The Comedy Pub\, 7 Oxendon Street\, London\, London\, SW1Y 4EE\, United Kingdom
ATTACH;FMTTYPE=image/jpeg:https://eventsforlondon.co.uk/wp-content/uploads/2019/10/Jitters-Halloween-Comedy-Show-Kyle-Stu.jpg
GEO:51.5097475;-0.1319448
X-APPLE-STRUCTURED-LOCATION;VALUE=URI;X-ADDRESS=The Comedy Pub 7 Oxendon St London SW1Y 4EE The Comedy Pub 7 Oxendon Street London London SW1Y 4EE United Kingdom;X-APPLE-RADIUS=500;X-TITLE=The Comedy Pub\, 7 Oxendon Street:geo:-0.1319448,51.5097475
END:VEVENT
END:VCALENDAR