BEGIN:VCALENDAR
VERSION:2.0
PRODID:-//Events for LONDON - ECPv6.15.20//NONSGML v1.0//EN
CALSCALE:GREGORIAN
METHOD:PUBLISH
X-WR-CALNAME:Events for LONDON
X-ORIGINAL-URL:https://eventsforlondon.co.uk
X-WR-CALDESC:Events for Events for LONDON
REFRESH-INTERVAL;VALUE=DURATION:PT1H
X-Robots-Tag:noindex
X-PUBLISHED-TTL:PT1H
BEGIN:VTIMEZONE
TZID:Europe/London
BEGIN:DAYLIGHT
TZOFFSETFROM:+0000
TZOFFSETTO:+0100
TZNAME:BST
DTSTART:20200329T010000
END:DAYLIGHT
BEGIN:STANDARD
TZOFFSETFROM:+0100
TZOFFSETTO:+0000
TZNAME:GMT
DTSTART:20201025T010000
END:STANDARD
BEGIN:DAYLIGHT
TZOFFSETFROM:+0000
TZOFFSETTO:+0100
TZNAME:BST
DTSTART:20210328T010000
END:DAYLIGHT
BEGIN:STANDARD
TZOFFSETFROM:+0100
TZOFFSETTO:+0000
TZNAME:GMT
DTSTART:20211031T010000
END:STANDARD
BEGIN:DAYLIGHT
TZOFFSETFROM:+0000
TZOFFSETTO:+0100
TZNAME:BST
DTSTART:20220327T010000
END:DAYLIGHT
BEGIN:STANDARD
TZOFFSETFROM:+0100
TZOFFSETTO:+0000
TZNAME:GMT
DTSTART:20221030T010000
END:STANDARD
END:VTIMEZONE
BEGIN:VEVENT
DTSTART;TZID=Europe/London:20210706T163000
DTEND;TZID=Europe/London:20210706T183000
DTSTAMP:20260421T194913
CREATED:20210609T070056Z
LAST-MODIFIED:20210609T070056Z
UID:30057840-1625589000-1625596200@eventsforlondon.co.uk
SUMMARY:Playwriting\, Poetry & Prose Workshop for Young People
DESCRIPTION:Join Actor and Spoken Word artist Yan Toby-Amisi for a relaxed workshop designed to encourage creativity through rap\, poetry and prose. Exploring the work of Shakespeare and contemporary rappers that are influential amongst hip-hop culture\, participants will channel their thoughts\, feelings and opinions through their words and unleash their inherent creativity lurking within. For young people aged 13 – 16.   \nRegister for your free place at: https://www.eventbrite.co.uk/e/playwriting-poetry-prose-workshop-for-young-people-tickets-155963399727 \nEvent Partners – Iris Theatre: https://iristheatre.com/   \nCity Lions: https://citylions.org/whats-on-in-westminster/
URL:https://eventsforlondon.co.uk/event/playwriting-poetry-prose-workshop-for-young-people/
LOCATION:The Actors Church\, Bedford St\, London\, WC2E 9ED
CATEGORIES:Arts,Children,Community Events,Free Events,Teenagers,Workshops,Writers
ATTACH;FMTTYPE=image/png:https://eventsforlondon.co.uk/wp-content/uploads/2021/05/play-write.png
ORGANIZER;CN="SouthWestFest":MAILTO:director@southwestfest.org.uk
GEO:51.5107771;-0.1245124
X-APPLE-STRUCTURED-LOCATION;VALUE=URI;X-ADDRESS=The Actors Church Bedford St London WC2E 9ED;X-APPLE-RADIUS=500;X-TITLE=Bedford St:geo:-0.1245124,51.5107771
END:VEVENT
END:VCALENDAR