BEGIN:VCALENDAR
VERSION:2.0
PRODID:-//Events for LONDON - ECPv6.15.20//NONSGML v1.0//EN
CALSCALE:GREGORIAN
METHOD:PUBLISH
X-WR-CALNAME:Events for LONDON
X-ORIGINAL-URL:https://eventsforlondon.co.uk
X-WR-CALDESC:Events for Events for LONDON
REFRESH-INTERVAL;VALUE=DURATION:PT1H
X-Robots-Tag:noindex
X-PUBLISHED-TTL:PT1H
BEGIN:VTIMEZONE
TZID:Europe/London
BEGIN:DAYLIGHT
TZOFFSETFROM:+0000
TZOFFSETTO:+0100
TZNAME:BST
DTSTART:20190331T010000
END:DAYLIGHT
BEGIN:STANDARD
TZOFFSETFROM:+0100
TZOFFSETTO:+0000
TZNAME:GMT
DTSTART:20191027T010000
END:STANDARD
BEGIN:DAYLIGHT
TZOFFSETFROM:+0000
TZOFFSETTO:+0100
TZNAME:BST
DTSTART:20200329T010000
END:DAYLIGHT
BEGIN:STANDARD
TZOFFSETFROM:+0100
TZOFFSETTO:+0000
TZNAME:GMT
DTSTART:20201025T010000
END:STANDARD
BEGIN:DAYLIGHT
TZOFFSETFROM:+0000
TZOFFSETTO:+0100
TZNAME:BST
DTSTART:20210328T010000
END:DAYLIGHT
BEGIN:STANDARD
TZOFFSETFROM:+0100
TZOFFSETTO:+0000
TZNAME:GMT
DTSTART:20211031T010000
END:STANDARD
END:VTIMEZONE
BEGIN:VEVENT
DTSTART;TZID=Europe/London:20200213T190000
DTEND;TZID=Europe/London:20200213T213000
DTSTAMP:20260421T155708
CREATED:20200115T033813Z
LAST-MODIFIED:20200115T033813Z
UID:30054503-1581620400-1581629400@eventsforlondon.co.uk
SUMMARY:Heart Journey | Yoga with live cello & cacao – Brixton
DESCRIPTION:A pre-Valentine’s day treat and a chance to give yourself some serious TLC. This experience will nourish your heart\, restore your body and pamper your senses. Indulge in the bliss of live cello and the warmth of kind company and cacao. Enjoy a delicious\, slow yoga flow\, followed by yin\, self-massage\, heart journeying and meditation by way of the soothing guidance of Natalie C Morrison. Leave on a warm\, cosy cloud of radiance. \nSchedule \n7.00 ~ arrivals\, grounding and check-ins \n7.30 ~ slow yoga flow for all levels \n8.15 ~ yin yoga \n8.30 ~ self-massage \n8.45 ~ heart journey meditation \n9.00 ~ cacao and self love-lettering \n9.15 ~ heart circle \n9.30 ~ fond farewells \nPlease bring your own mat.
URL:https://eventsforlondon.co.uk/event/heart-journey-yoga-with-live-cello-cacao-brixton/
LOCATION:Simulacra Studio\, 302-304 Barrington Road\, London\, SW9 7JJ
CATEGORIES:Exercise,Fitness,Health,Live Music,Music,Workshops,Yoga
ATTACH;FMTTYPE=image/jpeg:https://eventsforlondon.co.uk/wp-content/uploads/2020/01/rachael-gorjestani-zKjidZxijiM-unsplash-1.jpg
GEO:51.4635126;-0.1075429
X-APPLE-STRUCTURED-LOCATION;VALUE=URI;X-ADDRESS=Simulacra Studio 302-304 Barrington Road London SW9 7JJ;X-APPLE-RADIUS=500;X-TITLE=302-304 Barrington Road:geo:-0.1075429,51.4635126
END:VEVENT
END:VCALENDAR