BEGIN:VCALENDAR
VERSION:2.0
PRODID:-//Events for LONDON - ECPv6.15.20//NONSGML v1.0//EN
CALSCALE:GREGORIAN
METHOD:PUBLISH
X-ORIGINAL-URL:https://eventsforlondon.co.uk
X-WR-CALDESC:Events for Events for LONDON
REFRESH-INTERVAL;VALUE=DURATION:PT1H
X-Robots-Tag:noindex
X-PUBLISHED-TTL:PT1H
BEGIN:VTIMEZONE
TZID:Europe/London
BEGIN:DAYLIGHT
TZOFFSETFROM:+0000
TZOFFSETTO:+0100
TZNAME:BST
DTSTART:20180325T010000
END:DAYLIGHT
BEGIN:STANDARD
TZOFFSETFROM:+0100
TZOFFSETTO:+0000
TZNAME:GMT
DTSTART:20181028T010000
END:STANDARD
BEGIN:DAYLIGHT
TZOFFSETFROM:+0000
TZOFFSETTO:+0100
TZNAME:BST
DTSTART:20190331T010000
END:DAYLIGHT
BEGIN:STANDARD
TZOFFSETFROM:+0100
TZOFFSETTO:+0000
TZNAME:GMT
DTSTART:20191027T010000
END:STANDARD
BEGIN:DAYLIGHT
TZOFFSETFROM:+0000
TZOFFSETTO:+0100
TZNAME:BST
DTSTART:20200329T010000
END:DAYLIGHT
BEGIN:STANDARD
TZOFFSETFROM:+0100
TZOFFSETTO:+0000
TZNAME:GMT
DTSTART:20201025T010000
END:STANDARD
END:VTIMEZONE
BEGIN:VEVENT
DTSTART;TZID=Europe/London:20191126T190000
DTEND;TZID=Europe/London:20191126T230000
DTSTAMP:20260421T164454
CREATED:20191113T090905Z
LAST-MODIFIED:20191113T090905Z
UID:30054464-1574794800-1574809200@eventsforlondon.co.uk
SUMMARY:Priceless London Best New Bistro Awards Party
DESCRIPTION:Reserve your tickets now to attend the Awards party for the Priceless London Best New Bistro of the year on November 26th from 7pm. \nOn the agenda: signature dishes from the award-winning chef\, served in their establishment that’s closed to the public (and spruced up!) for the occasion\, and lots of other little surprises… And FYI\, we’ll be maintaining the suspense as to the location of the party until the night before the winners’ list is made public\, at which point participants will receive the name of the winning establishment before anyone else. \nSo… Who from Bright\, Mao Chow or Tayer+Elementary will be voted Priceless London Best New Bistro of the year? \nDiscover it before anyone else and enjoy a unique experience with the first edition of the Priceless Cities Best New Bistro by booking your tickets on priceless.com right away! \nPriceless Cities Best New Bistro \nPriceless Cities Best New Bistro is a new international awards program to discover and celebrate the world’s most exciting new restaurants\, curated by Le Fooding and powered by MasterCard. For its first year (2019)\, Priceless Cities Best New Bistro launched simultaneously in four Priceless Cities: London\, Mexico City\, New York and Paris. And that’s just the beginning! The program will give awards to four Best New Bistros (one per city)\, which will be announced simultaneously and followed by four award ceremony dinners held in London\, Mexico City\, New York and Paris
URL:https://eventsforlondon.co.uk/event/priceless-london-best-new-bistro-awards-party/
LOCATION:Secret London Location\, London\, United Kingdom
CATEGORIES:Awards,Food & Drink,Food Festivals
ATTACH;FMTTYPE=image/jpeg:https://eventsforlondon.co.uk/wp-content/uploads/2019/11/london_assiette_512x356.jpg
GEO:51.5073509;-0.1277583
END:VEVENT
BEGIN:VEVENT
DTSTART;TZID=Europe/London:20191102T180000
DTEND;TZID=Europe/London:20191103T030000
DTSTAMP:20260421T164454
CREATED:20190916T071143Z
LAST-MODIFIED:20190916T072156Z
UID:30053752-1572717600-1572750000@eventsforlondon.co.uk
SUMMARY:Day of the Dead: An Afterlife Love Story
DESCRIPTION:Be a part of the Halloween event based on the Mexican culture of the Day of the Dead. You can choose your experience based on the tickets. \nTwo types of ticket are available: the first gets you entry to a ‘wedding ceremony and banquet’\, complete with three-course meal\, and the subsequent reception. The second ticket gives you entry solely to the reception\, which will feature performance\, live music and DJs. All in all\, it sounds pretty epic. Location of event will be revealed closer to the date. So be kept updated on : https://www.facebook.com/dotdafterlifelove \nCeremony and Banquet – \nTickets: £50 (includes reception entry) \nTime: 6-9pm (arrive promptly) \n  \nWedding reception – \nTickets: £10 / £15 \nTime: 9pm-3am \n  \nSo make your choice and enjoy the night of the living and dead. \n\n\n \n  \nfor TICKETS CLICK HERE\n 
URL:https://eventsforlondon.co.uk/event/day-of-the-dead-an-afterlife-love-story/
LOCATION:Secret London Location\, London\, United Kingdom
CATEGORIES:Entertainment,Family Activities,Festivals,Live Music,Music,Shows
ATTACH;FMTTYPE=image/png:https://eventsforlondon.co.uk/wp-content/uploads/2019/09/69493379_104159264302082_4114880631538712576_o.png
GEO:51.5073509;-0.1277583
END:VEVENT
BEGIN:VEVENT
DTSTART;TZID=Europe/London:20191031T120000
DTEND;TZID=Europe/London:20191110T200000
DTSTAMP:20260421T164454
CREATED:20191018T182051Z
LAST-MODIFIED:20191019T012501Z
UID:30054217-1572523200-1573416000@eventsforlondon.co.uk
SUMMARY:A Darker Time
DESCRIPTION:The UK’s first escape room designed by an ex-criminal\, “A Darker Time”\, is coming to London! \nWorking alongside ADT Fire & Security\, Michael Fraser (ex-burglar and star of BBC’s “Beat the Burglar”) has created an escape room that will see budding investigators step into the shoes of a private detective to help solve the mystery around a not-so-ordinary burglary. \nThe escape room\, which is launching at a secret London location on Thursday 31st October is inspired by events told in acclaimed crime-writer (Poirot) Sophie Hannah’s thrilling ‘edutainment’ novella “A Dark Time”. \nDates: 31st October – 3rd November; 7th – 10th November\nTime: 12pm – 8pm\nLocation: A secret location\, East London\nTickets: www.adt.co.uk/a-darker-time \nLee Jasper from ADT Fire & Security\, comments: “As the nights get darker and people are more vulnerable to burglary\, we feel that the nation need some extra education when it comes to home security. Not only will the public come along to our escape room and have a fun time\, but they’ll also take away some worthwhile tips and tricks that they can put into practise in their own homes. \nWhether people are lucky enough to win tickets or not\, we’d encourage everyone to check their home security and make sure that it’s up to scratch\, especially as we get deeper into autumn and the days get much shorter.” \nEx-burglar\, Michael Fraser\, TV’s best-known former burglar\, adds: “This escape room is about people coming along and learning how they can better protect their homes. From piecing together clues to analysing evidence\, participants will be thinking both like a burglar and a member of law enforcement. \n“Those taking part will be getting one on one time with actors within the escape room\, sifting through clues and trying to sort out the truth. It will be intense\, thrilling and a test of mental endurance\, but ultimately\, people will come out knowing more about home security and how they can better protect themselves.”
URL:https://eventsforlondon.co.uk/event/a-darker-time/
LOCATION:Secret London Location\, London\, United Kingdom
CATEGORIES:Free Events
ATTACH;FMTTYPE=image/jpeg:https://eventsforlondon.co.uk/wp-content/uploads/2019/10/Darker-Nights-Illustration.jpg
GEO:51.5073509;-0.1277583
END:VEVENT
BEGIN:VEVENT
DTSTART;TZID=Europe/London:20191026T210000
DTEND;TZID=Europe/London:20191027T040000
DTSTAMP:20260421T164454
CREATED:20190807T192425Z
LAST-MODIFIED:20191016T055204Z
UID:30053534-1572123600-1572148800@eventsforlondon.co.uk
SUMMARY:HALLOWEEN BALL AT THE MANSION
DESCRIPTION:Most exhilarating and entertaining London Halloween party of 2019 \n“event impressarios” The Nudge – “sartorial splendour” Culture Whisper – “one of the biggest events in London” Elle – “one of the spookiest events around” Evening Standard – ranked #1 best Halloween party in the UK by The Telegraph – “sleek & sexy affairs\, you wouldn’t really want anything else” TimeOut \nPRIVATE VENUE (in London NW zone 2)  \n  \n\nPrivate quirky & unusual venue: 3 dancefloors\, 1 art room\, VIP areas\, 2 lounges to socialize and be entertained.\nAddress: will be be sent 48h before the day to ticket holders (easy access)\nBars: 2 for 1 before 10pm\, come early\nFood: street food will be available\nCemetery: there is a real back graveyard (access restricted)\n\n  \nDRESS CODE: Fancy dress mandatory. Amazing prize for the best costume: win a flight to NYC \n  \n \n  \nYOUR 2019 HALLOWEEN PROGRAM  (best Halloween party in London) \nDJs (3 dancefloors: pop/mainstream/hip-hop\, electro/house\, latino) \n  \n\nDJ Amin Sane will rock the pop/mainstream space with his groovy touch from the west-end\nDJ Fabrizia will smash the electro room with her pure stream of house music\nDJ Carlitos is a latin reference in the UK: perfect to bring a latino touch to the night\n\n  \nLive Performers \n  \n\nFire shows spread across the night will add to the heated atmosphere\nTwo glamorous dancers will spin around the Cage\, beware: your head may turn\n\n\n  \nMusicians \n  \n\nTolik is a master sax player from the London scene & will join the pop dancefloor\nPaolo Forcellati\, our beloved djembe player\, will beat the rhythms in the electro room\n\n\n\n \n  \nEntertainment \n  \n\nBeelzebuth will make an appearance at the Mansion: watch out the monster and its mischievous walking performance\nA clairvoyant will provide free consultations: love\, power\, success & more!\nOne more time our rockstar team of make-up artists will transform you into a scary ghoul\nLast\, but not least\, will you dare to get near our pillory stock and other torture tools ?\n\n  \nArt \n  \n\nVJ Daton will display a series of terrifying vintage horror movies this year again\nA decadent Art exhibition from our Art partner Maggio Art Consultancy\n\n\n  \nPHOTOGRAPHY \nTo cover this event (one of the best London Halloween parties) a professional will be with us \nMore info: CLICK HERE
URL:https://eventsforlondon.co.uk/event/halloween-ball-at-the-mansion/
LOCATION:Secret London Location\, London\, United Kingdom
CATEGORIES:Music,Photography,Shows
ATTACH;FMTTYPE=image/jpeg:https://eventsforlondon.co.uk/wp-content/uploads/2019/08/voodoo00001-optimised.jpg
GEO:51.5073509;-0.1277583
END:VEVENT
END:VCALENDAR