BEGIN:VCALENDAR
VERSION:2.0
PRODID:-//Events for LONDON - ECPv6.15.20//NONSGML v1.0//EN
CALSCALE:GREGORIAN
METHOD:PUBLISH
X-ORIGINAL-URL:https://eventsforlondon.co.uk
X-WR-CALDESC:Events for Events for LONDON
REFRESH-INTERVAL;VALUE=DURATION:PT1H
X-Robots-Tag:noindex
X-PUBLISHED-TTL:PT1H
BEGIN:VTIMEZONE
TZID:Europe/London
BEGIN:DAYLIGHT
TZOFFSETFROM:+0000
TZOFFSETTO:+0100
TZNAME:BST
DTSTART:20210328T010000
END:DAYLIGHT
BEGIN:STANDARD
TZOFFSETFROM:+0100
TZOFFSETTO:+0000
TZNAME:GMT
DTSTART:20211031T010000
END:STANDARD
BEGIN:DAYLIGHT
TZOFFSETFROM:+0000
TZOFFSETTO:+0100
TZNAME:BST
DTSTART:20220327T010000
END:DAYLIGHT
BEGIN:STANDARD
TZOFFSETFROM:+0100
TZOFFSETTO:+0000
TZNAME:GMT
DTSTART:20221030T010000
END:STANDARD
BEGIN:DAYLIGHT
TZOFFSETFROM:+0000
TZOFFSETTO:+0100
TZNAME:BST
DTSTART:20230326T010000
END:DAYLIGHT
BEGIN:STANDARD
TZOFFSETFROM:+0100
TZOFFSETTO:+0000
TZNAME:GMT
DTSTART:20231029T010000
END:STANDARD
BEGIN:DAYLIGHT
TZOFFSETFROM:+0000
TZOFFSETTO:+0100
TZNAME:BST
DTSTART:20240331T010000
END:DAYLIGHT
BEGIN:STANDARD
TZOFFSETFROM:+0100
TZOFFSETTO:+0000
TZNAME:GMT
DTSTART:20241027T010000
END:STANDARD
BEGIN:DAYLIGHT
TZOFFSETFROM:+0000
TZOFFSETTO:+0100
TZNAME:BST
DTSTART:20250330T010000
END:DAYLIGHT
BEGIN:STANDARD
TZOFFSETFROM:+0100
TZOFFSETTO:+0000
TZNAME:GMT
DTSTART:20251026T010000
END:STANDARD
BEGIN:DAYLIGHT
TZOFFSETFROM:+0000
TZOFFSETTO:+0100
TZNAME:BST
DTSTART:20260329T010000
END:DAYLIGHT
BEGIN:STANDARD
TZOFFSETFROM:+0100
TZOFFSETTO:+0000
TZNAME:GMT
DTSTART:20261025T010000
END:STANDARD
END:VTIMEZONE
BEGIN:VEVENT
DTSTART;TZID=Europe/London:20250501T180000
DTEND;TZID=Europe/London:20250502T210000
DTSTAMP:20260424T164416
CREATED:20250430T110435Z
LAST-MODIFIED:20250430T113312Z
UID:30092181-1746122400-1746219600@eventsforlondon.co.uk
SUMMARY:VOICE ESEA: Uncovering Hidden History - Exhibition - Titanic
DESCRIPTION:VOICE ESEA’S Annual Interactive History Exhibition this year focuses on the little known 6 Chinese survivors on the Titanic. \nThe event will feature a Theatrically structured panel discussion- “UNCOVERING HIDDEN BRITISH HISTORY – What’s next?” (1 May in-person 6.30-7.30) with Zing Tsjeng (Forgotten Women)\, Odile Jordan (Mapping Black London)\, Trà My Hicken (An Viet Archives) and Eileen Willett (East Asian Girl Gang) \n– A film screening of The Six documentary (2 May in-person 6.30-8.30pm)\, \nAnd \nAn exclusive online Q&A exhibition with the director (Arthur Jones)\, researchers (Clotilde Yap) and author (Steven Schwankert) of The Six documentary\, and hosted by Director of Voice ESEA\, Abbey Wong (2 May\, online 12.30-1.30pm) \nJOIN US drinks and conversation at : Second Home Spitalfields\, 68 Hanbury Street London E1 5JL \nDoors and Bar opens at 6pm – 9pm both evenings. \n\nFor Tickets: https://www.eventbrite.co.uk/e/london-echo-exhibition-esea-collective-history-over-here-tickets-1288255630269?aff=oddtdtcreator\n\nPrice: Free online Q&A\, £11 for both film screening + panel\, £5.88 for one evening
URL:https://eventsforlondon.co.uk/event/voice-esea-uncovering-hidden-history-exhibition-titanic/
LOCATION:Second Home\, 68 Hanbury Street\, LONDON\, E1 5JL
CATEGORIES:Cheap Tickets,History
ATTACH;FMTTYPE=image/png:https://eventsforlondon.co.uk/wp-content/uploads/2025/04/01-London-Tickets-Schedule-Op2-1.png
ORGANIZER;CN="Voice ESEA":MAILTO:Voiceesea@gmail.com
GEO:51.5081682;-0.209498
X-APPLE-STRUCTURED-LOCATION;VALUE=URI;X-ADDRESS=Second Home 68 Hanbury Street LONDON E1 5JL;X-APPLE-RADIUS=500;X-TITLE=68 Hanbury Street:geo:-0.209498,51.5081682
END:VEVENT
BEGIN:VEVENT
DTSTART;TZID=Europe/London:20230308T180000
DTEND;TZID=Europe/London:20230308T200000
DTSTAMP:20260424T164416
CREATED:20230228T194017Z
LAST-MODIFIED:20230228T194022Z
UID:30059972-1678298400-1678305600@eventsforlondon.co.uk
SUMMARY:One Year On The Taliban’s Assault on Women’s Rights.
DESCRIPTION:Afghan women’s charity Rahela Trust urges people to attend a special International Women’s Day event to fight for women’s rights in Afghanistan.\n\n\n\n\n\n\n\nDuring the month of International Women’s Day 2022\, Afghan women saw even more of their rights decimated by the Taliban regime; women must not be employed in offices\, must not leave home and must not enter health centres without mahram. \n\n\n\nOne year on “and the situation for women in Afghanistan is dire”\, comments Rahela Sidiqi\, founder of Rahela Trust\, a charity that supports the marginalised women of Afghanistan. \n\n\n\nThis International Women’s Day\, and the one-year anniversary of unimaginable restrictions on women’s freedom in Afghanistan\, Rahela Trust is calling on people not to forget the women of Afghanistan and continue to pressure their local representatives to keep it on the agenda. \n\n\n\nAt the International Women’s Day event at Second Home\, Rahela Trust will set out six ways in which people can help which will include tangible actions you can take to make a personal impact on championing Afghan women’s education. \n\n\n\nCollective action is crucial to making a difference and helping Afghan women. Rahela Trust is urging allies of the Afghan people to attend the event on 8th March\, enabling them to understand better how they can contribute and effect change. \n\n\n\nMany women have fled Afghanistan\, making a life-threatening journey from their homeland\, but there are many women still living in the country who fear for their lives with every hour that passes. \n\n\n\nEvacuation schemes for Afghans\, such as the ACRS are operating with limited resources. Reports have shown that a team of under a dozen are managing the resettlement scheme\, handling 11\,000 applications with just 1\,500 spaces. In context\, over 500 staff members run the parallel resettlement scheme for Ukrainians. \n\n\n\n“The situation for women worsens day by day\, but this does not mean that we lose our passion for fighting for women’s rights and their right to an education. Afghan women around the world are calling on us to come together and fight alongside them\, and we do that by celebrating our culture and providing a platform for their stories\,” says Rahela Sidiqi. \n\n\n\nOn Wednesday 8th March\, join Rahela Trust along with Afghan journalist Ariana Abawe of Ariana Magazine for an event at cultural workspace venue Second Home\, which will shine a light on the experiences of Afghan refugees and diaspora tirelessly campaigning against the injustices waged by the Taliban in their homeland. \n\n\n\nAriana will be joined by: \n\n\n\n\nFounders of Rahyab Organisation\, blind Afghan disability rights activist Benafsha Yaqboobi and her husband\, Mahdi Salami\n\n\n\nFootballer Sariah Nawrozi Mohseni\n\n\n\nFounder of Rahela Trust\, Rahela Sidiqi\n\n\n\nFormer Afghan Judge Marzia Barbarkhail\n\n\n\n\nTo register for the event\, visit https://secondhome.io/event/whats-next-fighting-for-womens-rights-in-afghanistan/
URL:https://eventsforlondon.co.uk/event/one-year-on-the-talibans-assault-on-womens-rights/
LOCATION:Second Home\, 68 Hanbury Street\, LONDON\, E1 5JL
CATEGORIES:Charity Events,Community Events,Conversation,Events in London,Free Events,Society,Women
ATTACH;FMTTYPE=image/jpeg:https://eventsforlondon.co.uk/wp-content/uploads/2023/02/Rahela-Sidiqi-2.jpg
GEO:51.5081682;-0.209498
X-APPLE-STRUCTURED-LOCATION;VALUE=URI;X-ADDRESS=Second Home 68 Hanbury Street LONDON E1 5JL;X-APPLE-RADIUS=500;X-TITLE=68 Hanbury Street:geo:-0.209498,51.5081682
END:VEVENT
BEGIN:VEVENT
DTSTART;TZID=Europe/London:20221027T190000
DTEND;TZID=Europe/London:20221027T190000
DTSTAMP:20260424T164416
CREATED:20221015T151119Z
LAST-MODIFIED:20221015T151145Z
UID:30059666-1666897200-1666897200@eventsforlondon.co.uk
SUMMARY:Talking About A Revolution with Yassmin Abdel-Magied
DESCRIPTION:Join Sudanese-Australian writer\, broadcaster and award-winning social advocate Yassmin Abdel-Magied for a conversation about why we need resistance and revolution to build a better world. \nIn her new collection of essays\, Talking About A Revolution\, she showcases her firebrand activism. She explores life on an oil rig\, lockdown loneliness\, the transformative powers of hobbies in the resistance of ‘hustle’ culture and the dilemma of being a car-lover in an era of climate change. \nCome and experience the full force of Yassmin’s unique perspective and hear the voice of a generation of activists who will not be silenced.
URL:https://eventsforlondon.co.uk/event/talking-about-a-revolution-with-yassmin-abdel-magied/
LOCATION:Second Home\, 68 Hanbury Street\, LONDON\, E1 5JL
CATEGORIES:Community Events,Society,Women
ATTACH;FMTTYPE=image/png:https://eventsforlondon.co.uk/wp-content/uploads/2022/10/Yassmin-Abdel-Magied.png
GEO:51.5081682;-0.209498
X-APPLE-STRUCTURED-LOCATION;VALUE=URI;X-ADDRESS=Second Home 68 Hanbury Street LONDON E1 5JL;X-APPLE-RADIUS=500;X-TITLE=68 Hanbury Street:geo:-0.209498,51.5081682
END:VEVENT
BEGIN:VEVENT
DTSTART;TZID=Europe/London:20221026T190000
DTEND;TZID=Europe/London:20221026T190000
DTSTAMP:20260424T164416
CREATED:20221015T144941Z
LAST-MODIFIED:20221015T144959Z
UID:30059722-1666810800-1666810800@eventsforlondon.co.uk
SUMMARY:Nile Book Club presents: African Page Turners
DESCRIPTION:Join Katasi E Kironde and Kalungi Ssebandeke of Nile Book Club for an evening to celebrate the accomplishments of writers of African heritage. \nExpect a book reading by a special author and an African-inspired literary quiz with support from the Royal Borough of Kensington and Chelsea’s Black History Month Grants Scheme.
URL:https://eventsforlondon.co.uk/event/nile-book-club-presents-african-page-turners/
LOCATION:Second Home\, 68 Hanbury Street\, LONDON\, E1 5JL
CATEGORIES:Community Events,Education,Free Events,Society
ATTACH;FMTTYPE=image/png:https://eventsforlondon.co.uk/wp-content/uploads/2022/10/NILE-BOOK-CLUB-600x400-1.png
GEO:51.5081682;-0.209498
X-APPLE-STRUCTURED-LOCATION;VALUE=URI;X-ADDRESS=Second Home 68 Hanbury Street LONDON E1 5JL;X-APPLE-RADIUS=500;X-TITLE=68 Hanbury Street:geo:-0.209498,51.5081682
END:VEVENT
BEGIN:VEVENT
DTSTART;TZID=Europe/London:20220930T100000
DTEND;TZID=Europe/London:20221030T180000
DTSTAMP:20260424T164416
CREATED:20221015T151517Z
LAST-MODIFIED:20221015T151519Z
UID:30059726-1664532000-1667152800@eventsforlondon.co.uk
SUMMARY:gal-dem presents: In the Nook
DESCRIPTION:gal-dem presents: In The Nook at Libreria – a bookshop by Second Home. \n\n\n\ngal-dem is taking over Libreria’s new basement project space for October to host an exclusive art exhibition that celebrates four artists in their community. \n\n\n\nThey have commissioned Jetsun Lama\, Saati Conran-McCormack\, Tuesday and Fuji\, and Curated by Rosa Marouane. \n\n\n\nEach artist will contribute work across print\, illustration and risograph. \n\n\n\nThis exhibition is free and will be open to the public from Friday\, 30 September\, to Sunday\, 30 October as part of Second Home’s Black History Month Programme.
URL:https://eventsforlondon.co.uk/event/gal-dem-presents-in-the-nook/
LOCATION:Second Home\, 68 Hanbury Street\, LONDON\, E1 5JL
CATEGORIES:Community Events
ATTACH;FMTTYPE=image/png:https://eventsforlondon.co.uk/wp-content/uploads/2022/10/GALDEM-email-header.png
GEO:51.5081682;-0.209498
X-APPLE-STRUCTURED-LOCATION;VALUE=URI;X-ADDRESS=Second Home 68 Hanbury Street LONDON E1 5JL;X-APPLE-RADIUS=500;X-TITLE=68 Hanbury Street:geo:-0.209498,51.5081682
END:VEVENT
END:VCALENDAR