BEGIN:VCALENDAR
VERSION:2.0
PRODID:-//Events for LONDON - ECPv6.15.20//NONSGML v1.0//EN
CALSCALE:GREGORIAN
METHOD:PUBLISH
X-WR-CALNAME:Events for LONDON
X-ORIGINAL-URL:https://eventsforlondon.co.uk
X-WR-CALDESC:Events for Events for LONDON
REFRESH-INTERVAL;VALUE=DURATION:PT1H
X-Robots-Tag:noindex
X-PUBLISHED-TTL:PT1H
BEGIN:VTIMEZONE
TZID:Europe/London
BEGIN:DAYLIGHT
TZOFFSETFROM:+0000
TZOFFSETTO:+0100
TZNAME:BST
DTSTART:20240331T010000
END:DAYLIGHT
BEGIN:STANDARD
TZOFFSETFROM:+0100
TZOFFSETTO:+0000
TZNAME:GMT
DTSTART:20241027T010000
END:STANDARD
BEGIN:DAYLIGHT
TZOFFSETFROM:+0000
TZOFFSETTO:+0100
TZNAME:BST
DTSTART:20250330T010000
END:DAYLIGHT
BEGIN:STANDARD
TZOFFSETFROM:+0100
TZOFFSETTO:+0000
TZNAME:GMT
DTSTART:20251026T010000
END:STANDARD
BEGIN:DAYLIGHT
TZOFFSETFROM:+0000
TZOFFSETTO:+0100
TZNAME:BST
DTSTART:20260329T010000
END:DAYLIGHT
BEGIN:STANDARD
TZOFFSETFROM:+0100
TZOFFSETTO:+0000
TZNAME:GMT
DTSTART:20261025T010000
END:STANDARD
BEGIN:DAYLIGHT
TZOFFSETFROM:+0000
TZOFFSETTO:+0100
TZNAME:BST
DTSTART:20270328T010000
END:DAYLIGHT
BEGIN:STANDARD
TZOFFSETFROM:+0100
TZOFFSETTO:+0000
TZNAME:GMT
DTSTART:20271031T010000
END:STANDARD
END:VTIMEZONE
BEGIN:VEVENT
DTSTART;TZID=Europe/London:20260307T074000
DTEND;TZID=Europe/London:20260307T204000
DTSTAMP:20260425T151521
CREATED:20260129T065606Z
LAST-MODIFIED:20260129T065606Z
UID:30115691-1772869200-1772916000@eventsforlondon.co.uk
SUMMARY:Kate-Lois Elliott: TRAD - Work in Progress
DESCRIPTION:After a sell-out Edinburgh debut\, award-winning comedian Kate-Lois Elliott (British Writers’ Guild Award Nominee\, British Comedy Guide Awards\, Funny Women Content Creator Nominee\, The Times Best Jokes Of The Fringe) is working on a new show about modern monogamy\, Gingham fetishes and how ‘the good old olden days’ weren’t even that good\, actually. \nThis is a show for anyone who’s ever wondered whether to lean in\, burn it all down\, or just take up cross-stitch and see what happens. \n“Funny\, clever and sharply observed. With more substance than many comedy shows\, Kate is one to watch” –  \nVoice Magazine ★ ★ ★ ★ \n“Thought provoking & funny… clever\, witty & unique” –  \nHeart London ★ ★ ★ ★ \n“A genius approach to breaking down what self-reflection truly means. A brilliant talent for normalising the absurd” – \n Entertainment Focus ★ ★ ★ ★ \nMusic by Katie Pritchard & Kate-Lois Elliott \nWENA Finalist 2023\, Funny Women Stage Nominee 2025\, Komedia New Comedian Semi Finalist 2024\, Edinburgh News Best Jokes Of The Fringe 2024\, Phoebe Waller Bridge’s Keep It Fringe Award Winner 2024\, Brighton Fringe Bursary Award Winner 2022\, Gobby Girls 11% Club Shortlist 2025\, Merky Books Penguin New Writers’ Prize Longlist
URL:https://eventsforlondon.co.uk/event/kate-lois-elliott-trad-work-in-progress/
LOCATION:Pleasance Theatre\, Carpenters Mews\, North Road\, London N7 9EF\, Pleasance Theatre\, Carpenters Mews\, North Road\, London\, N7 9EF
CATEGORIES:Cheap Tickets,Comedy,Entertainment,Events in London
ATTACH;FMTTYPE=image/jpeg:https://eventsforlondon.co.uk/wp-content/uploads/2026/01/Kate-Lois-Elliott-TRAD-image.jpg
END:VEVENT
BEGIN:VEVENT
DTSTART;TZID=Europe/London:20250301T190000
DTEND;TZID=Europe/London:20250301T202500
DTSTAMP:20260425T151521
CREATED:20250102T074944Z
LAST-MODIFIED:20250102T074944Z
UID:30086997-1740855600-1740860700@eventsforlondon.co.uk
SUMMARY:Acid's Reign
DESCRIPTION:Starring Ru Paul’s Drag Race star Scarlett Harlett\, Acid’s Reign (Pleasance Theatre\, 5 Feb–1 March) interrogates the climate crisis through a queer lens in a drag cabaret musical. The Climate Queens are ready to fight for their future with the help of a little drag magic\, but the hot-headed\, cold-hearted Alex Acid has other ideas. Fuelled by desperation\, greed and a good dollop of corporate interest\, when Acid feels their voice is drowned out\, is it easier to just light a fuse and watch the world burn? Acid’s Reign is a new musical queering and querying the climate discourse\, exploring the stories we tell about the climate crisis and the compromises we make to tell them. Further casting includes Gigi Zahir (Crayola) who recently opened for Chappell Roan at O2 Academy Brixton\, Joshua Oakes-Rogers returning to the London stage after touring as Melman in the UK stage production Madagascar\, drag king Jamie Fuxx\, and Musical Comedy Awards finalist Ash Weir.
URL:https://eventsforlondon.co.uk/event/acids-reign/2025-03-01/
LOCATION:Pleasance Theatre\, Carpenters Mews\, North Road\, London N7 9EF\, Pleasance Theatre\, Carpenters Mews\, North Road\, London\, N7 9EF
CATEGORIES:London Theatre
ATTACH;FMTTYPE=image/jpeg:https://eventsforlondon.co.uk/wp-content/uploads/2024/12/Aacid-listing-template.jpg
ORGANIZER;CN="Pleasance Theatre":MAILTO:info@pleasance.co.uk
END:VEVENT
BEGIN:VEVENT
DTSTART;TZID=Europe/London:20250301T190000
DTEND;TZID=Europe/London:20250301T200000
DTSTAMP:20260425T151521
CREATED:20250105T134337Z
LAST-MODIFIED:20250105T134337Z
UID:30087031-1740855600-1740859200@eventsforlondon.co.uk
SUMMARY:Oh My Pain\, My Beautiful Pain - London Theatre
DESCRIPTION:When does making this work start to help? When does the healing bit start? \nNatalia makes the type of work people describe as ‘RAW’\, ‘BRAVE’\, and ‘HEARTACHINGLY VULNERABLE’. And everyone loves it – critics\, audiences\, the people who do bookings for TED Talks. They all want more\, and she’s promised it to them. Only she’s run out of trauma to write about. More specifically\, her own trauma. Perhaps she can borrow some from those around her? Or can she create some? \nThis fast-paced satirical play uses drag\, cabaret and clowning to explore the cultural impetus on artists to exploit deeply personal stories in their work\, and exposes the personal cost of working in an industry that wants more pain\, more truth\, more trauma.
URL:https://eventsforlondon.co.uk/event/oh-my-pain-my-beautiful-pain-london-theatre/2025-03-01/
LOCATION:Pleasance Theatre\, Carpenters Mews\, North Road\, London N7 9EF\, Pleasance Theatre\, Carpenters Mews\, North Road\, London\, N7 9EF
CATEGORIES:London Musicals,London Theatre
ATTACH;FMTTYPE=image/jpeg:https://eventsforlondon.co.uk/wp-content/uploads/2025/01/oh-my-pain-listing-template-3.jpg
ORGANIZER;CN="Pleasance Theatre":MAILTO:info@pleasance.co.uk
END:VEVENT
END:VCALENDAR