BEGIN:VCALENDAR
VERSION:2.0
PRODID:-//Events for LONDON - ECPv6.15.20//NONSGML v1.0//EN
CALSCALE:GREGORIAN
METHOD:PUBLISH
X-WR-CALNAME:Events for LONDON
X-ORIGINAL-URL:https://eventsforlondon.co.uk
X-WR-CALDESC:Events for Events for LONDON
REFRESH-INTERVAL;VALUE=DURATION:PT1H
X-Robots-Tag:noindex
X-PUBLISHED-TTL:PT1H
BEGIN:VTIMEZONE
TZID:Europe/London
BEGIN:DAYLIGHT
TZOFFSETFROM:+0000
TZOFFSETTO:+0100
TZNAME:BST
DTSTART:20240331T010000
END:DAYLIGHT
BEGIN:STANDARD
TZOFFSETFROM:+0100
TZOFFSETTO:+0000
TZNAME:GMT
DTSTART:20241027T010000
END:STANDARD
BEGIN:DAYLIGHT
TZOFFSETFROM:+0000
TZOFFSETTO:+0100
TZNAME:BST
DTSTART:20250330T010000
END:DAYLIGHT
BEGIN:STANDARD
TZOFFSETFROM:+0100
TZOFFSETTO:+0000
TZNAME:GMT
DTSTART:20251026T010000
END:STANDARD
BEGIN:DAYLIGHT
TZOFFSETFROM:+0000
TZOFFSETTO:+0100
TZNAME:BST
DTSTART:20260329T010000
END:DAYLIGHT
BEGIN:STANDARD
TZOFFSETFROM:+0100
TZOFFSETTO:+0000
TZNAME:GMT
DTSTART:20261025T010000
END:STANDARD
END:VTIMEZONE
BEGIN:VEVENT
DTSTART;TZID=Europe/London:20251020T200000
DTEND;TZID=Europe/London:20251020T223000
DTSTAMP:20260424T101813
CREATED:20251016T153533Z
LAST-MODIFIED:20251016T153533Z
UID:30110098-1760990400-1760999400@eventsforlondon.co.uk
SUMMARY:Boston Kickout 30th Anniversary 4K restoration screening and Q&A
DESCRIPTION:The new 4K restoration of ‘90s Brit classic Boston Kickout is set for a special 30th Anniversary Screening at Picturehouse Central on 20 October followed by a Q&A with the director and cast. \nIt’s time to kick out the jams as seminal ‘90s British classic Boston Kickout is back in a brand-new\, stunning 4K edition\, painstakingly restored under the supervision of the director himself\, Paul Hills. To celebrate its 30th Anniversary\, the film will receive a special one-night-only screening and a fantastic home release. \nBoston Kickout – the award-winning autobiographical feature from renowned director Paul Hills – features a young cast of great British talent including John Simm\, Marc Warren\, Andrew Lincoln and Emer McCourt\, who have all gone on to stellar careers as internationally acclaimed stars\, and if that’s not enough to pique your interest\, there’s an awe-inspiring ‘90s soundtrack featuring some of the biggest and best bands around: The Stones Roses\, Primal Scream and Oasis. \nMaking its World Premiere in October 1995\, the film went on to receive worldwide acclaim on its general release across the globe\, garnering awards galore and now\, 30 years on\, the film will receive a special one-night-only screening and Q&A at London’s Picturehouse Central on 20 October 2025. \nThis will be followed by a barnstorming new Limited Edition 4K/Blu-ray Box Set on 3 November 2025\, courtesy of Bluebell Films. The set comes complete with a slew of special features\, including new director’s commentary\, a never-before-seen short film by Paul Hills\, a film poster\, postcards and more. Please see the full list below. The film will also be available on digital from 27 October and standard DVD and Blu-ray on 17 November. \nIn the ‘80s\, Phil’s father upped and moved the family from an inner-city slum to Stevenage\, in the hope of a brighter future. Now it’s the early ‘90s and that dream has crumbled. Phil (Simm) and his friends have left school and find themselves falling into a bewildering world of unemployment\, violence and drug abuse. \nThen\, Ted (Andrew Lincoln) disappears\, Steve (Richard Hanson) is trying to live up to his parents’ expectations with a proper job and loved-up Matt (Nathan Valente) gets engaged\, leaving Phil out on a limb. \nAlienated from his friends and unhappy with his life\, Phil gets involved with Steve’s wrongun’ brother Robert (Marc Warren)\, a dangerously incompetent villain who is forever planning his one ‘big job’ that’ll change his fortunes. \nNow he’s trapped between two worlds – the criminal and the banal. When his cousin Shona (Emer McCourt) turns up\, it gives Phil the kick up the butt he needs. It’s time to make big changes\, but on the horizon\, there are momentous decisions to make… \nIt’s Boston Kickout or bust in this bangin’ British thriller that takes you back to the ‘90s for a rite of passage thrill ride.
URL:https://eventsforlondon.co.uk/event/boston-kickout-30th-anniversary-4k-restoration-screening-and-qa/
LOCATION:Picturehouse Central\, 15 Great Windmill Street\, Shaftesbury Ave\, Piccadilly Circus\, London\, W1D 7DH
CATEGORIES:Entertainment,Events in London,Films
ATTACH;FMTTYPE=image/jpeg:https://eventsforlondon.co.uk/wp-content/uploads/2025/10/Boston-Kickout-e1760628907432.jpeg
END:VEVENT
END:VCALENDAR