BEGIN:VCALENDAR
VERSION:2.0
PRODID:-//Events for LONDON - ECPv6.15.20//NONSGML v1.0//EN
CALSCALE:GREGORIAN
METHOD:PUBLISH
X-ORIGINAL-URL:https://eventsforlondon.co.uk
X-WR-CALDESC:Events for Events for LONDON
REFRESH-INTERVAL;VALUE=DURATION:PT1H
X-Robots-Tag:noindex
X-PUBLISHED-TTL:PT1H
BEGIN:VTIMEZONE
TZID:Europe/London
BEGIN:DAYLIGHT
TZOFFSETFROM:+0000
TZOFFSETTO:+0100
TZNAME:BST
DTSTART:20180325T010000
END:DAYLIGHT
BEGIN:STANDARD
TZOFFSETFROM:+0100
TZOFFSETTO:+0000
TZNAME:GMT
DTSTART:20181028T010000
END:STANDARD
BEGIN:DAYLIGHT
TZOFFSETFROM:+0000
TZOFFSETTO:+0100
TZNAME:BST
DTSTART:20190331T010000
END:DAYLIGHT
BEGIN:STANDARD
TZOFFSETFROM:+0100
TZOFFSETTO:+0000
TZNAME:GMT
DTSTART:20191027T010000
END:STANDARD
BEGIN:DAYLIGHT
TZOFFSETFROM:+0000
TZOFFSETTO:+0100
TZNAME:BST
DTSTART:20200329T010000
END:DAYLIGHT
BEGIN:STANDARD
TZOFFSETFROM:+0100
TZOFFSETTO:+0000
TZNAME:GMT
DTSTART:20201025T010000
END:STANDARD
BEGIN:DAYLIGHT
TZOFFSETFROM:+0000
TZOFFSETTO:+0100
TZNAME:BST
DTSTART:20210328T010000
END:DAYLIGHT
BEGIN:STANDARD
TZOFFSETFROM:+0100
TZOFFSETTO:+0000
TZNAME:GMT
DTSTART:20211031T010000
END:STANDARD
BEGIN:DAYLIGHT
TZOFFSETFROM:+0000
TZOFFSETTO:+0100
TZNAME:BST
DTSTART:20220327T010000
END:DAYLIGHT
BEGIN:STANDARD
TZOFFSETFROM:+0100
TZOFFSETTO:+0000
TZNAME:GMT
DTSTART:20221030T010000
END:STANDARD
BEGIN:DAYLIGHT
TZOFFSETFROM:+0000
TZOFFSETTO:+0100
TZNAME:BST
DTSTART:20230326T010000
END:DAYLIGHT
BEGIN:STANDARD
TZOFFSETFROM:+0100
TZOFFSETTO:+0000
TZNAME:GMT
DTSTART:20231029T010000
END:STANDARD
BEGIN:DAYLIGHT
TZOFFSETFROM:+0000
TZOFFSETTO:+0100
TZNAME:BST
DTSTART:20240331T010000
END:DAYLIGHT
BEGIN:STANDARD
TZOFFSETFROM:+0100
TZOFFSETTO:+0000
TZNAME:GMT
DTSTART:20241027T010000
END:STANDARD
END:VTIMEZONE
BEGIN:VEVENT
DTSTART;TZID=Europe/London:20231229T100000
DTEND;TZID=Europe/London:20231229T203000
DTSTAMP:20260424T185746
CREATED:20221128T072748Z
LAST-MODIFIED:20230410T104816Z
UID:30058960-1703844000-1703881800@eventsforlondon.co.uk
SUMMARY:Rendlesham
DESCRIPTION:A coach trip from London to Rendlesham Forest with audio commentary\, pub lunch and full guided tour of the mysterious 1980 UFO sightings. \n\n\n\n\nReturn trip on a luxury coach from London (pick-up and drop-off near Stratford Station)\n\n\n\nFull audio narrative of the Rendlesham Forest incident by the writers of The Thin Veil of London and Bluebird\n\n\n\nPub lunch\n\n\n\nGuided walk around Rendlesham Forest by Robert Kingham\, presenter of Pagan London\n\n\n\n\nThe truth may never be known about the incidents that took place in Rendlesham Forest in December 1980. They have since begun to drift into the mists of folklore\, and the mythological fog of war\, and have been described as ‘Britain’s Roswell’. \n\n\n\nBut something truly unusual did happen. A large number of United States Air Force personnel from the nearby twin bases at RAF Woodbridge and RAF Bentwaters witnessed phenomena that none of them have ever been able to explain. The official memo spoke of ‘unexplained lights’ – UFOs was too emotive a term – but\, as later emerged\, there was much more to it than that. \n\n\n\nEither\, around fifty military personnel in command of a nuclear-armed airbase suffered a series of hallucinations. Or: in those woods\, they saw something. \n\n\n\nWe have created an experience that takes you on a trip from London to the silent beauty of the Suffolk woods\, from the present day to the height of the Cold War\, from the everyday to the uncanny. Whether you want to believe\, or you are resolutely sceptical\, within the remarkable events we find a story of our own fears and compulsions.
URL:https://eventsforlondon.co.uk/event/rendlesham-2/
LOCATION:Pick up and drop off near Stratford Station\, Stratford Station\, London\, E15 1AZ
CATEGORIES:Events in London,History,Pubs,Walking
ATTACH;FMTTYPE=image/jpeg:https://eventsforlondon.co.uk/wp-content/uploads/2022/11/Rendlesham-portrait.jpg
GEO:51.5415326;-0.0028007
X-APPLE-STRUCTURED-LOCATION;VALUE=URI;X-ADDRESS=Pick up and drop off near Stratford Station Stratford Station London E15 1AZ;X-APPLE-RADIUS=500;X-TITLE=Stratford Station:geo:-0.0028007,51.5415326
END:VEVENT
BEGIN:VEVENT
DTSTART;TZID=Europe/London:20211228T100000
DTEND;TZID=Europe/London:20211228T203000
DTSTAMP:20260424T185746
CREATED:20201203T161012Z
LAST-MODIFIED:20211003T144516Z
UID:30056211-1640685600-1640723400@eventsforlondon.co.uk
SUMMARY:Coach trip to Rendlesham Forest
DESCRIPTION:A coach trip from London to Rendlesham Forest with audio commentary and full guided tour of the mysterious 1980 UFO sightings. \nThe truth may never be known about the incidents that took place in Rendlesham Forest in December 1980. They have since begun to drift into the mists of folklore\, and the mythological fog of war\, and have been described as ‘Britain’s Roswell’. \nBut something truly unusual did happen. A large number of United States Air Force personnel from the nearby twin bases at RAF Woodbridge and RAF Bentwaters witnessed phenomena that none of them have ever been able to explain. The official memo spoke of ‘unexplained lights’ – UFOs being too emotive a term – but\, as later emerged\, there was much more to it than that. \nMaster storytellers Minimum Labyrinth have created an experience that takes you on a trip from London to the silent beauty of the Suffolk woods\, from the present day to the height of the Cold War\, from the everyday to the uncanny. Whether you want to believe\, or you are resolutely sceptical\, within the remarkable events we find a story of our own fears and compulsions.
URL:https://eventsforlondon.co.uk/event/rendlesham-forest-ufo-sightings-tour/
LOCATION:Pick up and drop off near Stratford Station\, Stratford Station\, London\, E15 1AZ
CATEGORIES:History,Pubs,Walking
ATTACH;FMTTYPE=image/png:https://eventsforlondon.co.uk/wp-content/uploads/2020/12/Rendlesham-promo-image-East-Gate-for-Eventbrite.png
GEO:51.5415326;-0.0028007
X-APPLE-STRUCTURED-LOCATION;VALUE=URI;X-ADDRESS=Pick up and drop off near Stratford Station Stratford Station London E15 1AZ;X-APPLE-RADIUS=500;X-TITLE=Stratford Station:geo:-0.0028007,51.5415326
END:VEVENT
BEGIN:VEVENT
DTSTART;TZID=Europe/London:20191228T100000
DTEND;TZID=Europe/London:20191228T203000
DTSTAMP:20260424T185746
CREATED:20191130T152246Z
LAST-MODIFIED:20191130T152332Z
UID:30053713-1577527200-1577565000@eventsforlondon.co.uk
SUMMARY:Rendlesham
DESCRIPTION:A day coach trip from London to Rendlesham Forest in Suffolk to explore the 1980 UFO incident\, with audio commentary\, pub lunch and guided tour by master storytellers Minimum Labyrinth. \nThe truth may never be known about the incidents that took place in Rendlesham Forest in December 1980. They have since begun to drift into the mists of folklore\, and the mythological fog of war\, and have been described as ‘Britain’s Roswell’. \nBut something truly unusual did happen. A large number of United States Air Force personnel from the nearby twin bases at RAF Woodbridge and RAF Bentwaters witnessed phenomena that none of them have ever been able to explain. The official memo spoke of ‘unexplained lights’ – UFOs being too emotive a term – but\, as later emerged\, there was much more to it than that. \nWe have created a new experience that takes you on a trip from London to the silent beauty of the Suffolk woods\, from the present day to the height of the Cold War\, from the everyday to the uncanny. Whether you want to believe\, or you are resolutely sceptical\, within the remarkable events we find a story of our own fears and compulsions.
URL:https://eventsforlondon.co.uk/event/rendlesham/
LOCATION:Pick up and drop off near Stratford Station\, Stratford Station\, London\, E15 1AZ
CATEGORIES:Arts,Christmas Events,Entertainment,History,Politics,Walking
ATTACH;FMTTYPE=image/png:https://eventsforlondon.co.uk/wp-content/uploads/2019/11/Rendlesham-promo-image-East-Gate-for-Eventbrite.png
GEO:51.5415326;-0.0028007
X-APPLE-STRUCTURED-LOCATION;VALUE=URI;X-ADDRESS=Pick up and drop off near Stratford Station Stratford Station London E15 1AZ;X-APPLE-RADIUS=500;X-TITLE=Stratford Station:geo:-0.0028007,51.5415326
END:VEVENT
END:VCALENDAR