BEGIN:VCALENDAR
VERSION:2.0
PRODID:-//Events for LONDON - ECPv6.15.20//NONSGML v1.0//EN
CALSCALE:GREGORIAN
METHOD:PUBLISH
X-ORIGINAL-URL:https://eventsforlondon.co.uk
X-WR-CALDESC:Events for Events for LONDON
REFRESH-INTERVAL;VALUE=DURATION:PT1H
X-Robots-Tag:noindex
X-PUBLISHED-TTL:PT1H
BEGIN:VTIMEZONE
TZID:Europe/London
BEGIN:DAYLIGHT
TZOFFSETFROM:+0000
TZOFFSETTO:+0100
TZNAME:BST
DTSTART:20230326T010000
END:DAYLIGHT
BEGIN:STANDARD
TZOFFSETFROM:+0100
TZOFFSETTO:+0000
TZNAME:GMT
DTSTART:20231029T010000
END:STANDARD
BEGIN:DAYLIGHT
TZOFFSETFROM:+0000
TZOFFSETTO:+0100
TZNAME:BST
DTSTART:20240331T010000
END:DAYLIGHT
BEGIN:STANDARD
TZOFFSETFROM:+0100
TZOFFSETTO:+0000
TZNAME:GMT
DTSTART:20241027T010000
END:STANDARD
BEGIN:DAYLIGHT
TZOFFSETFROM:+0000
TZOFFSETTO:+0100
TZNAME:BST
DTSTART:20250330T010000
END:DAYLIGHT
BEGIN:STANDARD
TZOFFSETFROM:+0100
TZOFFSETTO:+0000
TZNAME:GMT
DTSTART:20251026T010000
END:STANDARD
BEGIN:DAYLIGHT
TZOFFSETFROM:+0000
TZOFFSETTO:+0100
TZNAME:BST
DTSTART:20260329T010000
END:DAYLIGHT
BEGIN:STANDARD
TZOFFSETFROM:+0100
TZOFFSETTO:+0000
TZNAME:GMT
DTSTART:20261025T010000
END:STANDARD
END:VTIMEZONE
BEGIN:VEVENT
DTSTART;TZID=Europe/London:20251214T160000
DTEND;TZID=Europe/London:20251214T180000
DTSTAMP:20260424T202421
CREATED:20251117T042752Z
LAST-MODIFIED:20251117T042752Z
UID:30110620-1765728000-1765735200@eventsforlondon.co.uk
SUMMARY:The Big Smoke Variety Show: LIVE Christmas Special
DESCRIPTION:On the 14th of December\, join the cast and crew of the ‘quirkiest podcast’ The Observer’s ‘ever heard’ for a Christmas special so delightfully eerie that even the ghosts of Christmas Past\, Present\, and Future would be lining up to haunt it! It’s a night guaranteed to tickle your funny bone and send a particularly festive shiver down your spine. \nHave you ever wondered why the song “It’s the Most Wonderful Time of the Year” promises “scary ghost stories and tales of the glories of Christmases long\, long ago”? This December 14th\, The Big Smoke Variety Show podcast brings the ghostly Dickensian tradition back to life – for one night only! \nPrepare for an evening of spooky tales\, riotous comedy\, seasonal music and festive mischief! You’ll also enjoy live versions of your favourite variety segments\, including Sean Clark the Mudlark’s Latest Find\, Dr. Quack and his hysterically historical medical treatments\, and a round of Yuletide Trivia. All that and more surprises\, including music from the Lewisham Creative Chorus! \nJoin us at The Phoenix Arts Club\, Soho’s most iconic cabaret venue\, at a very civilised 4:15pm! It’s the perfect excuse to get the early train\, shop Oxford Street before the crowds\, then settle in for a fantastically festive show – and still be home in time for a mulled wine before bed! \nWhat is The Big Smoke Variety Show podcast\, you ask? Imagine a TED Talk hopped on the tube\, and ended up in a Soho comedy club! Hosted by Canadian theatre director and broadcaster Kevin Bennett\, this is a cultural salon and evening of fun like no other. \nWhether you’re a longtime fan or new to the show\, this Live Christmas Special promises laughter\, surprises\, and plenty of festive charm. \nTickets are limited\, so don’t miss your chance to be a part of a night where comedy\, history and holiday magic collide. Bring your friends and your curiosity for what promises to be a one-of-a-kind live experience! Starting at £19\, you can get yours today through this link.
URL:https://eventsforlondon.co.uk/event/the-big-smoke-variety-show-live-christmas-special/
LOCATION:Phoenix Arts Club\, 1 Phoenix St\, London WC2H 8BU\, London\, WC2H 8BU
CATEGORIES:Comedy,Entertainment,Events in London,History,Live Music,London Theatre,Performing Arts
ATTACH;FMTTYPE=image/jpeg:https://eventsforlondon.co.uk/wp-content/uploads/2025/11/Big-Smoke-Christmas-sRGB.jpg
END:VEVENT
BEGIN:VEVENT
DTSTART;TZID=Europe/London:20240724T193000
DTEND;TZID=Europe/London:20240724T223000
DTSTAMP:20260424T202421
CREATED:20240521T213004Z
LAST-MODIFIED:20240521T213004Z
UID:30068412-1721849400-1721860200@eventsforlondon.co.uk
SUMMARY:Ember & the Vixens: Live in London 'Summer Heat'
DESCRIPTION:The 5*\, sell-out cabaret that has been enchanting Manchester audiences for the last two years is finally coming to make its magic in London this summer. \nOn Wednesday 24th July\, celebrate the start of summer break (& summer heat) in the most delicious way possible. Prepare to be mesmerised by the Vixens in the gorgeous cabaret den that is the Phoenix Arts Club. \nFeaturing singers\, showgirls\, spoken word performers & circus entertainers\, Ember Travixen’s lavish show will entertain\, empower and dazzle you. \nExpect mesmerising music\, sensual burlesque\, and hypnotising circus\, with moments of laugh-out-loud comedy and powerful poetry – as well as many more treats for the audience! Ember Travixen herself invites you to join her for a fun-filled evening of liberation\, empowerment\, and first-class entertainment. \nJoin the vixens in London at Phoenix Arts Club on Wednesday 24th July 2024 – doors open at 7 PM\, and the show will start at 7:30 PM.
URL:https://eventsforlondon.co.uk/event/ember-the-vixens-live-in-london-summer-heat/
LOCATION:Phoenix Arts Club\, 1 Phoenix St\, London WC2H 8BU\, London\, WC2H 8BU
CATEGORIES:Arts,Circus,Entertainment,Events in London,Live Music,London Theatre,Performing Arts,Shows,Women
ATTACH;FMTTYPE=image/png:https://eventsforlondon.co.uk/wp-content/uploads/2024/05/LDN-Summer-Heat-Ember-the-Vixens-Poster.png
ORGANIZER;CN="Ember Travixen":MAILTO:selinahelliwellproductions@gmail.com
END:VEVENT
END:VCALENDAR