BEGIN:VCALENDAR
VERSION:2.0
PRODID:-//Events for LONDON - ECPv6.15.20//NONSGML v1.0//EN
CALSCALE:GREGORIAN
METHOD:PUBLISH
X-WR-CALNAME:Events for LONDON
X-ORIGINAL-URL:https://eventsforlondon.co.uk
X-WR-CALDESC:Events for Events for LONDON
REFRESH-INTERVAL;VALUE=DURATION:PT1H
X-Robots-Tag:noindex
X-PUBLISHED-TTL:PT1H
BEGIN:VTIMEZONE
TZID:Europe/London
BEGIN:DAYLIGHT
TZOFFSETFROM:+0000
TZOFFSETTO:+0100
TZNAME:BST
DTSTART:20230326T010000
END:DAYLIGHT
BEGIN:STANDARD
TZOFFSETFROM:+0100
TZOFFSETTO:+0000
TZNAME:GMT
DTSTART:20231029T010000
END:STANDARD
BEGIN:DAYLIGHT
TZOFFSETFROM:+0000
TZOFFSETTO:+0100
TZNAME:BST
DTSTART:20240331T010000
END:DAYLIGHT
BEGIN:STANDARD
TZOFFSETFROM:+0100
TZOFFSETTO:+0000
TZNAME:GMT
DTSTART:20241027T010000
END:STANDARD
BEGIN:DAYLIGHT
TZOFFSETFROM:+0000
TZOFFSETTO:+0100
TZNAME:BST
DTSTART:20250330T010000
END:DAYLIGHT
BEGIN:STANDARD
TZOFFSETFROM:+0100
TZOFFSETTO:+0000
TZNAME:GMT
DTSTART:20251026T010000
END:STANDARD
END:VTIMEZONE
BEGIN:VEVENT
DTSTART;TZID=Europe/London:20240522T093000
DTEND;TZID=Europe/London:20240522T130000
DTSTAMP:20260423T170547
CREATED:20240419T042819Z
LAST-MODIFIED:20240419T042819Z
UID:30067506-1716370200-1716382800@eventsforlondon.co.uk
SUMMARY:Innovate UK Presents: Industry 4.0 - The Future of Manufacturing
DESCRIPTION:Join Innovate UK for an exclusive half-day event that delves into the transformative potential of Industry 4.0 within the manufacturing sector. This gathering in Liverpool is aimed at SMEs and industry leaders eager to understand and leverage the latest in manufacturing innovations to propel their businesses forward. \nWhy Attend?\n– Expert Insights: Hear from top thinkers and innovators about the current landscape and future of manufacturing. \n– Interactive Sessions: Engage directly with the technologies driving Industry 4.0 during our MTC tour. \n– Networking Opportunities: Connect with industry peers\, potential collaborators\, and experts in an intimate setting designed for knowledge exchange and partnership building. \nWho Should Attend?\nSME owners and decision-makers \nIndustry leaders looking to innovate \nTechnology enthusiasts and industrial engineers \nStakeholders interested in the future of manufacturing \nTickets\nStandard Ticket: Free (Registration required) \nIncludes access to all sessions\, a guided tour\, and networking lunch. \nRegister Now\nDon’t miss this opportunity to gain invaluable insights and connect with industry leaders. Spaces are limited\, so secure your spot today! \nContact\nFor more information\, please contact: \nFatima Farah\, Events Manager\, Innovate UK Business Growth \nFatima.Farah@innovateukedge.ukri.org
URL:https://eventsforlondon.co.uk/event/innovate-uk-presents-industry-4-0-the-future-of-manufacturing/
LOCATION:MTC Liverpool  131 Mount Pleasant Liverpool L3 5TF United Kingdom
CATEGORIES:Business,Business Education,Business Opportunities,Events in London,Networking,People
ATTACH;FMTTYPE=image/jpeg:https://eventsforlondon.co.uk/wp-content/uploads/2024/04/Innovate-UK-Presents-Industry-The-Future-of-Manufacturing.jpeg
END:VEVENT
END:VCALENDAR