BEGIN:VCALENDAR
VERSION:2.0
PRODID:-//Events for LONDON - ECPv6.15.20//NONSGML v1.0//EN
CALSCALE:GREGORIAN
METHOD:PUBLISH
X-ORIGINAL-URL:https://eventsforlondon.co.uk
X-WR-CALDESC:Events for Events for LONDON
REFRESH-INTERVAL;VALUE=DURATION:PT1H
X-Robots-Tag:noindex
X-PUBLISHED-TTL:PT1H
BEGIN:VTIMEZONE
TZID:Europe/London
BEGIN:DAYLIGHT
TZOFFSETFROM:+0000
TZOFFSETTO:+0100
TZNAME:BST
DTSTART:20230326T010000
END:DAYLIGHT
BEGIN:STANDARD
TZOFFSETFROM:+0100
TZOFFSETTO:+0000
TZNAME:GMT
DTSTART:20231029T010000
END:STANDARD
BEGIN:DAYLIGHT
TZOFFSETFROM:+0000
TZOFFSETTO:+0100
TZNAME:BST
DTSTART:20240331T010000
END:DAYLIGHT
BEGIN:STANDARD
TZOFFSETFROM:+0100
TZOFFSETTO:+0000
TZNAME:GMT
DTSTART:20241027T010000
END:STANDARD
BEGIN:DAYLIGHT
TZOFFSETFROM:+0000
TZOFFSETTO:+0100
TZNAME:BST
DTSTART:20250330T010000
END:DAYLIGHT
BEGIN:STANDARD
TZOFFSETFROM:+0100
TZOFFSETTO:+0000
TZNAME:GMT
DTSTART:20251026T010000
END:STANDARD
END:VTIMEZONE
BEGIN:VEVENT
DTSTART;TZID=Europe/London:20240518T120000
DTEND;TZID=Europe/London:20240518T130000
DTSTAMP:20260421T235313
CREATED:20240411T030249Z
LAST-MODIFIED:20240411T030249Z
UID:30066946-1716033600-1716037200@eventsforlondon.co.uk
SUMMARY:‘My Cultural Style’ Children's Fashion Show - Cultural Style Week
DESCRIPTION:Mark your calendars! The ‘My Cultural Style’ Children’s Fashion Show will take place at the Cultural Style Week London Expo on Saturday 18 May\, at the Mall Wood Green\, in the heart of North London. \nCultural Style Week is an exciting week-long event that promises to get everyone talking about culture. It’s that one week in the year when people from all backgrounds are encouraged to wear their heritage! From 21-27 May\, People from all over the world are encouraged to participate and take part wherever they are by proudly wearing their cultural styles across the week\, and sharing their pictures online with the tag #culturalstyleweek to connect and share with others. \nFor the ‘My Cultural Style Children’s Fashion Show’ we will use cultural fashion as a platform for engaging through diversity. Our focus this year is on fostering a greater sense of belonging for children from diaspora and refugee communities\, while celebrating the diversity that makes our world so special. Our young participants will take to the runway\, sharing their cultural clothing and talking about what it means to them. \nThere will also be cultural dance performances\, spoken word and more! Our shows are visually spectacular\, but also educational and empowering. Plus it’s lots of fun for everyone taking part. \nCalling all children aged between four and seventeen. \nIf you are aged between four and sixteen\, grab your cultural clothing and join us on the runway! Participation is absolutely free\, and families are encouraged to participate together. We also welcome a variety of children’s performances\, so let your talents shine! To sign up\, please click here. \nDate: Saturday 18 May 2024 \nTime: 12pm -1pm \nLocation: Mall Wood Green\, 159 High Rd\, London N22 6YQ \nEntry: Free
URL:https://eventsforlondon.co.uk/event/my-cultural-style-childrens-fashion-show-cultural-style-week/
LOCATION:Mall Wood Green\, 159 High Rd\, London\, N22 6YQ
CATEGORIES:Arts,Children,Design,Entertainment,Events in London,Family Activities,Fashion
ATTACH;FMTTYPE=image/png:https://eventsforlondon.co.uk/wp-content/uploads/2024/04/Post-Pics-.png
END:VEVENT
BEGIN:VEVENT
DTSTART;TZID=Europe/London:20240518T103000
DTEND;TZID=Europe/London:20240518T183000
DTSTAMP:20260421T235313
CREATED:20240405T085651Z
LAST-MODIFIED:20240405T085651Z
UID:30066901-1716028200-1716057000@eventsforlondon.co.uk
SUMMARY:Cultural Style Week London Expo: Where Fashion Meets Culture!
DESCRIPTION:Cultural Style Week London Expo: Where Fashion Meets Culture! \nJoin us for a vibrant celebration of fashion and culture at The Mall Wood Green. \nExplore over 60 diverse trade stalls\, offering culturally diverse fashion and beauty items\, and enjoy cultural performances and multiple fashion shows featuring both emerging and established cultural designers. \nDon’t miss out on this exciting opportunity to experience the fusion of fashion and culture! \nThis ‘free entry’ event is destined to become the inaugural flagship expo event in London for the burgeoning international movement and you can be a part of it! \n​Traders\, exhibitors\, and designers\, please click here to view the information pack.
URL:https://eventsforlondon.co.uk/event/cultural-style-week-london-expo-where-fashion-meets-culture/
LOCATION:Mall Wood Green\, 159 High Rd\, London\, N22 6YQ
CATEGORIES:Events in London,Fashion,People
ATTACH;FMTTYPE=image/jpeg:https://eventsforlondon.co.uk/wp-content/uploads/2024/04/Blog-Banner-Images-News-Posts-1-e1712307342310.jpg
END:VEVENT
BEGIN:VEVENT
DTSTART;TZID=Europe/London:20240501T100000
DTEND;TZID=Europe/London:20240607T180000
DTSTAMP:20260421T235313
CREATED:20240415T041820Z
LAST-MODIFIED:20240506T135125Z
UID:30067433-1714557600-1717783200@eventsforlondon.co.uk
SUMMARY:‘My Cultural Style’ Exhibition – Cultural Style Week
DESCRIPTION:Experience the vibrant tapestry of cultural pride and fashion expression at the ‘My Cultural Style’ exhibition\, right in the heart of ‘The Mall\, Wood Green’ in London. This captivating showcase\, generously supported by the Mall Wood Green\, is a testament to the rich diversity of Haringey\, spotlighting the myriad ways in which culture influences personal style. \nAbout Cultural Style Week:\nCultural Style Week is an exciting week-long event that promises to get everyone talking about culture. It’s that one week in the year when people from all backgrounds are encouraged to wear their heritage! From 21-27 May\, People from all over the world are encouraged to participate and take part wherever they are by proudly wearing their cultural styles across the week\, and sharing their pictures online with the tag #culturalstyleweek to connect and share with others.\nWhether you’re in London or across the globe\, join us in celebrating diversity\, let’s come together\, bridge boundaries\, and revel in the beauty of our differences!\nFor more information\, visit www.culturalstyleweek.com and let’s make this week a celebration to remember! \nDate: 1 May 2024 – 7 June 2024\nTime: 10am -6pm\nLocation: Mall Wood Green\, 159 High Rd\, London N22 6YQ\nEntry: Free
URL:https://eventsforlondon.co.uk/event/my-cultural-style-exhibition-cultural-style-week/
LOCATION:Mall Wood Green\, 159 High Rd\, London\, N22 6YQ
CATEGORIES:Events in London,Exhibitions,Fashion
ATTACH;FMTTYPE=image/jpeg:https://eventsforlondon.co.uk/wp-content/uploads/2024/04/2.jpg
END:VEVENT
END:VCALENDAR