BEGIN:VCALENDAR
VERSION:2.0
PRODID:-//Events for LONDON - ECPv6.15.20//NONSGML v1.0//EN
CALSCALE:GREGORIAN
METHOD:PUBLISH
X-ORIGINAL-URL:https://eventsforlondon.co.uk
X-WR-CALDESC:Events for Events for LONDON
REFRESH-INTERVAL;VALUE=DURATION:PT1H
X-Robots-Tag:noindex
X-PUBLISHED-TTL:PT1H
BEGIN:VTIMEZONE
TZID:Europe/London
BEGIN:DAYLIGHT
TZOFFSETFROM:+0000
TZOFFSETTO:+0100
TZNAME:BST
DTSTART:20190331T010000
END:DAYLIGHT
BEGIN:STANDARD
TZOFFSETFROM:+0100
TZOFFSETTO:+0000
TZNAME:GMT
DTSTART:20191027T010000
END:STANDARD
BEGIN:DAYLIGHT
TZOFFSETFROM:+0000
TZOFFSETTO:+0100
TZNAME:BST
DTSTART:20200329T010000
END:DAYLIGHT
BEGIN:STANDARD
TZOFFSETFROM:+0100
TZOFFSETTO:+0000
TZNAME:GMT
DTSTART:20201025T010000
END:STANDARD
BEGIN:DAYLIGHT
TZOFFSETFROM:+0000
TZOFFSETTO:+0100
TZNAME:BST
DTSTART:20210328T010000
END:DAYLIGHT
BEGIN:STANDARD
TZOFFSETFROM:+0100
TZOFFSETTO:+0000
TZNAME:GMT
DTSTART:20211031T010000
END:STANDARD
END:VTIMEZONE
BEGIN:VEVENT
DTSTART;TZID=Europe/London:20200214T200000
DTEND;TZID=Europe/London:20200214T223000
DTSTAMP:20260425T164224
CREATED:20200208T005910Z
LAST-MODIFIED:20200213T124008Z
UID:30054570-1581710400-1581719400@eventsforlondon.co.uk
SUMMARY:Delicate Hearts Healing - Valentine Special
DESCRIPTION:An evening of relaxation and healing with the focus on Self Love. \nA special event for those feeling delicate this Valentine’s Day. If you are going through a break up or just generally having a hard time or feeling sad this is the perfect event for you. \nLet us soothe you. \nTo begin there will be a meditation with focus on the heart chakra. We will drink ceremonial cacao from the Sacred Valley together and talk through a few practical tips on Self Love and Self Care. \nA beautiful 90 minute sound healing will follow with gongs\, chimes\, bowls and icaros (ancient healing songs from the Amazon) We will use agua de florida\, palo santo and frankincense oil at different points throughout the evening to clear or to ground you. \n  \n\n\n \nThere are mats\, blankets and cushions but feel free to bring extra from home\, we want you to be as cosy as possible. Wear comfortable clothing and no booze before! Please arrive 15 minutes before we begin (7.45pm)so you can get comfortable and settle in. \nWe are sure we can help you feel calmer and can promise an amazing sleep afterwards! \nLove Jacqueline & Amanda xx
URL:https://eventsforlondon.co.uk/event/delicate-hearts-healing-valentine-special/
LOCATION:kuu\, 76 Lower Clapton Road\, London\, E5 0RN
CATEGORIES:Alternative Medicine,Workshops
ATTACH;FMTTYPE=image/jpeg:https://eventsforlondon.co.uk/wp-content/uploads/2020/02/delicate-lowres.jpg
GEO:51.5528162;-0.0527625
X-APPLE-STRUCTURED-LOCATION;VALUE=URI;X-ADDRESS=kuu 76 Lower Clapton Road London E5 0RN;X-APPLE-RADIUS=500;X-TITLE=76 Lower Clapton Road:geo:-0.0527625,51.5528162
END:VEVENT
END:VCALENDAR