BEGIN:VCALENDAR
VERSION:2.0
PRODID:-//Events for LONDON - ECPv6.15.20//NONSGML v1.0//EN
CALSCALE:GREGORIAN
METHOD:PUBLISH
X-WR-CALNAME:Events for LONDON
X-ORIGINAL-URL:https://eventsforlondon.co.uk
X-WR-CALDESC:Events for Events for LONDON
REFRESH-INTERVAL;VALUE=DURATION:PT1H
X-Robots-Tag:noindex
X-PUBLISHED-TTL:PT1H
BEGIN:VTIMEZONE
TZID:Europe/London
BEGIN:DAYLIGHT
TZOFFSETFROM:+0000
TZOFFSETTO:+0100
TZNAME:BST
DTSTART:20180325T010000
END:DAYLIGHT
BEGIN:STANDARD
TZOFFSETFROM:+0100
TZOFFSETTO:+0000
TZNAME:GMT
DTSTART:20181028T010000
END:STANDARD
BEGIN:DAYLIGHT
TZOFFSETFROM:+0000
TZOFFSETTO:+0100
TZNAME:BST
DTSTART:20190331T010000
END:DAYLIGHT
BEGIN:STANDARD
TZOFFSETFROM:+0100
TZOFFSETTO:+0000
TZNAME:GMT
DTSTART:20191027T010000
END:STANDARD
BEGIN:DAYLIGHT
TZOFFSETFROM:+0000
TZOFFSETTO:+0100
TZNAME:BST
DTSTART:20200329T010000
END:DAYLIGHT
BEGIN:STANDARD
TZOFFSETFROM:+0100
TZOFFSETTO:+0000
TZNAME:GMT
DTSTART:20201025T010000
END:STANDARD
BEGIN:DAYLIGHT
TZOFFSETFROM:+0000
TZOFFSETTO:+0100
TZNAME:BST
DTSTART:20210328T010000
END:DAYLIGHT
BEGIN:STANDARD
TZOFFSETFROM:+0100
TZOFFSETTO:+0000
TZNAME:GMT
DTSTART:20211031T010000
END:STANDARD
BEGIN:DAYLIGHT
TZOFFSETFROM:+0000
TZOFFSETTO:+0100
TZNAME:BST
DTSTART:20220327T010000
END:DAYLIGHT
BEGIN:STANDARD
TZOFFSETFROM:+0100
TZOFFSETTO:+0000
TZNAME:GMT
DTSTART:20221030T010000
END:STANDARD
BEGIN:DAYLIGHT
TZOFFSETFROM:+0000
TZOFFSETTO:+0100
TZNAME:BST
DTSTART:20230326T010000
END:DAYLIGHT
BEGIN:STANDARD
TZOFFSETFROM:+0100
TZOFFSETTO:+0000
TZNAME:GMT
DTSTART:20231029T010000
END:STANDARD
BEGIN:DAYLIGHT
TZOFFSETFROM:+0000
TZOFFSETTO:+0100
TZNAME:BST
DTSTART:20240331T010000
END:DAYLIGHT
BEGIN:STANDARD
TZOFFSETFROM:+0100
TZOFFSETTO:+0000
TZNAME:GMT
DTSTART:20241027T010000
END:STANDARD
END:VTIMEZONE
BEGIN:VEVENT
DTSTART;TZID=Europe/London:20231028T123000
DTEND;TZID=Europe/London:20231029T190000
DTSTAMP:20260426T051247
CREATED:20230815T132800Z
LAST-MODIFIED:20230815T133208Z
UID:30060506-1698496200-1698606000@eventsforlondon.co.uk
SUMMARY:Parallax Art Fair 35th Edition in October 2023
DESCRIPTION:Parallax is Europe’s largest fair for independent artists and designers\, with over 34 editions over 12 years in London. Over 10\,000 art and design products from 300 exhibitors are displayed with no commission\, and most are VAT free. We’ve hosted exhibitors from nearly every continent on the planet and not a few music and movie stars. Unlike other art fairs\, we don’t charge exhibitors of the Earth for their exhibition space\, which means they keep their product prices lower for visitors. It is also free entry for visitors. PAF also produces its own music\, and you’ll find a playful and fun combination of art\, music\, and technology at the fair\, including its LED screens and cinema.  \n\n\n\nMore Choice is More Freedom is Parallax. \n\n\n\nTube: High Street Kensington \n\n\n\nAnd if you cannot make\, you can always shop art and design online with us. \n\n\n\n\nhttps://www.parallaxaf.com/shop/index.php\n\n\n\n\nArtists and designers can still apply to exhibit their products at this amazing event:  \n\n\n\n\nhttps://www.parallaxaf.com/apply.php
URL:https://eventsforlondon.co.uk/event/parallax-art-fair-35th-edition-in-october-2023/
LOCATION:Kensington Town Hall\, Hornton Street\, London\, W8 7NX
CATEGORIES:Arts,Community Events
ATTACH;FMTTYPE=image/jpeg:https://eventsforlondon.co.uk/wp-content/uploads/2023/08/poster35.jpg
GEO:51.503124;-0.19517
X-APPLE-STRUCTURED-LOCATION;VALUE=URI;X-ADDRESS=Kensington Town Hall Hornton Street London W8 7NX;X-APPLE-RADIUS=500;X-TITLE=Hornton Street:geo:-0.19517,51.503124
END:VEVENT
BEGIN:VEVENT
DTSTART;TZID=Europe/London:20220702T110000
DTEND;TZID=Europe/London:20220703T170000
DTSTAMP:20260426T051247
CREATED:20220404T112528Z
LAST-MODIFIED:20220404T113612Z
UID:30059084-1656759600-1656867600@eventsforlondon.co.uk
SUMMARY:Parallax Art Fair 31st Edition in July 2022
DESCRIPTION:Parallax ‘Art’ Fair takes place at Kensington Town Hall Hornton Street. It is the largest artist and designer fair in Europe. Entry is free. \nGot your free ticket? Opens July 2nd-3rd July 2022 in Kensington Town Hall London. Get it now: https://www.parallaxaf.co/tickets.php \nIf you’ve never been to an art and design fair before\, no worries. Check why you should come. (1) Free entry- it won’t cost you a penny. (2) No VAT on most EU-UK works (3) No extra commission on top of exhibitor prices (4) Lowest overheads of ANY art and design fair so prices stay low for you. You’ve got 300 exhibitors from 30 countries with over 7000 works to choose from! There’s also food served by De Ritz\, Jazz music and Silkare Massage. Families and kids are welcome. Described as “the best art and design fair in London” by exhibitors and visitors – come and find out why – bring friends too! \nAnd if you cannot make\, you can always shop art and design online with us.\nhttps://www.parallaxaf.com/shop/index.php \nArtists and designers can still apply to exhibit their products at this amazing event:\nhttps://www.parallaxaf.co/exhibit.php \nVenue: Kensington Town Hall Hornton St\, Kensington\, London W8 7NX\nTube: High Street Kensington\nWebsite:\nhttps://www.parallaxaf.com \nDay Tickets:\nhttps://www.parallaxaf.com/tickets.php \nShop Online:\nhttps://www.parallaxaf.com/shop/index.php \nStream music:\nhttps://www.parallaxaf.com/shop/music.php \nVideo:
URL:https://eventsforlondon.co.uk/event/parallax-art-fair-31st-edition-in-july-2022/
LOCATION:Kensington Town Hall\, Hornton Street\, London\, W8 7NX
CATEGORIES:Digital Arts,Exhibitions,Illustration,Photography,Sculpture,Visual Arts
ATTACH;FMTTYPE=image/jpeg:https://eventsforlondon.co.uk/wp-content/uploads/2022/04/Poster-July-2022.jpg
GEO:51.503124;-0.19517
X-APPLE-STRUCTURED-LOCATION;VALUE=URI;X-ADDRESS=Kensington Town Hall Hornton Street London W8 7NX;X-APPLE-RADIUS=500;X-TITLE=Hornton Street:geo:-0.19517,51.503124
END:VEVENT
BEGIN:VEVENT
DTSTART;TZID=Europe/London:20211023T110000
DTEND;TZID=Europe/London:20211024T170000
DTSTAMP:20260426T051247
CREATED:20211016T033601Z
LAST-MODIFIED:20211016T033618Z
UID:30058500-1634986800-1635094800@eventsforlondon.co.uk
SUMMARY:Parallax Art Fair 30th Edition in October 2021
DESCRIPTION:Parallax ‘Art’ Fair takes place at Kensington Town Hall Hornton Street. It is the most significant artist and designer fair in Europe. \nGot your free ticket? Opens October 23-24 in Kensington Town Hall London. Get it now: https://www.parallaxaf.co/tickets.php \nFOUR reasons to join us: 1) Free entry- it won’t cost you a penny. 2) No VAT on most EU-UK works 3) No extra commission on top of exhibitor prices 4) Lowest overheads of ANY art and design fair\, so prices stay low for you. If you’ve never been to an art and design fair before\, no worries\, just come and look. You’ve got 300 exhibitors from 30 countries with over 7000 works to choose from! De Ritz also serves food to the chilled music of Jazz Lane. Families and kids are welcome. Described as “the best art and design fair in London” by exhibitors and visitors – come and find out why – bring friends too! \nAnd if you cannot make it\, you can always shop art and design online with us.\nhttps://www.parallaxaf.com/shop/index.php \nArtists and designers can still apply to exhibit their products at this fantastic event:\nhttps://www.parallaxaf.co/exhibit.php \nVenue: Kensington Town Hall Hornton St\, Kensington\, London W8 7NX\nTube: High Street Kensington \nKensington Town Hall\,\nHornton St\,\nKensington\,\nLondon\nW8 7NX \nWebsite:\nhttps://www.parallaxaf.com \nShop Online:\nhttps://www.parallaxaf.com/shop/index.php \nStream music:\nhttps://www.parallaxaf.com/shop/music.php \nDay Tickets:\nhttps://www.parallaxaf.co/tickets.php
URL:https://eventsforlondon.co.uk/event/parallax-art-fair-30th-edition-in-october-2021/
LOCATION:Kensington Town Hall\, Hornton Street\, London\, W8 7NX
CATEGORIES:Arts,Events in London,Exhibitions,Free Events,Illustration,Photography,Sculpture,Visual Arts
ATTACH;FMTTYPE=image/jpeg:https://eventsforlondon.co.uk/wp-content/uploads/2021/10/OCTOBER-2021.jpg
GEO:51.503124;-0.19517
X-APPLE-STRUCTURED-LOCATION;VALUE=URI;X-ADDRESS=Kensington Town Hall Hornton Street London W8 7NX;X-APPLE-RADIUS=500;X-TITLE=Hornton Street:geo:-0.19517,51.503124
END:VEVENT
BEGIN:VEVENT
DTSTART;TZID=Europe/London:20190706T110000
DTEND;TZID=Europe/London:20190707T170000
DTSTAMP:20260426T051247
CREATED:20190412T065507Z
LAST-MODIFIED:20190412T065507Z
UID:30053106-1562410800-1562518800@eventsforlondon.co.uk
SUMMARY:Parallax Art Fair 26th Edition in July 2019
DESCRIPTION:Parallax ‘Art’ Fair takes place at Kensington Town hall Hornton Street. It is the largest artist and designer fair in Europe. \nGot your free ticket? Opens July 6-7 in Kensington Town Hall London. Get it now: http://parallaxaf.co/tickets.html\nFOUR reasons to join us: \n\n Free entry- it won’t cost you a penny.\n No VAT on most EU-UK works\n No extra commission on top of exhibitor prices\n Lowest overheads of ANY art and design fair so prices stay low for you. If you’ve never been to an art and design fair before\, no worries\, just come and look.\n\nYou’ve got 300 exhibitors from 30 countries with over 7000 works to choose from! There’s also food served by De Ritz to the chilled music of Jazz Lane. Families and kids are welcome. Described as “the best art and design fair in London” by exhibitors and visitors – come and find out why – bring friends too!\nArtists and designers can still apply to exhibit their products at this amazing event: http://parallaxaf.co/application.htm \nVenue: Kensington Town Hall\, Hornton St\, Kensington\, London W8 7NX\nTube: High Street Kensington \nKensington Town Hall\,\nHornton St\,\nKensington\,\nLondon\nW8 7NX \nWebsite:\nhttp://parallaxaf.co \nFacebook:\nhttps://www.facebook.com/pages/Parallax-Art-Fair/122785194457908 \nTwitter:\nhttps://twitter.com/ParallaxArtFair \nTickets: http://www.parallaxaf.co/tickets.html
URL:https://eventsforlondon.co.uk/event/parallax-art-fair-26th-edition-in-july-2019/
LOCATION:Kensington Town Hall\, Hornton Street\, London\, W8 7NX
CATEGORIES:Arts,Crafts,Digital Arts,Free Events,Photography
ATTACH;FMTTYPE=image/jpeg:https://eventsforlondon.co.uk/wp-content/uploads/2019/04/Parallax-26-posterlarge.jpg
GEO:51.503124;-0.19517
X-APPLE-STRUCTURED-LOCATION;VALUE=URI;X-ADDRESS=Kensington Town Hall Hornton Street London W8 7NX;X-APPLE-RADIUS=500;X-TITLE=Hornton Street:geo:-0.19517,51.503124
END:VEVENT
END:VCALENDAR