BEGIN:VCALENDAR
VERSION:2.0
PRODID:-//Events for LONDON - ECPv6.15.20//NONSGML v1.0//EN
CALSCALE:GREGORIAN
METHOD:PUBLISH
X-WR-CALNAME:Events for LONDON
X-ORIGINAL-URL:https://eventsforlondon.co.uk
X-WR-CALDESC:Events for Events for LONDON
REFRESH-INTERVAL;VALUE=DURATION:PT1H
X-Robots-Tag:noindex
X-PUBLISHED-TTL:PT1H
BEGIN:VTIMEZONE
TZID:Europe/London
BEGIN:DAYLIGHT
TZOFFSETFROM:+0000
TZOFFSETTO:+0100
TZNAME:BST
DTSTART:20180325T010000
END:DAYLIGHT
BEGIN:STANDARD
TZOFFSETFROM:+0100
TZOFFSETTO:+0000
TZNAME:GMT
DTSTART:20181028T010000
END:STANDARD
BEGIN:DAYLIGHT
TZOFFSETFROM:+0000
TZOFFSETTO:+0100
TZNAME:BST
DTSTART:20190331T010000
END:DAYLIGHT
BEGIN:STANDARD
TZOFFSETFROM:+0100
TZOFFSETTO:+0000
TZNAME:GMT
DTSTART:20191027T010000
END:STANDARD
BEGIN:DAYLIGHT
TZOFFSETFROM:+0000
TZOFFSETTO:+0100
TZNAME:BST
DTSTART:20200329T010000
END:DAYLIGHT
BEGIN:STANDARD
TZOFFSETFROM:+0100
TZOFFSETTO:+0000
TZNAME:GMT
DTSTART:20201025T010000
END:STANDARD
BEGIN:DAYLIGHT
TZOFFSETFROM:+0000
TZOFFSETTO:+0100
TZNAME:BST
DTSTART:20210328T010000
END:DAYLIGHT
BEGIN:STANDARD
TZOFFSETFROM:+0100
TZOFFSETTO:+0000
TZNAME:GMT
DTSTART:20211031T010000
END:STANDARD
BEGIN:DAYLIGHT
TZOFFSETFROM:+0000
TZOFFSETTO:+0100
TZNAME:BST
DTSTART:20220327T010000
END:DAYLIGHT
BEGIN:STANDARD
TZOFFSETFROM:+0100
TZOFFSETTO:+0000
TZNAME:GMT
DTSTART:20221030T010000
END:STANDARD
BEGIN:DAYLIGHT
TZOFFSETFROM:+0000
TZOFFSETTO:+0100
TZNAME:BST
DTSTART:20230326T010000
END:DAYLIGHT
BEGIN:STANDARD
TZOFFSETFROM:+0100
TZOFFSETTO:+0000
TZNAME:GMT
DTSTART:20231029T010000
END:STANDARD
BEGIN:DAYLIGHT
TZOFFSETFROM:+0000
TZOFFSETTO:+0100
TZNAME:BST
DTSTART:20240331T010000
END:DAYLIGHT
BEGIN:STANDARD
TZOFFSETFROM:+0100
TZOFFSETTO:+0000
TZNAME:GMT
DTSTART:20241027T010000
END:STANDARD
END:VTIMEZONE
BEGIN:VEVENT
DTSTART;TZID=Europe/London:20230324T183000
DTEND;TZID=Europe/London:20230324T200000
DTSTAMP:20260421T231910
CREATED:20230315T155253Z
LAST-MODIFIED:20230315T155258Z
UID:30059981-1679682600-1679688000@eventsforlondon.co.uk
SUMMARY:Loot and Plunder: A Conversation with two London authors
DESCRIPTION:Two London authors tell tales of African loot and plunder – treasures stolen in the days of empire and now stashed in the city’s museums. Andrew Heavens is the author of the newly-published book “The Prince and the Plunder: How Britain took one small boy and hundreds of treasures from Ethiopia”. Barnaby Phillips is the author of “Loot: Britain and the Benin Bronzes”. They will talk about when the treasures were taken\, where they ended up and how Britain’s institutions are responding to mounting calls for their return.
URL:https://eventsforlondon.co.uk/event/loot-and-plunder-a-conversation-with-two-london-authors/
LOCATION:Hatchards\, 187 Piccadilly\, St. James's\, London\, W1J 9LE
CATEGORIES:Arts,Cheap Tickets,Classical Studies,Events in London,Writers
ATTACH;FMTTYPE=image/jpeg:https://eventsforlondon.co.uk/wp-content/uploads/2023/03/Prince-and-the-Plunder_COVER-1.jpg
ORGANIZER;CN="Andrew Heavens":MAILTO:andrew.heavens@gmail.com
GEO:51.5084592;-0.1380165
X-APPLE-STRUCTURED-LOCATION;VALUE=URI;X-ADDRESS=Hatchards 187 Piccadilly St. James's London W1J 9LE;X-APPLE-RADIUS=500;X-TITLE=187 Piccadilly\, St. James's:geo:-0.1380165,51.5084592
END:VEVENT
BEGIN:VEVENT
DTSTART;TZID=Europe/London:20190626T123000
DTEND;TZID=Europe/London:20190626T140000
DTSTAMP:20260421T231910
CREATED:20190618T162222Z
LAST-MODIFIED:20190618T162222Z
UID:30053375-1561552200-1561557600@eventsforlondon.co.uk
SUMMARY:Bryan Adams book Signing
DESCRIPTION:Bryan Adams will doing a lunch time book signing of his portrait book\, Homeless\, at Hatchards on 26th June. Homeless is a book of Bryan’s own photography\, where he has captured 84 colour and black and white images of Big Issue vendors.
URL:https://eventsforlondon.co.uk/event/bryan-adams-book-signing/
LOCATION:Hatchards\, 187 Piccadilly\, St. James's\, London\, W1J 9LE
CATEGORIES:Free Events,Photography
ATTACH;FMTTYPE=image/jpeg:https://eventsforlondon.co.uk/wp-content/uploads/2019/06/IMAGE-to-use-for-events.jpg
ORGANIZER;CN="Midas Pr":MAILTO:charlotte.cooper@midaspr.co.uk
GEO:51.5084592;-0.1380165
X-APPLE-STRUCTURED-LOCATION;VALUE=URI;X-ADDRESS=Hatchards 187 Piccadilly St. James's London W1J 9LE;X-APPLE-RADIUS=500;X-TITLE=187 Piccadilly\, St. James's:geo:-0.1380165,51.5084592
END:VEVENT
END:VCALENDAR