BEGIN:VCALENDAR
VERSION:2.0
PRODID:-//Events for LONDON - ECPv6.15.20//NONSGML v1.0//EN
CALSCALE:GREGORIAN
METHOD:PUBLISH
X-WR-CALNAME:Events for LONDON
X-ORIGINAL-URL:https://eventsforlondon.co.uk
X-WR-CALDESC:Events for Events for LONDON
REFRESH-INTERVAL;VALUE=DURATION:PT1H
X-Robots-Tag:noindex
X-PUBLISHED-TTL:PT1H
BEGIN:VTIMEZONE
TZID:Europe/London
BEGIN:DAYLIGHT
TZOFFSETFROM:+0000
TZOFFSETTO:+0100
TZNAME:BST
DTSTART:20220327T010000
END:DAYLIGHT
BEGIN:STANDARD
TZOFFSETFROM:+0100
TZOFFSETTO:+0000
TZNAME:GMT
DTSTART:20221030T010000
END:STANDARD
BEGIN:DAYLIGHT
TZOFFSETFROM:+0000
TZOFFSETTO:+0100
TZNAME:BST
DTSTART:20230326T010000
END:DAYLIGHT
BEGIN:STANDARD
TZOFFSETFROM:+0100
TZOFFSETTO:+0000
TZNAME:GMT
DTSTART:20231029T010000
END:STANDARD
BEGIN:DAYLIGHT
TZOFFSETFROM:+0000
TZOFFSETTO:+0100
TZNAME:BST
DTSTART:20240331T010000
END:DAYLIGHT
BEGIN:STANDARD
TZOFFSETFROM:+0100
TZOFFSETTO:+0000
TZNAME:GMT
DTSTART:20241027T010000
END:STANDARD
END:VTIMEZONE
BEGIN:VEVENT
DTSTART;TZID=Europe/London:20230728T080000
DTEND;TZID=Europe/London:20230728T170000
DTSTAMP:20260424T190037
CREATED:20230717T144418Z
LAST-MODIFIED:20230717T144422Z
UID:30060442-1690531200-1690563600@eventsforlondon.co.uk
SUMMARY:London Trainees' Conference 2023: Future-proofing
DESCRIPTION:Join us for London’s most exciting conference\, FREE* for trainee doctors and dentists of all grades and specialities ACROSS LONDON. Other HCPs and healthcare students are also welcome! \n\n\n\nThis London Trainees’ Conference is our annual exploration of medical training in all its forms\, tackling issues cutting across speciality and stages of training. We’ll be addressing future-proofing a career in healthcare in a variety of areas\, including sustainability\, mental health\, work-life balance\, making a difference and coping with error. There’s something for everyone. \n\n\n\nWe have a fantastic spread of talks and workshops organised. \n\n\n\nSpeakers: \n\n\n\nDr Simon Carley\, Coping with Error \n\n\n\nDoctorpreneurs: Careers in Healthtech\, Innovation and Entrepreneurship \n\n\n\nRia Clark: Taking Control of the Medical Treadmill \n\n\n\n*****GUEST SPEAKER***** \n\n\n\nBAFTA-winning TV writer\, author\, comedian and doctor – ADAM KAY \n\n\n\nWorkshops: \n\n\n\n\nPractitioner Health Programme\n\n\n\nYoga\n\n\n\nReporting to the GMC\n\n\n\nCentre for Sustainable Healthcare\n\n\n\nDr Simon Carley\n\n\n\n\nBreakfast\, lunch\, and refreshments will\, of course\, all be provided! \n\n\n\nIf you are a medical student\, please fill in your institution in the form. \n\n\n\nLocation: Hallam Conference Centre\, 44 Hallam Street\, London\, W1W 6JJ \n\n\n\nTimings: Delegates are to arrive from 8.40 am for a prompt 9 am start. Poster and art presenters are welcome from 8.30 am to set up. \n\n\n\nThere will also be space for oral and poster presentations on any theme – please submit abstracts of no more than 250 words to londontraineenetwork@gmail.com by the 21st July
URL:https://eventsforlondon.co.uk/event/london-trainees-conference-2023-future-proofing/
LOCATION:Hallam Conference Centre 44 Hallam Street London W1W6JJ United Kingdom\, London\, United Kingdom
CATEGORIES:Conferences,Events in London,Free Events,Health,Health Education
ATTACH;FMTTYPE=image/jpeg:https://eventsforlondon.co.uk/wp-content/uploads/2023/07/London-Trainee-Network.jpeg
ORGANIZER;CN="London Trainee Network":MAILTO:https://www.londontraineenetwork.co.uk/
END:VEVENT
END:VCALENDAR