BEGIN:VCALENDAR
VERSION:2.0
PRODID:-//Events for LONDON - ECPv6.15.20//NONSGML v1.0//EN
CALSCALE:GREGORIAN
METHOD:PUBLISH
X-WR-CALNAME:Events for LONDON
X-ORIGINAL-URL:https://eventsforlondon.co.uk
X-WR-CALDESC:Events for Events for LONDON
REFRESH-INTERVAL;VALUE=DURATION:PT1H
X-Robots-Tag:noindex
X-PUBLISHED-TTL:PT1H
BEGIN:VTIMEZONE
TZID:Europe/London
BEGIN:DAYLIGHT
TZOFFSETFROM:+0000
TZOFFSETTO:+0100
TZNAME:BST
DTSTART:20200329T010000
END:DAYLIGHT
BEGIN:STANDARD
TZOFFSETFROM:+0100
TZOFFSETTO:+0000
TZNAME:GMT
DTSTART:20201025T010000
END:STANDARD
BEGIN:DAYLIGHT
TZOFFSETFROM:+0000
TZOFFSETTO:+0100
TZNAME:BST
DTSTART:20210328T010000
END:DAYLIGHT
BEGIN:STANDARD
TZOFFSETFROM:+0100
TZOFFSETTO:+0000
TZNAME:GMT
DTSTART:20211031T010000
END:STANDARD
BEGIN:DAYLIGHT
TZOFFSETFROM:+0000
TZOFFSETTO:+0100
TZNAME:BST
DTSTART:20220327T010000
END:DAYLIGHT
BEGIN:STANDARD
TZOFFSETFROM:+0100
TZOFFSETTO:+0000
TZNAME:GMT
DTSTART:20221030T010000
END:STANDARD
END:VTIMEZONE
BEGIN:VEVENT
DTSTART;TZID=Europe/London:20211209T140000
DTEND;TZID=Europe/London:20211212T150000
DTSTAMP:20260422T041817
CREATED:20211115T122205Z
LAST-MODIFIED:20211115T122205Z
UID:30058506-1639058400-1639321200@eventsforlondon.co.uk
SUMMARY:Come As You Are (Bring Art) Pop Up Gallery
DESCRIPTION:Affordable art\, just in time for Christmas!
URL:https://eventsforlondon.co.uk/event/come-as-you-are-bring-art-pop-up-gallery/
LOCATION:Filet\, 103 Murray Grove\, London\, N1 7QP
CATEGORIES:Arts,Crafts,Design,Digital Arts,Illustration,Photography,Sculpture,Visual Arts
ATTACH;FMTTYPE=image/jpeg:https://eventsforlondon.co.uk/wp-content/uploads/2021/11/Poster-Dec-21-CAYA-1.jpg
ORGANIZER;CN="Come As You Art":MAILTO:ComeAsYouAreContemporaryArt@gmail.com
GEO:51.5310799;-0.0884787
X-APPLE-STRUCTURED-LOCATION;VALUE=URI;X-ADDRESS=Filet 103 Murray Grove London N1 7QP;X-APPLE-RADIUS=500;X-TITLE=103 Murray Grove:geo:-0.0884787,51.5310799
END:VEVENT
END:VCALENDAR