BEGIN:VCALENDAR
VERSION:2.0
PRODID:-//Events for LONDON - ECPv6.15.20//NONSGML v1.0//EN
CALSCALE:GREGORIAN
METHOD:PUBLISH
X-ORIGINAL-URL:https://eventsforlondon.co.uk
X-WR-CALDESC:Events for Events for LONDON
REFRESH-INTERVAL;VALUE=DURATION:PT1H
X-Robots-Tag:noindex
X-PUBLISHED-TTL:PT1H
BEGIN:VTIMEZONE
TZID:Europe/London
BEGIN:DAYLIGHT
TZOFFSETFROM:+0000
TZOFFSETTO:+0100
TZNAME:BST
DTSTART:20240331T010000
END:DAYLIGHT
BEGIN:STANDARD
TZOFFSETFROM:+0100
TZOFFSETTO:+0000
TZNAME:GMT
DTSTART:20241027T010000
END:STANDARD
BEGIN:DAYLIGHT
TZOFFSETFROM:+0000
TZOFFSETTO:+0100
TZNAME:BST
DTSTART:20250330T010000
END:DAYLIGHT
BEGIN:STANDARD
TZOFFSETFROM:+0100
TZOFFSETTO:+0000
TZNAME:GMT
DTSTART:20251026T010000
END:STANDARD
BEGIN:DAYLIGHT
TZOFFSETFROM:+0000
TZOFFSETTO:+0100
TZNAME:BST
DTSTART:20260329T010000
END:DAYLIGHT
BEGIN:STANDARD
TZOFFSETFROM:+0100
TZOFFSETTO:+0000
TZNAME:GMT
DTSTART:20261025T010000
END:STANDARD
END:VTIMEZONE
BEGIN:VEVENT
DTSTART;VALUE=DATE:20250206
DTEND;VALUE=DATE:20250207
DTSTAMP:20260424T170343
CREATED:20241103T055453Z
LAST-MODIFIED:20241103T055453Z
UID:30085280-1738800000-1738886399@eventsforlondon.co.uk
SUMMARY:Savant London 2025 - Marketing Conference
DESCRIPTION:At Savant London 2025\, we’re introducing an exciting new track: Marketing as a Growth Catalyst\, which highlights marketing’s pivotal role in driving eCommerce success. In a world shaped by evolving customer behaviours\, the cookie-less era and AI marketing have transformed from a function into a powerful growth engine. Discover how cutting-edge strategies can fuel engagement and exponential growth. \nSimultaneously\, our Transformative eCommerce track delves into the latest innovations reshaping retail online and offline. Together\, these tracks offer a complete playbook for thriving in today’s digital landscape. \nJoin over 200 senior leaders—VPs\, Directors of e-commerce Marketing\, Digital Transformation\, CRM\, and Customer Experience from top UK retailers\, brands\, and manufacturers—as we explore the future of marketing and e-commerce with insights from industry experts. \n\nStrategic Leadership in Digital Lead the charge in digital disruption and turn marketing into your growth engine\nGlobal Insights Learn from global marketing successes across China\, Europe\, and the USA that have fueled eCommerce growth.\nTransformative Marketing Discover smart marketing investments that enhance market share\, foster customer loyalty\, and drive eCommerce success in the UK market\nNext-Gen eCommerce Tactics Uncover innovative eCommerce strategies tailored to the unique needs of UK consumers\, aligning marketing with growth objectives.\nLoyalty Reinvented Explore the latest trends and programs in customer loyalty designed specifically for the UK retail landscape.\nRetail Media Revolution Unlock marketing strategies that boost results and elevate your eCommerce performance.\n\nDon’t miss this opportunity to unlock the future of marketing and eCommerce at Savant London 2025!
URL:https://eventsforlondon.co.uk/event/savant-london-2025-marketing-conference/
LOCATION:Emirates Stadium\, Hornsey Rd\, London\, N7 7AJ
CATEGORIES:Business,Business Education,Business Opportunities,Conferences,Events in London,Networking,Organisations,Workshops
ATTACH;FMTTYPE=image/png:https://eventsforlondon.co.uk/wp-content/uploads/2024/10/1-1.png
ORGANIZER;CN="Savant Events":MAILTO:susan@savant-events.com
END:VEVENT
END:VCALENDAR