BEGIN:VCALENDAR
VERSION:2.0
PRODID:-//Events for LONDON - ECPv6.15.20//NONSGML v1.0//EN
CALSCALE:GREGORIAN
METHOD:PUBLISH
X-WR-CALNAME:Events for LONDON
X-ORIGINAL-URL:https://eventsforlondon.co.uk
X-WR-CALDESC:Events for Events for LONDON
REFRESH-INTERVAL;VALUE=DURATION:PT1H
X-Robots-Tag:noindex
X-PUBLISHED-TTL:PT1H
BEGIN:VTIMEZONE
TZID:Europe/London
BEGIN:DAYLIGHT
TZOFFSETFROM:+0000
TZOFFSETTO:+0100
TZNAME:BST
DTSTART:20230326T010000
END:DAYLIGHT
BEGIN:STANDARD
TZOFFSETFROM:+0100
TZOFFSETTO:+0000
TZNAME:GMT
DTSTART:20231029T010000
END:STANDARD
BEGIN:DAYLIGHT
TZOFFSETFROM:+0000
TZOFFSETTO:+0100
TZNAME:BST
DTSTART:20240331T010000
END:DAYLIGHT
BEGIN:STANDARD
TZOFFSETFROM:+0100
TZOFFSETTO:+0000
TZNAME:GMT
DTSTART:20241027T010000
END:STANDARD
BEGIN:DAYLIGHT
TZOFFSETFROM:+0000
TZOFFSETTO:+0100
TZNAME:BST
DTSTART:20250330T010000
END:DAYLIGHT
BEGIN:STANDARD
TZOFFSETFROM:+0100
TZOFFSETTO:+0000
TZNAME:GMT
DTSTART:20251026T010000
END:STANDARD
END:VTIMEZONE
BEGIN:VEVENT
DTSTART;TZID=Europe/London:20241213T190000
DTEND;TZID=Europe/London:20241213T220000
DTSTAMP:20260425T030106
CREATED:20241119T145820Z
LAST-MODIFIED:20241119T145820Z
UID:30085987-1734116400-1734127200@eventsforlondon.co.uk
SUMMARY:Silent Disco at the Crystal Palace Subway
DESCRIPTION:Silent Disco at the Crystal Palace Subway \nThe iconic Crystal Palace Subway\, hidden beneath Crystal Palace Parade for decades\, has reopened following an extensive restoration project. Now\, this magnificent Victorian structure will host one of its first-ever public events—a Silent Disco on Friday\, December 13th\, 2024\, from 7:00 PM to 10:00 PM. \nSilent Discos are revolutionising the way we experience music. Guests wear LED-lit headphones with three music channels\, allowing them to choose between three live DJs spinning genres ranging from pop hits to dance anthems with a sprinkle of festive classics for good measure. \nThis exclusive evening is brought to you by the team behind Silent Disco experiences at iconic locations such as the Natural History Museum and St Martin’s Crypt in central London and the SkyPark Observation Deck at Marina Bay Sands in Singapore. \nA licensed bar will be serving a range of alcoholic and non-alcoholic drinks\, as well as bar snacks\, popcorn\, and sweets. \nTickets are priced at £20 per ticket and are limited to 350 capacity.\nhttps://www.pelago.com/en-GB/activity/p8z42g9zi-subway-silent-disco-london \n  \nImportant Information: \nThe Crystal Palace Subway is a Victorian-listed building. Entry is via a stairwell with approximately 30 steps\, and wheelchair access is unavailable. Guests are encouraged to wear comfortable\, flat shoes to preserve the venue’s historic flooring; high heels will not be permitted.
URL:https://eventsforlondon.co.uk/event/silent-disco-at-the-crystal-palace-subway/
LOCATION:Crystal Palace Subway\, Crystal Palace Parade\, London\, SE19 1UA
CATEGORIES:Music
ATTACH;FMTTYPE=image/png:https://eventsforlondon.co.uk/wp-content/uploads/2024/11/CPSubway-Graphic-v5-1200x1200-1.png
END:VEVENT
END:VCALENDAR