BEGIN:VCALENDAR
VERSION:2.0
PRODID:-//Events for LONDON - ECPv6.15.20//NONSGML v1.0//EN
CALSCALE:GREGORIAN
METHOD:PUBLISH
X-WR-CALNAME:Events for LONDON
X-ORIGINAL-URL:https://eventsforlondon.co.uk
X-WR-CALDESC:Events for Events for LONDON
REFRESH-INTERVAL;VALUE=DURATION:PT1H
X-Robots-Tag:noindex
X-PUBLISHED-TTL:PT1H
BEGIN:VTIMEZONE
TZID:Europe/London
BEGIN:DAYLIGHT
TZOFFSETFROM:+0000
TZOFFSETTO:+0100
TZNAME:BST
DTSTART:20170326T010000
END:DAYLIGHT
BEGIN:STANDARD
TZOFFSETFROM:+0100
TZOFFSETTO:+0000
TZNAME:GMT
DTSTART:20171029T010000
END:STANDARD
BEGIN:DAYLIGHT
TZOFFSETFROM:+0000
TZOFFSETTO:+0100
TZNAME:BST
DTSTART:20180325T010000
END:DAYLIGHT
BEGIN:STANDARD
TZOFFSETFROM:+0100
TZOFFSETTO:+0000
TZNAME:GMT
DTSTART:20181028T010000
END:STANDARD
BEGIN:DAYLIGHT
TZOFFSETFROM:+0000
TZOFFSETTO:+0100
TZNAME:BST
DTSTART:20190331T010000
END:DAYLIGHT
BEGIN:STANDARD
TZOFFSETFROM:+0100
TZOFFSETTO:+0000
TZNAME:GMT
DTSTART:20191027T010000
END:STANDARD
END:VTIMEZONE
BEGIN:VEVENT
DTSTART;TZID=Europe/London:20181215T140000
DTEND;TZID=Europe/London:20181215T233000
DTSTAMP:20260420T192217
CREATED:20181205T040853Z
LAST-MODIFIED:20181205T040853Z
UID:30047251-1544882400-1544916600@eventsforlondon.co.uk
SUMMARY:THTC x Club 33 Christmas Warehouse Social
DESCRIPTION:After a year off\, the THTC Christmas Rave returns. Transporting ourselves from deep West London\, to the darkest East End of Club XXXIII\, we’ve bought even more friends. An entire day of last-minute Christmas shopping (with special offers) and entertainment\, with stalls from ourselves; Hempen\, the organic UK hemp collective; CBD Brothers\, the UK’s leading CBD specialists\, Hempress Rising\, culinary treats; and more to \nIn addition to servicing your retail needs\, we’ll also have some of the finest entertainment that we could afford at two-weeks notice. Our headliner is jungle don and sub-culture legend\, Micky Finn\, supported by festival lovechild and DnB remix bad man\, Danny Wav; Hollywood star Josh Whitehouse will be playing an acoustic set with famed rapper\, Lazy Habits; beatbox warriors\, Kimmy & Beatfox aka Breathless; World Team Beatbox champions The Beatbox Collective \nBut wait – there’s more! In the spirit of the famed BBC Christmas Lectures\, we’re gathering the some of the UK’s leading activists and academics from the fields of psychedelic medicine\, drug policy reform and hemp to present a unique panel discussion\, ‘Resolutions for Revolution’ – an eye-opening and empowering look at how ordinary folk can educate and organise their communities to provide a socially sustainable alternative to the ‘War on Drugs’. \nFeaturing: Stephen Reid (The Psychedelic Society UK\, ex-Greenpeace\, Climate Camp\, New Economics Foundation); Jason Reed\, (Executive Director of LEAP UK\, representing law enforcement officers against prohibition)\, and members from the British Hemp Association. \nBYOB – While Club 33 is a private members club\, alcohol cannot be sold on the premises. However\, you are welcome and encouraged to bring a bottle or a few cans with you. Drinks\, refreshments and superb coffee are all available from the club shop
URL:https://eventsforlondon.co.uk/event/thtc-x-club-33-christmas-warehouse-social/
LOCATION:Club 33\, THTC Clothing\, 15A Princes Ave\, London\, E9\, United Kingdom
CATEGORIES:Christmas Events,Christmas Shopping,Dance,Films,Live Music,Music
ATTACH;FMTTYPE=image/jpeg:https://eventsforlondon.co.uk/wp-content/uploads/2018/12/Christmas-Warehouse-Party-v3.jpg
ORGANIZER;CN="THTC Clothing":MAILTO:ashwin@thtc.co.uk
GEO:51.500013;-0.280893
X-APPLE-STRUCTURED-LOCATION;VALUE=URI;X-ADDRESS=Club 33 THTC Clothing 15A Princes Ave London E9 United Kingdom;X-APPLE-RADIUS=500;X-TITLE=THTC Clothing\, 15A Princes Ave:geo:-0.280893,51.500013
END:VEVENT
END:VCALENDAR