BEGIN:VCALENDAR
VERSION:2.0
PRODID:-//Events for LONDON - ECPv6.15.20//NONSGML v1.0//EN
CALSCALE:GREGORIAN
METHOD:PUBLISH
X-ORIGINAL-URL:https://eventsforlondon.co.uk
X-WR-CALDESC:Events for Events for LONDON
REFRESH-INTERVAL;VALUE=DURATION:PT1H
X-Robots-Tag:noindex
X-PUBLISHED-TTL:PT1H
BEGIN:VTIMEZONE
TZID:Europe/London
BEGIN:DAYLIGHT
TZOFFSETFROM:+0000
TZOFFSETTO:+0100
TZNAME:BST
DTSTART:20240331T010000
END:DAYLIGHT
BEGIN:STANDARD
TZOFFSETFROM:+0100
TZOFFSETTO:+0000
TZNAME:GMT
DTSTART:20241027T010000
END:STANDARD
BEGIN:DAYLIGHT
TZOFFSETFROM:+0000
TZOFFSETTO:+0100
TZNAME:BST
DTSTART:20250330T010000
END:DAYLIGHT
BEGIN:STANDARD
TZOFFSETFROM:+0100
TZOFFSETTO:+0000
TZNAME:GMT
DTSTART:20251026T010000
END:STANDARD
BEGIN:DAYLIGHT
TZOFFSETFROM:+0000
TZOFFSETTO:+0100
TZNAME:BST
DTSTART:20260329T010000
END:DAYLIGHT
BEGIN:STANDARD
TZOFFSETFROM:+0100
TZOFFSETTO:+0000
TZNAME:GMT
DTSTART:20261025T010000
END:STANDARD
END:VTIMEZONE
BEGIN:VEVENT
DTSTART;TZID=Europe/London:20251104T183000
DTEND;TZID=Europe/London:20251104T210000
DTSTAMP:20260425T145720
CREATED:20251031T085117Z
LAST-MODIFIED:20251031T085117Z
UID:30110203-1762281000-1762290000@eventsforlondon.co.uk
SUMMARY:Slice and Stick Workshop
DESCRIPTION:Join us on the terrace for an evening of art and Circus pizza\, as the foremost expert of Collage art\, Jeremy Newman\, reveals the secret to iconic original artwork. Using vintage magazines and hand tools\, you will\, by the end of the evening\, have created something worth hanging on the wall. An endless stream of pizza will be on hand to keep you nourished as you create to your hearts content.
URL:https://eventsforlondon.co.uk/event/slice-and-stick-workshop/
LOCATION:Circus Pizza\, 13-19 Circus Road\, London\, NW8 6PB
CATEGORIES:Crafts,Food Tasting
ATTACH;FMTTYPE=image/png:https://eventsforlondon.co.uk/wp-content/uploads/2025/10/Screenshot-2025-10-27-at-13.50.35.png
END:VEVENT
END:VCALENDAR