BEGIN:VCALENDAR
VERSION:2.0
PRODID:-//Events for LONDON - ECPv6.15.20//NONSGML v1.0//EN
CALSCALE:GREGORIAN
METHOD:PUBLISH
X-ORIGINAL-URL:https://eventsforlondon.co.uk
X-WR-CALDESC:Events for Events for LONDON
REFRESH-INTERVAL;VALUE=DURATION:PT1H
X-Robots-Tag:noindex
X-PUBLISHED-TTL:PT1H
BEGIN:VTIMEZONE
TZID:Europe/London
BEGIN:DAYLIGHT
TZOFFSETFROM:+0000
TZOFFSETTO:+0100
TZNAME:BST
DTSTART:20200329T010000
END:DAYLIGHT
BEGIN:STANDARD
TZOFFSETFROM:+0100
TZOFFSETTO:+0000
TZNAME:GMT
DTSTART:20201025T010000
END:STANDARD
BEGIN:DAYLIGHT
TZOFFSETFROM:+0000
TZOFFSETTO:+0100
TZNAME:BST
DTSTART:20210328T010000
END:DAYLIGHT
BEGIN:STANDARD
TZOFFSETFROM:+0100
TZOFFSETTO:+0000
TZNAME:GMT
DTSTART:20211031T010000
END:STANDARD
BEGIN:DAYLIGHT
TZOFFSETFROM:+0000
TZOFFSETTO:+0100
TZNAME:BST
DTSTART:20220327T010000
END:DAYLIGHT
BEGIN:STANDARD
TZOFFSETFROM:+0100
TZOFFSETTO:+0000
TZNAME:GMT
DTSTART:20221030T010000
END:STANDARD
END:VTIMEZONE
BEGIN:VEVENT
DTSTART;TZID=Europe/London:20211010T193000
DTEND;TZID=Europe/London:20211010T220000
DTSTAMP:20260422T105419
CREATED:20210907T104619Z
LAST-MODIFIED:20210907T104620Z
UID:30058269-1633894200-1633903200@eventsforlondon.co.uk
SUMMARY:Lourdes Fernández Flamenco Show in London
DESCRIPTION:Flamenco Show in London\nRaíces is a new touring flamenco show by the acclaimed flamenco dancer\, Lourdes Fernandez. Live flamenco is back at the Peña Flamenca de Londres! \nA favourite with peña audiences\, Lourdes Fernández emerges from lockdown with this unique show\, Raíces (‘roots’). The roots of flamenco\, with a modern twist. \nLourdes will be joined by a guitarist Adrián Solá\, percussionist Demi García-Sabat\, violinist Fuensanta Zambrana-Ruíz and up-and-coming flamenco singer Mónica García. \nTickets £10 members and £14 non-members here on Eventbrite.
URL:https://eventsforlondon.co.uk/event/flamenco-show-in-london/
LOCATION:Church Hall of the Holy Apostles\, Cumberland Street\, Pimlico\, London SW1V 4LY\, Cumberland Street\, London\, SW1V 4LY
CATEGORIES:Arts,Dance,Events in London,London Theatre,Society
ATTACH;FMTTYPE=image/jpeg:https://eventsforlondon.co.uk/wp-content/uploads/2021/09/DSC6459-e1631011251999.jpg
ORGANIZER;CN="Pena Flamenca de Londres (London's Flamenco Club)":MAILTO:info@flamenco-london.org.uk
GEO:51.4880508;-0.1430717
X-APPLE-STRUCTURED-LOCATION;VALUE=URI;X-ADDRESS=Church Hall of the Holy Apostles Cumberland Street Pimlico London SW1V 4LY Cumberland Street London SW1V 4LY;X-APPLE-RADIUS=500;X-TITLE=Cumberland Street:geo:-0.1430717,51.4880508
END:VEVENT
END:VCALENDAR