BEGIN:VCALENDAR
VERSION:2.0
PRODID:-//Events for LONDON - ECPv6.15.20//NONSGML v1.0//EN
CALSCALE:GREGORIAN
METHOD:PUBLISH
X-ORIGINAL-URL:https://eventsforlondon.co.uk
X-WR-CALDESC:Events for Events for LONDON
REFRESH-INTERVAL;VALUE=DURATION:PT1H
X-Robots-Tag:noindex
X-PUBLISHED-TTL:PT1H
BEGIN:VTIMEZONE
TZID:Europe/London
BEGIN:DAYLIGHT
TZOFFSETFROM:+0000
TZOFFSETTO:+0100
TZNAME:BST
DTSTART:20220327T010000
END:DAYLIGHT
BEGIN:STANDARD
TZOFFSETFROM:+0100
TZOFFSETTO:+0000
TZNAME:GMT
DTSTART:20221030T010000
END:STANDARD
BEGIN:DAYLIGHT
TZOFFSETFROM:+0000
TZOFFSETTO:+0100
TZNAME:BST
DTSTART:20230326T010000
END:DAYLIGHT
BEGIN:STANDARD
TZOFFSETFROM:+0100
TZOFFSETTO:+0000
TZNAME:GMT
DTSTART:20231029T010000
END:STANDARD
BEGIN:DAYLIGHT
TZOFFSETFROM:+0000
TZOFFSETTO:+0100
TZNAME:BST
DTSTART:20240331T010000
END:DAYLIGHT
BEGIN:STANDARD
TZOFFSETFROM:+0100
TZOFFSETTO:+0000
TZNAME:GMT
DTSTART:20241027T010000
END:STANDARD
END:VTIMEZONE
BEGIN:VEVENT
DTSTART;TZID=Europe/London:20230225T130000
DTEND;TZID=Europe/London:20230225T170000
DTSTAMP:20260425T010702
CREATED:20230213T115811Z
LAST-MODIFIED:20230213T122600Z
UID:30059902-1677330000-1677344400@eventsforlondon.co.uk
SUMMARY:A Ladies’ Afternoon Tea & Wellness Seminar
DESCRIPTION:Communi-Tea’s Winter Health Event focuses on the importance of self-care\, wellness\, fitness\, and healthy eating! Join us to spend time with like-minded women and enjoy an afternoon tea! \nThere will be a variety of workshops available for attendees to choose from\, each aimed at helping to improve different aspects of your life: \n\nNutrition: Learn to cook a new dish with Shazia Gaffar! She will be providing nutritional advice along with the opportunity to learn how to cook a new dish. You will gain an in-depth understanding of the importance of making healthy choices when cooking and eating.\n\nFitness: Azma & Zahra will be offering the opportunity to try kickboxing or pilates. This is a great way for you to explore new forms of enjoyable physical activity. Azma and Zahra will offer advice and tips on how to stay motivated; making exercise a regular part of your routine.\n\nHealth Coaching: A health coach will be available to provide support and guidance on goal-setting\, motivation strategies\, and problem-solving techniques.\n\nTalk Wandsworth: Receive support and access to resources that can help you manage stress\, anxiety\, or other mental health concerns.\n\nHairstyling: A certified hairstylist will be on-site to offer an opportunity to learn tips and tricks for styling and maintaining healthy hair.\n\nSpeaker: Inspiring poetry by Zaynab Mufti\n\n\n\n\n\n\n\n\n\n\n\n\n\nPlease Note: This is women’s only event. Open to ages: 13+\n(No one under 13 years old will be permitted)\n\n\n\n\n\nFree Entry!\n\n\n\n(Please consider donating) \n\n\n\nBook Tickets Here: https://www.eventbrite.co.uk/e/a-ladies-afternoon-tea-wellness-seminar-tickets-518229226567\n\n\n\n\n\n  \nEveryone who donates will be entered into a raffle prize drawing! \nAll proceeds will be donated to the ICEC Food Bank
URL:https://eventsforlondon.co.uk/event/a-ladies-afternoon-tea-wellness-seminar/
LOCATION:Caius House\, 2 Holman Road\, London\, SW11 3RL
CATEGORIES:Beauty,Charity Events,Cheap Tickets,Community Events,Conversation,Events in London,Fitness,Food Tasting,Free Events,Fundraisers,Health Education,Health Services,Networking,People,Seminars,Women,Women's Health
ATTACH;FMTTYPE=image/png:https://eventsforlondon.co.uk/wp-content/uploads/2023/02/Flyer-Communi-Tea_Color-V02-e1676289458451.png
ORGANIZER;CN="ICEC":MAILTO:info@icecbattersea.org.uk
GEO:51.470498;-0.1764056
X-APPLE-STRUCTURED-LOCATION;VALUE=URI;X-ADDRESS=Caius House 2 Holman Road London SW11 3RL;X-APPLE-RADIUS=500;X-TITLE=2 Holman Road:geo:-0.1764056,51.470498
END:VEVENT
END:VCALENDAR