BEGIN:VCALENDAR
VERSION:2.0
PRODID:-//Events for LONDON - ECPv6.15.20//NONSGML v1.0//EN
CALSCALE:GREGORIAN
METHOD:PUBLISH
X-WR-CALNAME:Events for LONDON
X-ORIGINAL-URL:https://eventsforlondon.co.uk
X-WR-CALDESC:Events for Events for LONDON
REFRESH-INTERVAL;VALUE=DURATION:PT1H
X-Robots-Tag:noindex
X-PUBLISHED-TTL:PT1H
BEGIN:VTIMEZONE
TZID:Europe/London
BEGIN:DAYLIGHT
TZOFFSETFROM:+0000
TZOFFSETTO:+0100
TZNAME:BST
DTSTART:20220327T010000
END:DAYLIGHT
BEGIN:STANDARD
TZOFFSETFROM:+0100
TZOFFSETTO:+0000
TZNAME:GMT
DTSTART:20221030T010000
END:STANDARD
BEGIN:DAYLIGHT
TZOFFSETFROM:+0000
TZOFFSETTO:+0100
TZNAME:BST
DTSTART:20230326T010000
END:DAYLIGHT
BEGIN:STANDARD
TZOFFSETFROM:+0100
TZOFFSETTO:+0000
TZNAME:GMT
DTSTART:20231029T010000
END:STANDARD
BEGIN:DAYLIGHT
TZOFFSETFROM:+0000
TZOFFSETTO:+0100
TZNAME:BST
DTSTART:20240331T010000
END:DAYLIGHT
BEGIN:STANDARD
TZOFFSETFROM:+0100
TZOFFSETTO:+0000
TZNAME:GMT
DTSTART:20241027T010000
END:STANDARD
END:VTIMEZONE
BEGIN:VEVENT
DTSTART;TZID=Europe/London:20231116T193000
DTEND;TZID=Europe/London:20231116T230000
DTSTAMP:20260421T221336
CREATED:20231115T020357Z
LAST-MODIFIED:20231115T020428Z
UID:30061638-1700163000-1700175600@eventsforlondon.co.uk
SUMMARY:Talulah Ruby: A Night of Music and Artistry at BritYard's Hidden Gem
DESCRIPTION:BritYard is thrilled to present the incredible Talulah Ruby in a live performance on Thursday\, November 16th 2023\, starting at 7:30 pm. Recently described by Resident Advisor as possessing “a powerful and dynamic vocal style which remains at the forefront of her music\,” Talulah Ruby is set to captivate the audience with her unique sound and emotionally charged performances: \n\n\n\n\nDate: Thursday\, November 16th\, 2023\n\n\n\nTime: 7:30 pm onwards\n\n\n\nLocation: BritYard\, 310-312 Remo House\, Regent Street\, London\n\n\n\n\nTalulah’s artistry seamlessly blends the raw beauty of contrasting terrains – from the stark lava-scapes of Lanzarote to the bustling urban jungle of London. Talulah’s EP\, ‘Hyperdrive\,’ is a fearless labour of love that reflects her philosophy of “Stillness in movement\, movement in stillness.” Her compositions\, such as ‘Feature In A Film\,’ reveal a deep care for her craft\, offering a sonic odyssey resonating with genuine emotions and meticulous craftsmanship. Talulah Ruby’s performance promises an evening of musical enchantment and introspection\, making her a must-see act at BritYard’s Hidden Gem. \n\n\n\nHome to London’s first British wine and spirits bar\, BritYard’s guests will have the opportunity to enjoy a curated selection of drinks from exceptional partners: The culinary experience will be elevated with the world’s greatest cheese toasties\, tasting boards\, and fondue from the fabulous The Cheese Geek UK. Join Talulah Ruby for a night of musical enchantment\, artisan delights\, and a celebration of the very best of British craftsmanship. We look forward to welcoming you to this extraordinary event!
URL:https://eventsforlondon.co.uk/event/talulah-ruby-a-night-of-music-and-artistry-at-brityards-hidden-gem/
LOCATION:BritYard\, 310-312 Remo House\, Regent Street\, London\, W1B 3AU
CATEGORIES:Arts,Cheap Tickets,Concerts,Events in London,Food & Drink,Gigs,Live Music,Music,Shopping
ATTACH;FMTTYPE=image/jpeg:https://eventsforlondon.co.uk/wp-content/uploads/2023/11/Talulah-Ruby-16923.jpeg
END:VEVENT
END:VCALENDAR