BEGIN:VCALENDAR
VERSION:2.0
PRODID:-//Events for LONDON - ECPv6.15.20//NONSGML v1.0//EN
CALSCALE:GREGORIAN
METHOD:PUBLISH
X-ORIGINAL-URL:https://eventsforlondon.co.uk
X-WR-CALDESC:Events for Events for LONDON
REFRESH-INTERVAL;VALUE=DURATION:PT1H
X-Robots-Tag:noindex
X-PUBLISHED-TTL:PT1H
BEGIN:VTIMEZONE
TZID:Europe/London
BEGIN:DAYLIGHT
TZOFFSETFROM:+0000
TZOFFSETTO:+0100
TZNAME:BST
DTSTART:20240331T010000
END:DAYLIGHT
BEGIN:STANDARD
TZOFFSETFROM:+0100
TZOFFSETTO:+0000
TZNAME:GMT
DTSTART:20241027T010000
END:STANDARD
BEGIN:DAYLIGHT
TZOFFSETFROM:+0000
TZOFFSETTO:+0100
TZNAME:BST
DTSTART:20250330T010000
END:DAYLIGHT
BEGIN:STANDARD
TZOFFSETFROM:+0100
TZOFFSETTO:+0000
TZNAME:GMT
DTSTART:20251026T010000
END:STANDARD
BEGIN:DAYLIGHT
TZOFFSETFROM:+0000
TZOFFSETTO:+0100
TZNAME:BST
DTSTART:20260329T010000
END:DAYLIGHT
BEGIN:STANDARD
TZOFFSETFROM:+0100
TZOFFSETTO:+0000
TZNAME:GMT
DTSTART:20261025T010000
END:STANDARD
BEGIN:DAYLIGHT
TZOFFSETFROM:+0000
TZOFFSETTO:+0100
TZNAME:BST
DTSTART:20270328T010000
END:DAYLIGHT
BEGIN:STANDARD
TZOFFSETFROM:+0100
TZOFFSETTO:+0000
TZNAME:GMT
DTSTART:20271031T010000
END:STANDARD
END:VTIMEZONE
BEGIN:VEVENT
DTSTART;TZID=Europe/London:20251031T100000
DTEND;TZID=Europe/London:20260116T170000
DTSTAMP:20260425T033517
CREATED:20251117T042328Z
LAST-MODIFIED:20251117T042328Z
UID:30111764-1761904800-1768582800@eventsforlondon.co.uk
SUMMARY:'Breathing' with 'Breaths - Air Bladders'
DESCRIPTION:Filomena Borecká’s captivating artwork Breaths – Air Bladders invites visitors to experience the shared act of breathing and reflect on our interconnection with the living world. \nSparked by the global awareness of breath during the COVID-19 pandemic\, and blending art\, science and sensorial experience\, the exhibition curated by Judith Rainhorn and Charles-Antoine Wanecq explores the cultural\, social\, and scientific histories of respiration from the 18th century to today. Drawing on the outcomes of two interdisciplinary workshops\, it brings together perspectives from historians\, scientists\, artists\, and healthcare professionals. Central to the exhibition is Borecká’s participatory sculpture Breaths – Air Bladders\,which transforms a fundamental act of life into a sensorial\, collective\, and thought-provoking experience. \nFilomena Borecká is an artist and researcher\, PhD (University Paris 1 Panthéon–Sorbonne\, 2023)\, and graduate of the École nationale supérieure des Beaux-Arts in Paris (2004)\, with an exchange at MFA Hunter College in New York. She works primarily in France but has also created in Prague and New York\, with each place leaving its imprint on her practice\, which unfolds in three parallel and interrelated threads: performance\, (sound) sculpture\, and drawing. Her drawings\, reminiscent of seismographs\, engage in a dialogue with their environment. Recent exhibitions include Maison française d’Oxford\, National Gallery Prague\, CACLB Luxembourg\, Círculo de Bellas Artes Madrid\, and Queens College Art Center New York. Borecká collaborates with the Chair in Health in Human and Social Sciences and with the ACTE Institute at Sorbonne University Paris 1. \nBreaths – Air Bladders\nFor several years\, Filomena Borecká has created artworks that invite connection and reflection on what sustains life: the invisible air. Breaths – Air Bladders\, co-created with set designer Bruno Dubois\, comes alive in the presence of viewers as air-filled forms expand and contract. The work draws on a childhood memory from Christmas Eve: while preparing carp\, Borecká recalls seeing two irregular air bladders — organs that help the fish float and\, in a child’s imagination\, embody its “soul.” This memory anchors an artwork that explores breath as both literal and metaphorical\, a vital rhythm binding us to each other and to the living world we share. \n\nEXHIBITION OPENING\nFriday 31 October 2025\, 6 – 7.30 pm  \nFree entry\, REGISTER NOW\nJoint Private View with Silent Systems: Breathing Devices\nEXHIBITION DATES: 31 October 2025 – 16 January 2026\nVENUE\nBouda Gallery\, Czech Centre London\n132 Palace Gardens Terrace\, London W8 4RT\nOPENING HOURS:\nTue – Fri 10am – 5pm\n\nImage: ‘Breaths – Air Bladders’\, Filomena Borecká\, photo Bruno Dubois
URL:https://eventsforlondon.co.uk/event/breathing-with-breaths-air-bladders/
LOCATION:Bouda Gallery\, 132 Palace Gardens Terrace\, London\, W8 4RT
CATEGORIES:Arts,Cheap Tickets,Events in London,Exhibitions
ATTACH;FMTTYPE=image/jpeg:https://eventsforlondon.co.uk/wp-content/uploads/2025/11/Screenshot-2025-11-14-at-16.55.35.jpg
ORGANIZER;CN="Czech Centre":MAILTO:blues@czechcentre.org.uk
END:VEVENT
BEGIN:VEVENT
DTSTART;TZID=Europe/London:20250912T183000
DTEND;TZID=Europe/London:20250912T200000
DTSTAMP:20260425T033517
CREATED:20250821T160328Z
LAST-MODIFIED:20250821T160328Z
UID:30104986-1757701800-1757707200@eventsforlondon.co.uk
SUMMARY:Design and Transformation. PRIVATE VIEW
DESCRIPTION:The exhibition showcases 30 years of creativity\, innovation\, and change. Discover 6 inspiring Czech companies\, iconic products\, and fresh perspectives on how design shapes our lives—from timeless objects to virtual experiences. Short films and behind-the-scenes stories bring it all to life. \n\nDesign and Transformation: Stories of Czech Design 1990–2020reveals how Czech design has evolved over the last three decades—from iconic material objects to new virtual and strategic forms. This exhibition highlights 6 remarkable companies and projects that show how collaboration with leading Czech and international designers has shaped everything from timeless glassware to innovative technologies. Visitors will discover the rich stories behind these brands\, explore the shifting role of design amid social change\, and see how today’s designers tackle technological\, environmental\, and ethical challenges. Short films created by a team of filmmakers and students bring these stories to life with a fresh perspective on what Czech design means today. \nThe exhibition is complemented by an outdoor photography display by Vojtěch Veškrna\, installed in the public space outside the Czech Embassy. \nwww.d-and-t.cz \nCurated by Tereza Vernerová Volná\nGraphic design by Tereza Saitzová\nShort Films: Collective of artists from UMPRUM and AMU under the direction of Michaela Režová\nPhoto Exhibition: Vojtěch Veškrna\nInstallation by Mikuláš Procházka   \n\nEXHIBITION OPENING\nFriday 12 September\, 18.30 – 20.30  \nFree entry\, REGISTER HERE\nEXHIBITION DATES: 13 September – 24 October 2025\nVENUE\nBouda Gallery\, Czech Centre London\n132 Palace Gardens Terrace\, London W8 4RT\nOPENING HOURS:\nTue – Fri 10am – 5pm\nSat 13\, Sun 14 and Mon 15 September – 11am – 5pm\n\nCorganised by the Czech Centre London and the Academy of Arts\, Architecture and Design in Prague UMPRUM.
URL:https://eventsforlondon.co.uk/event/design-and-transformation-private-view/
LOCATION:Bouda Gallery\, 132 Palace Gardens Terrace\, London\, W8 4RT
CATEGORIES:Arts,Events in London,Exhibitions,Family Activities,Music
ATTACH;FMTTYPE=image/jpeg:https://eventsforlondon.co.uk/wp-content/uploads/2025/08/c13aa633ef6cfb644ebdc9cfd185b94c-1.jpg
ORGANIZER;CN="Czech Centre":MAILTO:blues@czechcentre.org.uk
END:VEVENT
BEGIN:VEVENT
DTSTART;TZID=Europe/London:20250912T100000
DTEND;TZID=Europe/London:20251024T170000
DTSTAMP:20260425T033517
CREATED:20250815T124653Z
LAST-MODIFIED:20250815T124653Z
UID:30104967-1757671200-1761325200@eventsforlondon.co.uk
SUMMARY:Design and Transformation. Stories of Czech Design 1990-2020 - Exhibition
DESCRIPTION:The exhibition showcases 30 years of creativity\, innovation\, and change. Discover 6 inspiring Czech companies\, iconic products\, and fresh perspectives on how design shapes our lives—from timeless objects to virtual experiences. Short films and behind-the-scenes stories bring it all to life. \n\nDesign and Transformation: Stories of Czech Design 1990–2020reveals how Czech design has evolved over the last three decades—from iconic material objects to new virtual and strategic forms. This exhibition highlights 6 remarkable companies and projects that show how collaboration with leading Czech and international designers has shaped everything from timeless glassware to innovative technologies. Visitors will discover the rich stories behind these brands\, explore the shifting role of design amid social change\, and see how today’s designers tackle technological\, environmental\, and ethical challenges. Short films created by a team of filmmakers and students bring these stories to life with a fresh perspective on what Czech design means today. \nThe exhibition is complemented by an outdoor photography display by Vojtěch Veškrna\, installed in the public space outside the Czech Embassy. \nwww.d-and-t.cz \nCurated by Tereza Vernerová Volná\nGraphic design by Tereza Saitzová\nShort Films: Collective of artists from UMPRUM and AMU under the direction of Michaela Režová\nPhoto Exhibition: Vojtěch Veškrna\nInstallation by Mikuláš Procházka   \n\nEXHIBITION OPENING\nFriday 12 September\, 18.30 – 20.30  \nFree entry\, REGISTER HERE\nEXHIBITION DATES: 13 September – 24 October 2025\nVENUE\nBouda Gallery\, Czech Centre London\n132 Palace Gardens Terrace\, London W8 4RT\nOPENING HOURS:\nTue – Fri 10am – 5pm\nSat 13\, Sun 14 and Mon 15 September – 11am – 5pm\n\nCorganised by the Czech Centre London and the Academy of Arts\, Architecture and Design in Prague UMPRUM. \nPart of London Design Festival.  
URL:https://eventsforlondon.co.uk/event/design-and-transformation-stories-of-czech-design-1990-2020-exhibition/
LOCATION:Bouda Gallery\, 132 Palace Gardens Terrace\, London\, W8 4RT
CATEGORIES:Design
ATTACH;FMTTYPE=image/jpeg:https://eventsforlondon.co.uk/wp-content/uploads/2025/08/c13aa633ef6cfb644ebdc9cfd185b94c.jpg
ORGANIZER;CN="Czech Centre":MAILTO:blues@czechcentre.org.uk
END:VEVENT
BEGIN:VEVENT
DTSTART;TZID=Europe/London:20250809T190000
DTEND;TZID=Europe/London:20250809T210000
DTSTAMP:20260425T033517
CREATED:20250801T101927Z
LAST-MODIFIED:20250801T101927Z
UID:30103581-1754766000-1754773200@eventsforlondon.co.uk
SUMMARY:The Sun Can Be: An IPLA Collective Exhibition — Opening Night and Special View
DESCRIPTION:Join us for the Opening Night and Special View of The Sun Can Be\, an exhibition by the IPLA Collective. This special evening will feature live performances and readings by the exhibiting artists alongside guest poet and performer Tim Postovit\, celebrating cross-cultural collaboration and international innovation. Expect an inspiring night of experimental poetry\, text art and live performance from David Spittle\, Aimae Nimmo\, Matthew Sokulsky\, Danica Ignacio\, Eleanor Wilders\, Cameron Wade and more to be announced. \nAbout Tim Postovit\nTim Postovit is a Czech poet\, performer\, and translator of Ukrainian origin. Born in Ukraine\, he has lived in the Czech Republic since childhood and studied philology at Charles University in Prague. He is the author of the acclaimed poetry collections Magistrála (2019) and Motýlí pavilon (2021)\, a slam poetry champion\, and an active member of the Czech Writers Association. He currently works supporting the Ukrainian community through the Organization for Aid to Refugees (OPU) in Prague. \nAbout the Exhibition\nThe Sun Can Be showcases new work by four young British-based poets — Cameron Wade\, Danica Ignacio\, Eleanor Wilders\, and Matthew Sokulsky — working across visual poetry\, experimental text\, asemic writing\, and text art. From multimedia installations and prose-puzzle poems to typewriter art and calligrams inspired by Surrealism\, the exhibition explores the materiality of language and the shifting nature of reality. \nFurther Events\nThe exhibition runs until 5 September 2025 and includes a series of accompanying evenings of live performance: \n\nIPLA and Friends — Thursday 14 August\, 7–9pm\nPlus additional events on 16\, 21\, 23\, 28\, and 30 August\, 7–9pm\nAll events are free\, no registration required.\n\nSAFE(R) SPACES\nThe Sun Can Be\, an exhibition by IPLA Collective\, is the Czech Centre’s Summer Artistic Residency — a pilot project offering a safe and supportive space for local artists and the community. It is part of SAFE(R) SPACES. Out There And Within\, a network initiative organised by the Czech Centres.
URL:https://eventsforlondon.co.uk/event/the-sun-can-be-an-ipla-collective-exhibition-opening-night-and-special-view/
LOCATION:Bouda Gallery\, 132 Palace Gardens Terrace\, London\, W8 4RT
CATEGORIES:Arts,Free Events,Poetry
ATTACH;FMTTYPE=image/jpeg:https://eventsforlondon.co.uk/wp-content/uploads/2025/07/opening-9-aug-image-e1754043558513.jpg
ORGANIZER;CN="Czech Centre":MAILTO:blues@czechcentre.org.uk
END:VEVENT
BEGIN:VEVENT
DTSTART;TZID=Europe/London:20250809T120000
DTEND;TZID=Europe/London:20250905T170000
DTSTAMP:20260425T033517
CREATED:20250729T191007Z
LAST-MODIFIED:20250729T191007Z
UID:30103186-1754740800-1757091600@eventsforlondon.co.uk
SUMMARY:The Sun Can Be: An IPLA Collective Exhibition
DESCRIPTION:The Sun Can Be: an IPLA collective exhibition\, showcases the works of four young British-based poets operating in the fields of visual poetry\, experimental textual poetry\, text art\, and the asemic. \n\nThe works of the exhibition range from multimedia poetry\, self-portraiture\, and 3D poetry to typewriter art\, lino print\, and a prose-puzzle poem series exhibiting material\, form and method as conveyors of shifting\, alternate realities. From a triptych of calligrams that echo the Surrealism of Guillaume Apollinaire to a series of text art pieces\, to conceptual poetry that reinterprets perspective. The Sun Can Be expands on these themes through unconventional and diversified aesthetics that redefine traditional poetry\, and serves as a translation of the artistic intentions of the IPLA poets. \nhttps://inparentheses.cargo.site | Instagram \nIPLA Artists\nCameron Wade\nCameron Wade is a writer and poet based in London. His work explores the nature of storytelling\, the relationship between inner and outer realities\, non-linear storytelling\, and themes of madness\, ‘other’-spaces\, the eerie and the weird; experimenting with ergodic literature and meta-textuality through fiction\, prose-poetry\, visual and asemic poetry\, collage and performance. \nDanica Ignacio\nDanica Ignacio is a Filipino poet whose writing focuses on the juxtaposition of the ordinary and the non-ordinary by giving importance to the small. Mainly taking from more traditional forms of poetry\, her work aims to morph the everyday experience just enough to be unrecognisable while still maintaining its form. \nEleanor Wilders\nEleanor Wilders finds inspiration from the ignored details of routine and from the in-betweens of the everyday experience\, she crafts stories that question our assumptions about connection\, purpose\, and freedom. Her artistic practice leads to an exploration of exposure in today’s society; her work tries to confront the paradox of vulnerability in an age of hyper-connectivity\, whilst grappling with the tension between authenticity and public persona. \nMatthew Sokulsky\nMatthew Sokulsky is concerned with the tense relationship between nature and rational\, theology and logic\, and their ability (or not) to co-exist in the contemporary. His work experiments with traditional forms to create decidedly new poetry that at once exemplifies modernity while recognising the rich vein of myth and ritual to which he believes all poetry fixes its base. \n\nOpening hours:\nThe gallery will be opened to the public 12 noon to 5pm every Wednesday to Saturday \nOpening Night and Special View\nSaturday 9 August 2025\, 7-9pm / Bouda Gallery\nThe exhibition opens on 9 August with a special event featuring Tim Postovit\, a Czech poet\, performer\, and translator of Ukrainian origin. \nCelebrating cross-culture collaboration and international innovation the event will also include live performances by David Spittle\, Aimae Nimmo\, Matthew Sokulsky\, Danica Ignacio\, Eleanor Wilders\, Cameron Wade and many more to be announced. \nAbout Tom Postovit\nTim Postovit was born in Ukraine and has lived in the Czech Republic since the age of six. He studied philology at Charles University in Prague. He translates from Ukrainian and Russian. In 2019\, he published his debut collection of poems\, Magistrála (Highway). A poem from this book has been featured in the annual Best Czech Poetry anthology. He also performs slam poetry and holds the 2019 joint title for duo slam poetry. In 2021\, his second poetry collection came-out Motýlí pavilon (The Butterfly Pavilion). In 2022\, he was nominated for Václav Burian Prize. From 2022\, he has worked at Organization for Aid to Refugees (OPU) as a social worker for Ukrainian community. He is a member of a Czech Writers Association. He is based in Prague. \nIPLA and Friends.\nThursday August 14\, 2025\, 7-9pm / Bouda Gallery\nAn evening of experimental performance and readings from the IPLA Collective\, Simon Tyrell\, Irys Bird\, Oscar Sutherland-Dee\, Martin Wakefield and more to be announced! \nThe second event in the series features an array of bespoke new readings and performances including a world-first IPLA collaborative performance and poets travelling from across the country to read their brilliant new works for you at the historic Bouda Gallery. \nFurther accompanying events: \n\nAugust 16th\, 7 – 9 pm\nAugust 21st\, 7 – 9 pm\nAugust 23rd\, 7 – 9 pm\nAugust 28th\, 7 – 9 pm\nAugust 30th\, 7 – 9 pm\n\nThe Sun Can Be\, an exhibition by IPLA Collective\, is the Czech Centre’s Summer Artistic Residency — a pilot project offering a safe and supportive space for local artists and the community. It is part of SAFE(R) SPACES. Out There And Within\, a network initiative organised by the Czech Centres.
URL:https://eventsforlondon.co.uk/event/the-sun-can-be-an-ipla-collective-exhibition/
LOCATION:Bouda Gallery\, 132 Palace Gardens Terrace\, London\, W8 4RT
CATEGORIES:Arts,Events in London,Exhibitions,Poetry
ATTACH;FMTTYPE=image/jpeg:https://eventsforlondon.co.uk/wp-content/uploads/2025/07/PHOTO-2025-06-10-01-17-47.jpg
ORGANIZER;CN="Czech Centre":MAILTO:blues@czechcentre.org.uk
END:VEVENT
BEGIN:VEVENT
DTSTART;TZID=Europe/London:20250711T120000
DTEND;TZID=Europe/London:20250805T170000
DTSTAMP:20260425T033517
CREATED:20250612T162040Z
LAST-MODIFIED:20250612T162040Z
UID:30096333-1752235200-1754413200@eventsforlondon.co.uk
SUMMARY:Poet Peasant: an exhibition by SJ Fowler
DESCRIPTION:An exhibition of poetry as curios\, discovered text and found literary sculptures drawn from previously unseen works\, selected asemic writing and the poetic props of performances across the globe. Drawing from fifteen years of rabid activity\, this exhibition evidences the breadth of visual and conceptual poetry from one of the definitive experimentalists of the British 21st-century literary scene. \n\nOn the site of the former Notting Hill Books\, a formative space for many\, including Fowler\, this exhibition emphasises the potential of the marginal\, peculiar\, detritus-as-poetry mode so removed from the medium’s stereotypical obsession with neatness\, craft\, and clarity. From bear suits to homemade skeletons\, handwritten novels to concrete poems\, Poet Peasant represents the core aesthetic concerns of SJ Fowler – playful\, eclectic and anti-singular\, it is a deliberate mess of fun and weird visual literature that stretches the bounds of what poetry is. \nwww.stevenjfowler.com/poetpeasant \nSJ Fowler is a writer\, poet and performer who lives in London. His work has been commissioned by The National Gallery\, Tate Modern\, BBC Radio 3\, Somerset House\, Tate Britain\, Southbank Centre and he was part of the first Hub residency at Wellcome Collection. His visual poetry has been exhibited at the V&A\, Hayward Gallery\, Jerwood Space\, Mile End Art Pavilion\, Kielder Forest\, Tate St Ives and Palais de Tokyo. He has published over 50 works\, the subject of the Small Publishers Fair 2022 feature exhibition and given over 400 performances at venues around the world. He lecturer at Kingston University and is the director of the European Poetry Festival. Poet Peasant … is his 8th solo exhibition. \nOpening hours:\nThe gallery will be opened to the public 12 noon to 5pm every Wednesday to Saturday \nAccompanying events:\nJuly 19th\, July 24th July 26th\, July 31st\, August 2nd 7pm – 9pm.
URL:https://eventsforlondon.co.uk/event/poet-peasant-an-exhibition-by-sj-fowler/
LOCATION:Bouda Gallery\, 132 Palace Gardens Terrace\, London\, W8 4RT
CATEGORIES:Events in London,Literature,Poetry,Shows
ATTACH;FMTTYPE=image/jpeg:https://eventsforlondon.co.uk/wp-content/uploads/2025/06/PoetPeasant-exhibition-SJ-Fowler.jpg
ORGANIZER;CN="Czech Centre":MAILTO:blues@czechcentre.org.uk
END:VEVENT
END:VCALENDAR