BEGIN:VCALENDAR
VERSION:2.0
PRODID:-//Events for LONDON - ECPv6.15.20//NONSGML v1.0//EN
CALSCALE:GREGORIAN
METHOD:PUBLISH
X-ORIGINAL-URL:https://eventsforlondon.co.uk
X-WR-CALDESC:Events for Events for LONDON
REFRESH-INTERVAL;VALUE=DURATION:PT1H
X-Robots-Tag:noindex
X-PUBLISHED-TTL:PT1H
BEGIN:VTIMEZONE
TZID:Europe/London
BEGIN:DAYLIGHT
TZOFFSETFROM:+0000
TZOFFSETTO:+0100
TZNAME:BST
DTSTART:20190331T010000
END:DAYLIGHT
BEGIN:STANDARD
TZOFFSETFROM:+0100
TZOFFSETTO:+0000
TZNAME:GMT
DTSTART:20191027T010000
END:STANDARD
BEGIN:DAYLIGHT
TZOFFSETFROM:+0000
TZOFFSETTO:+0100
TZNAME:BST
DTSTART:20200329T010000
END:DAYLIGHT
BEGIN:STANDARD
TZOFFSETFROM:+0100
TZOFFSETTO:+0000
TZNAME:GMT
DTSTART:20201025T010000
END:STANDARD
BEGIN:DAYLIGHT
TZOFFSETFROM:+0000
TZOFFSETTO:+0100
TZNAME:BST
DTSTART:20210328T010000
END:DAYLIGHT
BEGIN:STANDARD
TZOFFSETFROM:+0100
TZOFFSETTO:+0000
TZNAME:GMT
DTSTART:20211031T010000
END:STANDARD
BEGIN:DAYLIGHT
TZOFFSETFROM:+0000
TZOFFSETTO:+0100
TZNAME:BST
DTSTART:20220327T010000
END:DAYLIGHT
BEGIN:STANDARD
TZOFFSETFROM:+0100
TZOFFSETTO:+0000
TZNAME:GMT
DTSTART:20221030T010000
END:STANDARD
BEGIN:DAYLIGHT
TZOFFSETFROM:+0000
TZOFFSETTO:+0100
TZNAME:BST
DTSTART:20230326T010000
END:DAYLIGHT
BEGIN:STANDARD
TZOFFSETFROM:+0100
TZOFFSETTO:+0000
TZNAME:GMT
DTSTART:20231029T010000
END:STANDARD
END:VTIMEZONE
BEGIN:VEVENT
DTSTART;TZID=Europe/London:20221108T160000
DTEND;TZID=Europe/London:20221108T180000
DTSTAMP:20260425T044734
CREATED:20221025T143123Z
LAST-MODIFIED:20221025T143126Z
UID:30059698-1667923200-1667930400@eventsforlondon.co.uk
SUMMARY:Providing Positive Career Guidance to Support Low-Skilled Adults
DESCRIPTION: Canary Wharf Consulting invites you to the event “Providing Positive Career Guidance to Support Low-Skilled Adults”\, that will be held on the 8th of November 2022\, 16:00 – 18:00 (UK time)\, at the Adam House\, 7-10 Adam St\, London WC2N 6AA\, United Kingdom.\n☞ Register for the event here: https://bit.ly/3DnBS4n To attend the meeting online\, click here: https://bit.ly/3VZx2RZ Download the Agenda here: https://bit.ly/3CW0vng\nWho is this event for?\nPsychologistsCareer Counsellors / Career CoachesAdult EducatorsUnemployed YouthLow-Skilled AdultsTopics to be discussed\n The event is organised within the European project OVERCOME – Positive Career Guidance for Low-Skilled Adults. By developing quality educational material and a training platform\, OVERCOME aims to enhance low-skilled/unemployed adults’ competencies and support their inclusion in the labour market\, as well as build the skills of career counsellors and adult educators to better support low-skilled/unemployed adults.\nFor further information\, please contact us at: koutavelis.e@canarywharf-consulting.com
URL:https://eventsforlondon.co.uk/event/providing-positive-career-guidance-to-support-low-skilled-adults/
LOCATION:Adam House\, Adam House\, London\, WC2N 6AA\, United Kingdom
CATEGORIES:Business,Business Education,Business Opportunities,Community Events,Conferences,Education,Events in London,Free Events,Online Events,People,Work
ATTACH;FMTTYPE=image/jpeg:https://eventsforlondon.co.uk/wp-content/uploads/2022/10/312966428_420377523591346_4255322921535015962_n.jpg
ORGANIZER;CN="Canary Wharf Consulting":MAILTO:canarywharfconsultingltd@gmail.com
GEO:51.509629;-0.121906
X-APPLE-STRUCTURED-LOCATION;VALUE=URI;X-ADDRESS=Adam House Adam House London WC2N 6AA United Kingdom;X-APPLE-RADIUS=500;X-TITLE=Adam House:geo:-0.121906,51.509629
END:VEVENT
BEGIN:VEVENT
DTSTART;VALUE=DATE:20210830
DTEND;VALUE=DATE:20210906
DTSTAMP:20260425T044734
CREATED:20210511T125801Z
LAST-MODIFIED:20210511T125801Z
UID:30056783-1630281600-1630886399@eventsforlondon.co.uk
SUMMARY:Cake Week 2021
DESCRIPTION:Cake Week is back and bringing bakers together! As a nation of cake lovers\, what better way to reunite after the past year than by sharing a slice of your favourite bake with friends\, family\, colleagues and neighbours.\nThis Cake Week\, we want bakers and non-bakers around the UK to pick up their wooden spoons and bake their favourite cake to share with loved ones.\nWhether you’re whipping up a cake at home or supporting local independent bakeries\, Cake Week is all about coming together over something we all love: cake!\nCreated by Nudge PR\, we’re inviting you to join us for an exciting week of cake-related events and festivities – unifying the nation as one big\, cake-loving community.
URL:https://eventsforlondon.co.uk/event/cake-week-2021/
LOCATION:Adam House\, Adam House\, London\, WC2N 6AA\, United Kingdom
CATEGORIES:Arts,Children,Community Events,Cooking,Crafts,Family Activities,Food Festivals,Online Events
ATTACH;FMTTYPE=image/jpeg:https://eventsforlondon.co.uk/wp-content/uploads/2021/05/logo_v4.jpg
ORGANIZER;CN="Nudge PR":MAILTO:elysia@nudgepr.co.uk
GEO:51.509629;-0.121906
X-APPLE-STRUCTURED-LOCATION;VALUE=URI;X-ADDRESS=Adam House Adam House London WC2N 6AA United Kingdom;X-APPLE-RADIUS=500;X-TITLE=Adam House:geo:-0.121906,51.509629
END:VEVENT
BEGIN:VEVENT
DTSTART;TZID=Europe/London:20200831T000000
DTEND;TZID=Europe/London:20200906T235959
DTSTAMP:20260425T044734
CREATED:20200612T135705Z
LAST-MODIFIED:20200612T135721Z
UID:30055171-1598832000-1599436799@eventsforlondon.co.uk
SUMMARY:Cake Week 2020
DESCRIPTION:We’re a nation of cake lovers\, so let’s celebrate with a week focusing on our favourite sweet treat. Whether it’s coffee & walnut\, chocolate\, a Victoria sponge or lemon drizzle\, let’s give the UK an excuse to indulge. \nWe want bakers and non-bakers around the UK to get their mixing bowls out\, to bake their favourite cake and share it with friends\, family or colleagues. Alongside this\, we’re encouraging people to support their local independent bakery\, the bakers who have a passion for their craft and create incredible cakes ready to be shared over a cup of tea or a glass of champagne. \nAn awareness week unifies people; we’re a nation who love a theme\, a subject that brings us all together and creates a sense of community. And what better way to create a sense of community than over a slice of cake! Whether it’s homemade\, created by an expert baker or an elaborately decorated work of art. \nJoin us for an exciting week of cake related events and festivities!
URL:https://eventsforlondon.co.uk/event/cake-week-2020/
LOCATION:Adam House\, Adam House\, London\, WC2N 6AA\, United Kingdom
CATEGORIES:Food & Drink,Free Events
ATTACH;FMTTYPE=image/jpeg:https://eventsforlondon.co.uk/wp-content/uploads/2020/06/logo_v4.jpg
ORGANIZER;CN="Nudge PR":MAILTO:elysia@nudgepr.co.uk
GEO:51.509629;-0.121906
X-APPLE-STRUCTURED-LOCATION;VALUE=URI;X-ADDRESS=Adam House Adam House London WC2N 6AA United Kingdom;X-APPLE-RADIUS=500;X-TITLE=Adam House:geo:-0.121906,51.509629
END:VEVENT
END:VCALENDAR