BEGIN:VCALENDAR
VERSION:2.0
PRODID:-//Events for LONDON - ECPv6.15.20//NONSGML v1.0//EN
CALSCALE:GREGORIAN
METHOD:PUBLISH
X-WR-CALNAME:Events for LONDON
X-ORIGINAL-URL:https://eventsforlondon.co.uk
X-WR-CALDESC:Events for Events for LONDON
REFRESH-INTERVAL;VALUE=DURATION:PT1H
X-Robots-Tag:noindex
X-PUBLISHED-TTL:PT1H
BEGIN:VTIMEZONE
TZID:Europe/London
BEGIN:DAYLIGHT
TZOFFSETFROM:+0000
TZOFFSETTO:+0100
TZNAME:BST
DTSTART:20170326T010000
END:DAYLIGHT
BEGIN:STANDARD
TZOFFSETFROM:+0100
TZOFFSETTO:+0000
TZNAME:GMT
DTSTART:20171029T010000
END:STANDARD
BEGIN:DAYLIGHT
TZOFFSETFROM:+0000
TZOFFSETTO:+0100
TZNAME:BST
DTSTART:20180325T010000
END:DAYLIGHT
BEGIN:STANDARD
TZOFFSETFROM:+0100
TZOFFSETTO:+0000
TZNAME:GMT
DTSTART:20181028T010000
END:STANDARD
BEGIN:DAYLIGHT
TZOFFSETFROM:+0000
TZOFFSETTO:+0100
TZNAME:BST
DTSTART:20190331T010000
END:DAYLIGHT
BEGIN:STANDARD
TZOFFSETFROM:+0100
TZOFFSETTO:+0000
TZNAME:GMT
DTSTART:20191027T010000
END:STANDARD
END:VTIMEZONE
BEGIN:VEVENT
DTSTART;TZID=Europe/London:20181017T100000
DTEND;TZID=Europe/London:20181017T190000
DTSTAMP:20260424T203037
CREATED:20181017T040021Z
LAST-MODIFIED:20181017T040021Z
UID:30047091-1539770400-1539802800@eventsforlondon.co.uk
SUMMARY:The Method Slow Fashion Store
DESCRIPTION:More than  100\,000 cloths go to waste every year in the UK Landfill. Most of which are still comfortable to cloth the body. Some from famous people and influences which contain trends that has gone out of fashion or simply outgrown by people who wear them. This time around celebs have donated their cloths to decrease the immense wastage. Now you can purchase them at Method UK’s pop up stores. \nMessage from Method UK: \nWe’re putting the sass in sustainable + fighting dirty against fast fashion by creating a fabulous pop up shop called the method slow fashion store. we’d absolutely love you to join us! \nthe space is designed to encourage sustainable fashion choices to help stop 300\,000 pieces of clothing ending up in UK landfill annually. you’ll have the opportunity to buy second-hand gems donated by celebs + influencers such as Millie Mackintosh + Jasmine Hemsley\, donate clothes yourself\, or customise a tired outfit in order to extend its life. \nall proceeds will go to Clothes Aid and customers will be gifted with a method non-toxic peony blush laundry detergent + a method tote bag with every purchase. \n\nSneak peak of some of the gorgeous garments donated by celebs + influencers!
URL:https://eventsforlondon.co.uk/event/the-method-slow-fashion-store/
LOCATION:189 Shoreditch High Street\, 189 Shoreditch High Street\, London\, E1 6HU\, London\, United Kingdom
CATEGORIES:Fashion
ATTACH;FMTTYPE=image/jpeg:https://eventsforlondon.co.uk/wp-content/uploads/2018/10/43217438_491410811376051_4925716628198391808_n.jpg
GEO:51.5240481;-0.0774897
X-APPLE-STRUCTURED-LOCATION;VALUE=URI;X-ADDRESS=189 Shoreditch High Street 189 Shoreditch High Street London E1 6HU London United Kingdom;X-APPLE-RADIUS=500;X-TITLE=189 Shoreditch High Street\, London\, E1 6HU:geo:-0.0774897,51.5240481
END:VEVENT
END:VCALENDAR