BEGIN:VCALENDAR
VERSION:2.0
PRODID:-//Events for LONDON - ECPv6.15.20//NONSGML v1.0//EN
CALSCALE:GREGORIAN
METHOD:PUBLISH
X-WR-CALNAME:Events for LONDON
X-ORIGINAL-URL:https://eventsforlondon.co.uk
X-WR-CALDESC:Events for Events for LONDON
REFRESH-INTERVAL;VALUE=DURATION:PT1H
X-Robots-Tag:noindex
X-PUBLISHED-TTL:PT1H
BEGIN:VTIMEZONE
TZID:Europe/London
BEGIN:DAYLIGHT
TZOFFSETFROM:+0000
TZOFFSETTO:+0100
TZNAME:BST
DTSTART:20250330T010000
END:DAYLIGHT
BEGIN:STANDARD
TZOFFSETFROM:+0100
TZOFFSETTO:+0000
TZNAME:GMT
DTSTART:20251026T010000
END:STANDARD
BEGIN:DAYLIGHT
TZOFFSETFROM:+0000
TZOFFSETTO:+0100
TZNAME:BST
DTSTART:20260329T010000
END:DAYLIGHT
BEGIN:STANDARD
TZOFFSETFROM:+0100
TZOFFSETTO:+0000
TZNAME:GMT
DTSTART:20261025T010000
END:STANDARD
BEGIN:DAYLIGHT
TZOFFSETFROM:+0000
TZOFFSETTO:+0100
TZNAME:BST
DTSTART:20270328T010000
END:DAYLIGHT
BEGIN:STANDARD
TZOFFSETFROM:+0100
TZOFFSETTO:+0000
TZNAME:GMT
DTSTART:20271031T010000
END:STANDARD
END:VTIMEZONE
BEGIN:VEVENT
DTSTART;TZID=Europe/London:20260606T110000
DTEND;TZID=Europe/London:20260606T123000
DTSTAMP:20260425T163224
CREATED:20260423T135329Z
LAST-MODIFIED:20260423T140044Z
UID:30126038-1780743600-1780749000@eventsforlondon.co.uk
SUMMARY:Marmalade and Masquerades - Live Performance with Narration
DESCRIPTION:Marmalade and Masquerades \nAndré Caplet: Conte Fantastique (1922) after Edgar Allan Poe’s The Masque of the Red Death\, for harp\, narrator and string quartet. Story adapted by Erin Muldoon. \nHerbert Chappell: Paddington’s First Concert (mid-1970s)\, arranged for the same ensemble by Roger Montgomery. \nTravel from the familiar warmth of 32\, Windsor Gardens\, home to London’s favourite bear\, into the shadowy world of Edgar Allan Poe’s The Masque of the Red Death. This imaginative programme brings together two contrasting tales\, showing how music can express both light and dark\, comfort and mystery. \nThrough engaging live performance with narration\, children and families will discover how composers use sound to tell stories. Some feel cosy\, playful\, and curious. Others are dramatic\, eerie and full of suspense. Each invites listeners to picture characters\, places and emotions in their own way. \nOn one side\, Paddington Bear’s world is brought to life through music that celebrates kindness\, humour and small everyday adventures. On the other hand\, André Caplet’s Conte Fantastique draws us into a darker\, more mysterious atmosphere\, inspired by Poe’s haunting tale of Prince Prospero’s abbey. \nPlaced side by side\, these works reveal how music can spark imagination across very different moods and stories. Together\, they offer a rich and memorable introduction to the power of musical storytelling. \nTo Hire String Quartets  & Harpists in London for Private and Corporate Events\, visit Music for London.
URL:https://eventsforlondon.co.uk/event/marmalade-and-masquerades-live-performance-with-narration/
LOCATION:St Annes Church Kew\, St Anne’s Church Kew Green\, TW9 3AA\, United Kingdom
CATEGORIES:Children,Concerts,Family Activities,Free Events,Literature,Live Music,Teenagers
ATTACH;FMTTYPE=image/jpeg:https://eventsforlondon.co.uk/wp-content/uploads/2026/04/Marmalade-eventbrite-2-1-e1776952110262.jpg
ORGANIZER;CN="zoffany ensemble":MAILTO:dorothy@dorothymaxwell.co.uk
END:VEVENT
END:VCALENDAR