BEGIN:VCALENDAR
VERSION:2.0
PRODID:-//Events for LONDON - ECPv6.15.20//NONSGML v1.0//EN
CALSCALE:GREGORIAN
METHOD:PUBLISH
X-ORIGINAL-URL:https://eventsforlondon.co.uk
X-WR-CALDESC:Events for Events for LONDON
REFRESH-INTERVAL;VALUE=DURATION:PT1H
X-Robots-Tag:noindex
X-PUBLISHED-TTL:PT1H
BEGIN:VTIMEZONE
TZID:Europe/London
BEGIN:DAYLIGHT
TZOFFSETFROM:+0000
TZOFFSETTO:+0100
TZNAME:BST
DTSTART:20230326T010000
END:DAYLIGHT
BEGIN:STANDARD
TZOFFSETFROM:+0100
TZOFFSETTO:+0000
TZNAME:GMT
DTSTART:20231029T010000
END:STANDARD
BEGIN:DAYLIGHT
TZOFFSETFROM:+0000
TZOFFSETTO:+0100
TZNAME:BST
DTSTART:20240331T010000
END:DAYLIGHT
BEGIN:STANDARD
TZOFFSETFROM:+0100
TZOFFSETTO:+0000
TZNAME:GMT
DTSTART:20241027T010000
END:STANDARD
BEGIN:DAYLIGHT
TZOFFSETFROM:+0000
TZOFFSETTO:+0100
TZNAME:BST
DTSTART:20250330T010000
END:DAYLIGHT
BEGIN:STANDARD
TZOFFSETFROM:+0100
TZOFFSETTO:+0000
TZNAME:GMT
DTSTART:20251026T010000
END:STANDARD
END:VTIMEZONE
BEGIN:VEVENT
DTSTART;TZID=Europe/London:20240922T180000
DTEND;TZID=Europe/London:20240922T190000
DTSTAMP:20260422T060425
CREATED:20240912T135352Z
LAST-MODIFIED:20240912T173033Z
UID:30077537-1727028000-1727031600@eventsforlondon.co.uk
SUMMARY:Serene Sounds: Classical Sound Bath
DESCRIPTION:Find your zen at the Totally Thames Festival. \nPianist Elena Toponogova and Soprano Eleanor Penfold present Serene Sounds\, a classical sound bath experience. Featuring pieces connected to the theme of water\, this peaceful and relaxing sound bath promotes a deep state of relaxation while connecting with the music and the sounds of water. The music featured includes Chopin’s Raindrop Prelude and Debussy’s The Sunken Cathedral\, as well as instruments such as Koshi chimes\, an ocean drum\, and a rain stick for the ultimate immersive audio experience. \nCombining voice and piano with traditional instruments used for sound healing meditation will transport audiences to a place of relaxed focus. The audience will lie down on a candle-lit stage close to the performers\, providing a unique way of experiencing music. Your escape awaits. \nWhile we will have some yoga mats available at the venue\, we always encourage people to bring any yoga mats\, pillows and blankets to make themselves as comfortable as possible. \nSee more information about the event and the venue here: https://thamesfestivaltrust.org/whats-on/serene-sounds-20551/ \nWebsite Facebook Instagram Twitter \nAudience reviews: \n“The best Friday evening I’ve had in a long time.” \n“The best (& most relaxing) way to end a hard week” \n“Unusual\, peaceful\, regenerative” \n“Calmness in the city” \n“Relaxing after a long week” \n“Effective sleep therapy” \n“Restorative” \n“Relaxing enchanting oasis” \n“I told my husband how much I loved your event and felt quite relaxed after! I found the choice of pieces worked extremely well. The piano generally had a wave-like quality of music\, and the pace of the singing was again on target. There was a quiet energy\, power to the pieces and your performance that inspired me in my meditative state.”
URL:https://eventsforlondon.co.uk/event/__trashed-285/2024-09-22/
LOCATION:Finnish Church\, London\, 33 Albion Street\, London\, SE16 7HZ
CATEGORIES:Concerts,Entertainment,Events in London,Festivals,Live Music,Music,Performing Arts,Yoga
ATTACH;FMTTYPE=image/jpeg:https://eventsforlondon.co.uk/wp-content/uploads/2024/09/Totally-Thames-2024.jpg
ORGANIZER;CN="Transposed Ensemble":MAILTO:transposed.ensemble@gmail.com
END:VEVENT
END:VCALENDAR