BEGIN:VCALENDAR
VERSION:2.0
PRODID:-//Events for LONDON - ECPv6.15.20//NONSGML v1.0//EN
CALSCALE:GREGORIAN
METHOD:PUBLISH
X-ORIGINAL-URL:https://eventsforlondon.co.uk
X-WR-CALDESC:Events for Events for LONDON
REFRESH-INTERVAL;VALUE=DURATION:PT1H
X-Robots-Tag:noindex
X-PUBLISHED-TTL:PT1H
BEGIN:VTIMEZONE
TZID:Europe/London
BEGIN:DAYLIGHT
TZOFFSETFROM:+0000
TZOFFSETTO:+0100
TZNAME:BST
DTSTART:20180325T010000
END:DAYLIGHT
BEGIN:STANDARD
TZOFFSETFROM:+0100
TZOFFSETTO:+0000
TZNAME:GMT
DTSTART:20181028T010000
END:STANDARD
BEGIN:DAYLIGHT
TZOFFSETFROM:+0000
TZOFFSETTO:+0100
TZNAME:BST
DTSTART:20190331T010000
END:DAYLIGHT
BEGIN:STANDARD
TZOFFSETFROM:+0100
TZOFFSETTO:+0000
TZNAME:GMT
DTSTART:20191027T010000
END:STANDARD
BEGIN:DAYLIGHT
TZOFFSETFROM:+0000
TZOFFSETTO:+0100
TZNAME:BST
DTSTART:20200329T010000
END:DAYLIGHT
BEGIN:STANDARD
TZOFFSETFROM:+0100
TZOFFSETTO:+0000
TZNAME:GMT
DTSTART:20201025T010000
END:STANDARD
END:VTIMEZONE
BEGIN:VEVENT
DTSTART;TZID=Europe/London:20191103T190000
DTEND;TZID=Europe/London:20191103T190000
DTSTAMP:20260425T032024
CREATED:20191007T063311Z
LAST-MODIFIED:20191007T063314Z
UID:30054162-1572807600-1572807600@eventsforlondon.co.uk
SUMMARY:The Passion Project presents: The Sharing Circle.
DESCRIPTION:The Passion Project presents ‘The Sharing Circle’.  \nPerforming in front of an audience is always a nerve-wracking experience – regardless of your skill-set. However sometimes you might have something personal that you want to share. Therefore The Passion Project are holding a ‘sharing circle’.  \nIt’s open to anyone who would like a chance at performing their acoustic songs in front of an audience.  \nThe Passion project priorities creating a safe space for creatives.  \nThe performances will be intersected with discussions around the hardships of creating and the change we want to see in the industry.
URL:https://eventsforlondon.co.uk/event/the-passion-project-presents-the-sharing-circle/
LOCATION:The Amersham Arms\, 388 New Cross Road\, London\, SE14 6TY
CATEGORIES:Arts,Live Music,Music
ATTACH;FMTTYPE=image/png:https://eventsforlondon.co.uk/wp-content/uploads/2019/10/The-Sharing-Circle-1.png
GEO:51.4754277;-0.0304642
X-APPLE-STRUCTURED-LOCATION;VALUE=URI;X-ADDRESS=The Amersham Arms 388 New Cross Road London SE14 6TY;X-APPLE-RADIUS=500;X-TITLE=388 New Cross Road:geo:-0.0304642,51.4754277
END:VEVENT
END:VCALENDAR