BEGIN:VCALENDAR
VERSION:2.0
PRODID:-//Events for LONDON - ECPv6.15.20//NONSGML v1.0//EN
CALSCALE:GREGORIAN
METHOD:PUBLISH
X-WR-CALNAME:Events for LONDON
X-ORIGINAL-URL:https://eventsforlondon.co.uk
X-WR-CALDESC:Events for Events for LONDON
REFRESH-INTERVAL;VALUE=DURATION:PT1H
X-Robots-Tag:noindex
X-PUBLISHED-TTL:PT1H
BEGIN:VTIMEZONE
TZID:Europe/London
BEGIN:DAYLIGHT
TZOFFSETFROM:+0000
TZOFFSETTO:+0100
TZNAME:BST
DTSTART:20180325T010000
END:DAYLIGHT
BEGIN:STANDARD
TZOFFSETFROM:+0100
TZOFFSETTO:+0000
TZNAME:GMT
DTSTART:20181028T010000
END:STANDARD
BEGIN:DAYLIGHT
TZOFFSETFROM:+0000
TZOFFSETTO:+0100
TZNAME:BST
DTSTART:20190331T010000
END:DAYLIGHT
BEGIN:STANDARD
TZOFFSETFROM:+0100
TZOFFSETTO:+0000
TZNAME:GMT
DTSTART:20191027T010000
END:STANDARD
BEGIN:DAYLIGHT
TZOFFSETFROM:+0000
TZOFFSETTO:+0100
TZNAME:BST
DTSTART:20200329T010000
END:DAYLIGHT
BEGIN:STANDARD
TZOFFSETFROM:+0100
TZOFFSETTO:+0000
TZNAME:GMT
DTSTART:20201025T010000
END:STANDARD
BEGIN:DAYLIGHT
TZOFFSETFROM:+0000
TZOFFSETTO:+0100
TZNAME:BST
DTSTART:20210328T010000
END:DAYLIGHT
BEGIN:STANDARD
TZOFFSETFROM:+0100
TZOFFSETTO:+0000
TZNAME:GMT
DTSTART:20211031T010000
END:STANDARD
BEGIN:DAYLIGHT
TZOFFSETFROM:+0000
TZOFFSETTO:+0100
TZNAME:BST
DTSTART:20220327T010000
END:DAYLIGHT
BEGIN:STANDARD
TZOFFSETFROM:+0100
TZOFFSETTO:+0000
TZNAME:GMT
DTSTART:20221030T010000
END:STANDARD
BEGIN:DAYLIGHT
TZOFFSETFROM:+0000
TZOFFSETTO:+0100
TZNAME:BST
DTSTART:20230326T010000
END:DAYLIGHT
BEGIN:STANDARD
TZOFFSETFROM:+0100
TZOFFSETTO:+0000
TZNAME:GMT
DTSTART:20231029T010000
END:STANDARD
BEGIN:DAYLIGHT
TZOFFSETFROM:+0000
TZOFFSETTO:+0100
TZNAME:BST
DTSTART:20240331T010000
END:DAYLIGHT
BEGIN:STANDARD
TZOFFSETFROM:+0100
TZOFFSETTO:+0000
TZNAME:GMT
DTSTART:20241027T010000
END:STANDARD
BEGIN:DAYLIGHT
TZOFFSETFROM:+0000
TZOFFSETTO:+0100
TZNAME:BST
DTSTART:20250330T010000
END:DAYLIGHT
BEGIN:STANDARD
TZOFFSETFROM:+0100
TZOFFSETTO:+0000
TZNAME:GMT
DTSTART:20251026T010000
END:STANDARD
BEGIN:DAYLIGHT
TZOFFSETFROM:+0000
TZOFFSETTO:+0100
TZNAME:BST
DTSTART:20260329T010000
END:DAYLIGHT
BEGIN:STANDARD
TZOFFSETFROM:+0100
TZOFFSETTO:+0000
TZNAME:GMT
DTSTART:20261025T010000
END:STANDARD
END:VTIMEZONE
BEGIN:VEVENT
DTSTART;TZID=Europe/London:20250726T190000
DTEND;TZID=Europe/London:20250726T210000
DTSTAMP:20260424T221818
CREATED:20250711T165140Z
LAST-MODIFIED:20250712T115949Z
UID:30098263-1753556400-1753563600@eventsforlondon.co.uk
SUMMARY:London Video Game Orchestra presents: Sweet Suite Summer
DESCRIPTION:Join the LVGO on a journey through the hottest and coolest summer holiday tracks from your favourite games. With music from Hyrule to the Mushroom Kingdom; from Flower to Assassin’s Creed.\nSave your place with a ticket today!
URL:https://eventsforlondon.co.uk/event/london-video-game-orchestra-presents-sweet-suite-summer/
LOCATION:Questors Theatre\, 12 Mattock Lane\, London\, W5 5BQ
CATEGORIES:Entertainment,Family Activities,Games,Live Music,Music,Performing Arts
ATTACH;FMTTYPE=image/png:https://eventsforlondon.co.uk/wp-content/uploads/2025/07/LVGO-SSS-Square-e1752252670942.png
ORGANIZER;CN="The London Video Game Orchestra":MAILTO:londonvgorchestra@gmail.com
END:VEVENT
BEGIN:VEVENT
DTSTART;TZID=Europe/London:20190615T070000
DTEND;TZID=Europe/London:20190615T213000
DTSTAMP:20260424T221818
CREATED:20190502T142740Z
LAST-MODIFIED:20190531T060524Z
UID:30053244-1560582000-1560634200@eventsforlondon.co.uk
SUMMARY:The London Video Game Orchestra: Our Quest Begins
DESCRIPTION:On 15th June\, The London Video Game Orchestra will be bringing you our premiere performance featuring some of the finest video game music of the last twenty years. In this concert RPGs\, or ‘Role Playing Games’\, are our focus and we shall bring an array of pieces from Legend of Zelda\, Final Fantasy\, Elder Scrolls\, Octopath Traveler and more. Prepare for strings\, trumpets\, oboes\, anvils and a choir… \nPlease note this is NOT suitable for those under the age of 12 due to the PEGI rating of the games and videos being played.
URL:https://eventsforlondon.co.uk/event/the-london-video-game-orchestra-our-quest-begins/
LOCATION:Theatre Peckham\, 221 Havil St\, London\, SE5 7SD
CATEGORIES:Live Music
ATTACH;FMTTYPE=image/jpeg:https://eventsforlondon.co.uk/wp-content/uploads/2019/05/London-Video-Game-Orchestra-Event-Poster.jpg
ORGANIZER;CN="The London Video Game Orchestra":MAILTO:londonvgorchestra@gmail.com
GEO:51.4744596;-0.0828336
X-APPLE-STRUCTURED-LOCATION;VALUE=URI;X-ADDRESS=Theatre Peckham 221 Havil St London SE5 7SD;X-APPLE-RADIUS=500;X-TITLE=221 Havil St:geo:-0.0828336,51.4744596
END:VEVENT
END:VCALENDAR