BEGIN:VCALENDAR
VERSION:2.0
PRODID:-//Events for LONDON - ECPv6.15.20//NONSGML v1.0//EN
CALSCALE:GREGORIAN
METHOD:PUBLISH
X-WR-CALNAME:Events for LONDON
X-ORIGINAL-URL:https://eventsforlondon.co.uk
X-WR-CALDESC:Events for Events for LONDON
REFRESH-INTERVAL;VALUE=DURATION:PT1H
X-Robots-Tag:noindex
X-PUBLISHED-TTL:PT1H
BEGIN:VTIMEZONE
TZID:Europe/London
BEGIN:DAYLIGHT
TZOFFSETFROM:+0000
TZOFFSETTO:+0100
TZNAME:BST
DTSTART:20210328T010000
END:DAYLIGHT
BEGIN:STANDARD
TZOFFSETFROM:+0100
TZOFFSETTO:+0000
TZNAME:GMT
DTSTART:20211031T010000
END:STANDARD
BEGIN:DAYLIGHT
TZOFFSETFROM:+0000
TZOFFSETTO:+0100
TZNAME:BST
DTSTART:20220327T010000
END:DAYLIGHT
BEGIN:STANDARD
TZOFFSETFROM:+0100
TZOFFSETTO:+0000
TZNAME:GMT
DTSTART:20221030T010000
END:STANDARD
BEGIN:DAYLIGHT
TZOFFSETFROM:+0000
TZOFFSETTO:+0100
TZNAME:BST
DTSTART:20230326T010000
END:DAYLIGHT
BEGIN:STANDARD
TZOFFSETFROM:+0100
TZOFFSETTO:+0000
TZNAME:GMT
DTSTART:20231029T010000
END:STANDARD
BEGIN:DAYLIGHT
TZOFFSETFROM:+0000
TZOFFSETTO:+0100
TZNAME:BST
DTSTART:20240331T010000
END:DAYLIGHT
BEGIN:STANDARD
TZOFFSETFROM:+0100
TZOFFSETTO:+0000
TZNAME:GMT
DTSTART:20241027T010000
END:STANDARD
BEGIN:DAYLIGHT
TZOFFSETFROM:+0000
TZOFFSETTO:+0100
TZNAME:BST
DTSTART:20250330T010000
END:DAYLIGHT
BEGIN:STANDARD
TZOFFSETFROM:+0100
TZOFFSETTO:+0000
TZNAME:GMT
DTSTART:20251026T010000
END:STANDARD
BEGIN:DAYLIGHT
TZOFFSETFROM:+0000
TZOFFSETTO:+0100
TZNAME:BST
DTSTART:20260329T010000
END:DAYLIGHT
BEGIN:STANDARD
TZOFFSETFROM:+0100
TZOFFSETTO:+0000
TZNAME:GMT
DTSTART:20261025T010000
END:STANDARD
END:VTIMEZONE
BEGIN:VEVENT
DTSTART;TZID=Europe/London:20251205T180000
DTEND;TZID=Europe/London:20251205T203000
DTSTAMP:20260424T115945
CREATED:20251117T043212Z
LAST-MODIFIED:20251117T043212Z
UID:30110619-1764957600-1764966600@eventsforlondon.co.uk
SUMMARY:Carolling with The Band of The Brigade of Gurkhas
DESCRIPTION:Gather your loved ones to celebrate the festive season with an evening of carols\, readings and musical performances from the Band of the Brigade of Gurkhas. \nThis year’s Yuletide concert will take place in the beautiful setting of St Peter’s Eaton Square\, a vibrant and welcoming church in the heart of London. \nComplimentary drinks and mince pies will be available following the concert. \nProceeds from the concert will go towards the vital support we deliver to Gurkha veterans\, their families and communities in Nepal. We enable people to live with dignity by delivering essential financial and medical aid\, and work with local communities to provide access to clean water and education. \nHire Carol Singers
URL:https://eventsforlondon.co.uk/event/carolling-with-the-band-of-the-brigade-of-gurkhas/
LOCATION:St Peter’s Eaton Square\, 119 Eaton Square\, London\, SW1W 9AL
CATEGORIES:Charity Events,Concerts
ATTACH;FMTTYPE=image/jpeg:https://eventsforlondon.co.uk/wp-content/uploads/2025/11/HQBG-official-GWT-XMAS-Concert-Dec-23-_8.jpg
ORGANIZER;CN="The Gurkha Welfare Trust":MAILTO:info@gwt.org.uk
END:VEVENT
BEGIN:VEVENT
DTSTART;VALUE=DATE:20250601
DTEND;VALUE=DATE:20250602
DTSTAMP:20260424T115945
CREATED:20250501T152355Z
LAST-MODIFIED:20250501T152355Z
UID:30092184-1748736000-1748822399@eventsforlondon.co.uk
SUMMARY:Doko Challenge South
DESCRIPTION:This unique event sees participants running in the footsteps of the ‘Bravest of the Brave’.  Based on a pivotal part of the Gurkha selection process\, we challenge you to take on a 5km cross-country course through Roundhay Park with a weighted Nepali Doko basket strapped to your back.  Last year’s event proved to be hugely popular with both civilians and serving Gurkhas alike. \nYou can choose for your Doko basket to weigh 5kg\, 10kg or 15kg\, and can run\, jog\, or walk the route.  Those looking to push themselves can aim to beat the Gurkha recruitment time of 46 minutes!
URL:https://eventsforlondon.co.uk/event/doko-challenge-south/
LOCATION:Wimbledon Common\, Richardson Evans Memorial Playing Fields\, Roehampton Vale\, London\, SW15 3PQ
CATEGORIES:Events in London
ATTACH;FMTTYPE=image/jpeg:https://eventsforlondon.co.uk/wp-content/uploads/2025/04/P1130866-e1746113028319.jpg
ORGANIZER;CN="The Gurkha Welfare Trust":MAILTO:info@gwt.org.uk
GEO:51.4358747;-0.2492549
X-APPLE-STRUCTURED-LOCATION;VALUE=URI;X-ADDRESS=Wimbledon Common Richardson Evans Memorial Playing Fields Roehampton Vale London SW15 3PQ;X-APPLE-RADIUS=500;X-TITLE=Richardson Evans Memorial Playing Fields\, Roehampton Vale:geo:-0.2492549,51.4358747
END:VEVENT
BEGIN:VEVENT
DTSTART;TZID=Europe/London:20240616T110000
DTEND;TZID=Europe/London:20240616T140000
DTSTAMP:20260424T115945
CREATED:20240209T075930Z
LAST-MODIFIED:20240209T075930Z
UID:30064332-1718535600-1718546400@eventsforlondon.co.uk
SUMMARY:The Doko Challenge South
DESCRIPTION:Put yourself to the test\, Gurkha style! Take on our annual 5km Doko Challenge South. This unique event sees participants running in the footsteps of the ‘Bravest of the Brave’.  Based on a pivotal part of the Gurkha selection process\, we challenge you to take on a 5km course with a weighted Nepali Doko basket strapped to your back.   What is a Doko? A traditional Nepalese conical-shaped basket\, usually hand woven from bamboo\, fitted with shoulder straps and a ‘namlo’ (head strap) to support the load.  The baskets are used to carry a whole host of things\, from clothing to bricks!   A Historic Challenge Every British Army Gurkha Soldier will be familiar with the ‘Doko Race’.  During the renowned annual Gurkha recruitment drive\, the aspiring recruits are tasked with ascending a gruelling course in the foothills of the Himalayas carrying a ‘Doko’ loaded with 25kg of sand.  They must complete the course within 46 minutes to proceed through to the next round of selection.   Our Doko South Race Based on the traditional exercise\, we have mapped out an undulating\, cross-country course through Wimbledon Common.  On Sunday 16 June 2023\, we challenge you to complete the 5km route carrying a Doko basket weighted with 5kg\, 10kg or 15kg.  You can run\, jog\, or walk\, but those looking to push themselves can aim to beat the Gurkha recruitment time of 46 minutes\, or even the course record of 19 minutes 30 seconds!  Regardless of your time\, a coveted Doko Challenge medal and t-shirt awaits at the finish line.   Supporting Gurkha veterans and widows in Nepal Alongside keeping fit and challenging yourself\, you can take great pride in raising money to support our team in Nepal\, keeping our Gurkha veterans and widows safe and giving them the means to live with dignity.  We suggest you set a fundraising target of £150.  Your online fundraising page will be created automatically when you register\, and we will be on hand throughout to answer any queries you may have.
URL:https://eventsforlondon.co.uk/event/the-doko-challenge-south-2/
LOCATION:Wimbledon Common\, Richardson Evans Memorial Playing Fields\, Roehampton Vale\, London\, SW15 3PQ
CATEGORIES:Running,Sports
ATTACH;FMTTYPE=image/jpeg:https://eventsforlondon.co.uk/wp-content/uploads/2024/02/P1130867-e1707465524357.jpg
ORGANIZER;CN="The Gurkha Welfare Trust":MAILTO:info@gwt.org.uk
GEO:51.4358747;-0.2492549
X-APPLE-STRUCTURED-LOCATION;VALUE=URI;X-ADDRESS=Wimbledon Common Richardson Evans Memorial Playing Fields Roehampton Vale London SW15 3PQ;X-APPLE-RADIUS=500;X-TITLE=Richardson Evans Memorial Playing Fields\, Roehampton Vale:geo:-0.2492549,51.4358747
END:VEVENT
BEGIN:VEVENT
DTSTART;TZID=Europe/London:20230922T160000
DTEND;TZID=Europe/London:20230924T160000
DTSTAMP:20260424T115945
CREATED:20230315T154704Z
LAST-MODIFIED:20230315T154709Z
UID:30060041-1695398400-1695571200@eventsforlondon.co.uk
SUMMARY:Trailwalker 2023
DESCRIPTION:Take on the Trailwalker Challenge! With a team of four\, take on an unforgettable 100km journey in under 30 hours across the South Downs. \n\n\n\nTrailwalker is the ultimate long-distance challenge\, raising vital funds for the GWT. The challenge is to walk\, jog\, or run 100km across the South Downs Way in under 30 hours in a team of four\, with a support crew to help you finish. Teams from the Gurkha Regiments lead the charge\, but thousands of competitors take part from all age groups and experience levels. \n\n\n\nNothing will beat the feeling of walking over the finish line…except maybe that first bite of the Gurkha curry that will be waiting for you! Raise money\, push yourself to the limit\, and face a challenge you’ll remember for the rest of your life. \n\n\n\nSign up before 11 April to take advantage of the Early Bird discount! https://trailwalker.gwt.org.uk/signup
URL:https://eventsforlondon.co.uk/event/trailwalker-2023/
LOCATION:Queen Elizabeth Country Park\, Gravel Hill\,\, Horndean\, PO8 0QE\, United Kingdom
CATEGORIES:Charity Events,Community Events,Exercise,Fitness,Fundraisers,Recreation,Running,Team Building,Walking,Women Sports
ATTACH;FMTTYPE=image/png:https://eventsforlondon.co.uk/wp-content/uploads/2023/03/Trailwalker2023.png
ORGANIZER;CN="The Gurkha Welfare Trust":MAILTO:info@gwt.org.uk
END:VEVENT
BEGIN:VEVENT
DTSTART;TZID=Europe/London:20230611T110000
DTEND;TZID=Europe/London:20230611T140000
DTSTAMP:20260424T115945
CREATED:20230220T125823Z
LAST-MODIFIED:20230220T125826Z
UID:30059933-1686481200-1686492000@eventsforlondon.co.uk
SUMMARY:The Doko Challenge South
DESCRIPTION:Put yourself to the test\, Gurkha style! Take on The Gurkha Welfare Trust’s annual 5km Doko Challenge South. \n\n\n\nThis unique event sees participants running in the footsteps of the ‘Bravest of the Brave’. Based on a pivotal part of the Gurkha selection process\, we challenge you to take on an undulating 5km cross-country course through Wimbledon Common with a weighted Nepali Doko basket strapped to your back. A hugely popular event that always attracts a fantastic turnout from our supporters and serving Gurkhas alike – places are sure to be in demand! \n\n\n\nYou can choose a weight for your Doko basket of 5kg\, 10kg or 15kg\, and can run\, jog\, or walk the route. Those looking to push themselves can aim to beat the Gurkha recruitment time of 46 minutes\, or even last year’s fastest time of 19 minutes 30 seconds! \n\n\n\nINCLUDED IN YOUR REGISTRATION \n\n\n\n∙ Doko basket for the race\, complete with your chosen weight. Don’t worry\, Gurkhas will be on hand to ensure it is fitted correctly! \n\n\n\n∙ Chip timers and online results\, viewable on the day \n\n\n\n∙ A fully signposted\, 5km cross-country course\, with volunteers marshalling the route and cheering you on throughout \n\n\n\n∙ All-important finishers medal \n\n\n\n∙ Goodie bag\, complete with an exclusive GWT Doko Challenge T-shirt \n\n\n\n∙ Individual and group finish line photos\, available via our online gallery after the event.
URL:https://eventsforlondon.co.uk/event/the-doko-challenge-south/
LOCATION:Wimbledon Common\, Richardson Evans Memorial Playing Fields\, Roehampton Vale\, London\, SW15 3PQ
CATEGORIES:Charity Events,Fundraisers,Running,Sports
ATTACH;FMTTYPE=image/jpeg:https://eventsforlondon.co.uk/wp-content/uploads/2023/02/DokoSouth1.jpg
ORGANIZER;CN="The Gurkha Welfare Trust":MAILTO:info@gwt.org.uk
GEO:51.4358747;-0.2492549
X-APPLE-STRUCTURED-LOCATION;VALUE=URI;X-ADDRESS=Wimbledon Common Richardson Evans Memorial Playing Fields Roehampton Vale London SW15 3PQ;X-APPLE-RADIUS=500;X-TITLE=Richardson Evans Memorial Playing Fields\, Roehampton Vale:geo:-0.2492549,51.4358747
END:VEVENT
BEGIN:VEVENT
DTSTART;TZID=Europe/London:20221214T183000
DTEND;TZID=Europe/London:20221214T193000
DTSTAMP:20260424T115945
CREATED:20221107T155312Z
LAST-MODIFIED:20221107T155315Z
UID:30058889-1671042600-1671046200@eventsforlondon.co.uk
SUMMARY:Carols by Candlelight in aid of The Gurkha Welfare Trust
DESCRIPTION:We are delighted to announce the return of our popular Carols by Candlelight concert in London. Proceeds from the concert will go to The Gurkha Welfare Trust\, helping us to support Gurkha veterans and widows in Nepal. \nCelebrate the festive season with friends and family by singing your favourite carols at our Carols by Candlelight event in the beautiful setting of St Marylebone Parish Church in the heart of London. \nThe concert will include classic carols\, some beautiful choral pieces\, professional performances and festive readings. We will also have a special performance by some exceptionally talented young choral singers from Thomas’s Battersea School. \nDrinks and mince pies will be served afterwards.
URL:https://eventsforlondon.co.uk/event/carols-by-candlelight-in-aid-of-the-gurkha-welfare-trust-2/
LOCATION:St Marylebone Parish Church\, NW1 5LT\, London\, NW1 5LT
CATEGORIES:Charity Events,Christmas Events,Concerts,Events in London,Live Music,London Musicals,Music
ATTACH;FMTTYPE=image/jpeg:https://eventsforlondon.co.uk/wp-content/uploads/2022/11/Carol-Concert-2021-choir-e1667836168555.jpg
ORGANIZER;CN="The Gurkha Welfare Trust":MAILTO:info@gwt.org.uk
GEO:51.5227718;-0.1524643
END:VEVENT
BEGIN:VEVENT
DTSTART;VALUE=DATE:20220612
DTEND;VALUE=DATE:20220613
DTSTAMP:20260424T115945
CREATED:20220210T163800Z
LAST-MODIFIED:20220210T163801Z
UID:30058781-1654992000-1655078399@eventsforlondon.co.uk
SUMMARY:The Doko Challenge South - 5km Challenge Run in Wimbledon London
DESCRIPTION:The Gurkha Welfare Trust’s annual 5km Doko Challenge South returns another year. \nThis unique event sees participants running in the “Bravest of the Brave” footsteps. Based on a pivotal part of the Gurkha selection process\, we challenge you to take on an undulating 5km cross-country course through Wimbledon Common with a weighted Nepali Doko basket strapped to your back. After last year’s sell-out event\, places are sure to be in demand\, and competition will be fierce! \nYou can choose a weight for your Doko basket of 5kg\, 10kg or 15kg\, and run\, jog\, or walk the route. Those looking to push themselves can aim to beat the Gurkha recruitment time of 46 minutes or even last year’s fastest time of 21 minutes 18 seconds!
URL:https://eventsforlondon.co.uk/event/the-doko-challenge-south-5km-challenge-run-in-wimbledon-london/
LOCATION:Wimbledon Common\, Richardson Evans Memorial Playing Fields\, Roehampton Vale\, London\, SW15 3PQ
CATEGORIES:Charity Events,Events in London,Exercise,Fundraisers,Pop Up,Running,Society,Sports,Walking
ATTACH;FMTTYPE=image/png:https://eventsforlondon.co.uk/wp-content/uploads/2022/02/TAKE-ON-THE-DOKO-CHALLENGE-2.png
ORGANIZER;CN="The Gurkha Welfare Trust":MAILTO:info@gwt.org.uk
GEO:51.4358747;-0.2492549
X-APPLE-STRUCTURED-LOCATION;VALUE=URI;X-ADDRESS=Wimbledon Common Richardson Evans Memorial Playing Fields Roehampton Vale London SW15 3PQ;X-APPLE-RADIUS=500;X-TITLE=Richardson Evans Memorial Playing Fields\, Roehampton Vale:geo:-0.2492549,51.4358747
END:VEVENT
END:VCALENDAR