BEGIN:VCALENDAR
VERSION:2.0
PRODID:-//Events for LONDON - ECPv6.15.20//NONSGML v1.0//EN
CALSCALE:GREGORIAN
METHOD:PUBLISH
X-WR-CALNAME:Events for LONDON
X-ORIGINAL-URL:https://eventsforlondon.co.uk
X-WR-CALDESC:Events for Events for LONDON
REFRESH-INTERVAL;VALUE=DURATION:PT1H
X-Robots-Tag:noindex
X-PUBLISHED-TTL:PT1H
BEGIN:VTIMEZONE
TZID:Europe/London
BEGIN:DAYLIGHT
TZOFFSETFROM:+0000
TZOFFSETTO:+0100
TZNAME:BST
DTSTART:20210328T010000
END:DAYLIGHT
BEGIN:STANDARD
TZOFFSETFROM:+0100
TZOFFSETTO:+0000
TZNAME:GMT
DTSTART:20211031T010000
END:STANDARD
BEGIN:DAYLIGHT
TZOFFSETFROM:+0000
TZOFFSETTO:+0100
TZNAME:BST
DTSTART:20220327T010000
END:DAYLIGHT
BEGIN:STANDARD
TZOFFSETFROM:+0100
TZOFFSETTO:+0000
TZNAME:GMT
DTSTART:20221030T010000
END:STANDARD
BEGIN:DAYLIGHT
TZOFFSETFROM:+0000
TZOFFSETTO:+0100
TZNAME:BST
DTSTART:20230326T010000
END:DAYLIGHT
BEGIN:STANDARD
TZOFFSETFROM:+0100
TZOFFSETTO:+0000
TZNAME:GMT
DTSTART:20231029T010000
END:STANDARD
BEGIN:DAYLIGHT
TZOFFSETFROM:+0000
TZOFFSETTO:+0100
TZNAME:BST
DTSTART:20240331T010000
END:DAYLIGHT
BEGIN:STANDARD
TZOFFSETFROM:+0100
TZOFFSETTO:+0000
TZNAME:GMT
DTSTART:20241027T010000
END:STANDARD
BEGIN:DAYLIGHT
TZOFFSETFROM:+0000
TZOFFSETTO:+0100
TZNAME:BST
DTSTART:20250330T010000
END:DAYLIGHT
BEGIN:STANDARD
TZOFFSETFROM:+0100
TZOFFSETTO:+0000
TZNAME:GMT
DTSTART:20251026T010000
END:STANDARD
END:VTIMEZONE
BEGIN:VEVENT
DTSTART;TZID=Europe/London:20240518T193000
DTEND;TZID=Europe/London:20240518T213000
DTSTAMP:20260426T000500
CREATED:20240412T023621Z
LAST-MODIFIED:20240412T023621Z
UID:30067025-1716060600-1716067800@eventsforlondon.co.uk
SUMMARY:The Pirate's Curse at The Drayton Arms Theatre
DESCRIPTION:It’s 1952 and the school hols have arrived at last and young Lady Iris Bungle is off to Bonnie Scotland – what larks! However\, all is not as it seems at Macushla Castle! Join Lady Iris as she stumbles on the rather spiffing\, yet spooky\, mystery of the Pirate’s Curse!\n\n\n\nA dark-comedy full of double-entendre\, twists and turns\, join us at Drayton Arms Theatre from 7th – 18th May for an unforgettable night filled with danger\, mystery\, and laughs!\n\n\n\nDon’t miss out – get your tickets today! http://www.draytonarmstheatre.co.uk/the-pirates-curse\n\n\n\n**** ‘This Agathe-Christie-meets-Oscar-Wilde-meets-Shakespeare comedy is definitely worth seeing!’ – EdFringe Review\n\n\n\n***** ‘1950’s spooky British farce of the highest calibre\, with double entendres aplenty and a spendid ensemble cast’ – International Paneling\n\n\n\nContent warnings: flashing lights\, mild reference to domestic abuse and sexual violence.\n\n\nExcludes 12/13th May
URL:https://eventsforlondon.co.uk/event/the-pirates-curse-at-the-drayton-arms-theatre/2024-05-18/
LOCATION:The Drayton Arms Theatre\, 153\, Old Brompton Rd\, London\, SW5 OLJ
CATEGORIES:Comedy,Entertainment,Events in London,London Theatre,Performing Arts,Pubs
ATTACH;FMTTYPE=image/jpeg:https://eventsforlondon.co.uk/wp-content/uploads/2024/04/PIRATE-SQUARE-e1712889353262.jpeg
ORGANIZER;CN="THe Drayton Arms Theatre":MAILTO:info@thedraytontheatre.co.uk
GEO:51.4906492;-0.1835767
X-APPLE-STRUCTURED-LOCATION;VALUE=URI;X-ADDRESS=The Drayton Arms Theatre 153 Old Brompton Rd London SW5 OLJ;X-APPLE-RADIUS=500;X-TITLE=153\, Old Brompton Rd:geo:-0.1835767,51.4906492
END:VEVENT
BEGIN:VEVENT
DTSTART;TZID=Europe/London:20220416T193000
DTEND;TZID=Europe/London:20220420T203000
DTSTAMP:20260426T000500
CREATED:20220321T190609Z
LAST-MODIFIED:20220321T190801Z
UID:30059034-1650137400-1650486600@eventsforlondon.co.uk
SUMMARY:Chop Me Up Or Let Me Go - One-Act Dark Comedy
DESCRIPTION:Chop Me Up Or Let Me Go\, Starring Alastair Coughlan & Ciara Murphy\, written and directed by Lesley Ann Albiston\, is a one-act dark\, sexy comedy about survival and obsession\, set in the near future. In this tense and quick-fire two-hander\, a famous male actor is abducted by a female stalker; but her motives for the violation are not as straightforward as they seem. He must learn how to negotiate his way out of imprisonment using all his skills and cunning. In a world where social media has rendered privacy obsolete\, the dangers of presumed intimacy are exposed – but the reality unfolding outside is even darker than our protagonists could imagine. \n“The dialogue is snappy and scene changes happen at a rapid pace. The direction of movement is well-considered and beautifully realised” London Pub Theatres Magazine **** \n“This short play is packed with punchy dialogue and snappy retorts. The references to popular horror movies and TV shows become little Easter eggs for the audience.”\nThe Reviews Hub*** \n“A dark comedy with a twist… With a strong cast of two\, who have an excellent working relationship and a high level of trust to be able to perform some of the physical scenes was the strong foundation for the play” – Theatre and Art Reviews**** \n“A funny\, dark\, and intriguing take on what happens when two distinct personalities find themselves stuck together for an inordinate amount of time. Chop Me Up or Let Me Go is a tense two-hander written that explores survival\, obsession\, and human relations through the lens of its two characters.\nThe direction by Albiston is uncomplicated and character-driven\, crafting the narrative set-up such that there is a bit of unpredictability that keeps us guessing…”\nNorthwest End UK**** \n“For high-flying actor Tom (my bet is that his character is based on Robert Pattinson) this is a mad nightmare in handcuffs\, with a decorated bucket for emergencies as the main sidekick. While weeks pass by in this intimate play – mostly set between four windowless walls – time for Tom is only measured in failed escape attempts. His stalker’s hope that he might\, maybe\, develop Stockholm syndrome one day\, is a long journey of obsession\, mistrust\, and forgiveness.”\nSadie Takes the Stage****
URL:https://eventsforlondon.co.uk/event/chop-me-up-or-let-me-go-one-act-dark-comedy/2022-04-16/
LOCATION:The Drayton Arms Theatre\, 153\, Old Brompton Rd\, London\, SW5 OLJ
CATEGORIES:Arts,Comedy,London Theatre,Performing Arts
ATTACH;FMTTYPE=image/jpeg:https://eventsforlondon.co.uk/wp-content/uploads/2022/03/Tom-1.jpg
ORGANIZER;CN="THe Drayton Arms Theatre":MAILTO:info@thedraytontheatre.co.uk
GEO:51.4906492;-0.1835767
X-APPLE-STRUCTURED-LOCATION;VALUE=URI;X-ADDRESS=The Drayton Arms Theatre 153 Old Brompton Rd London SW5 OLJ;X-APPLE-RADIUS=500;X-TITLE=153\, Old Brompton Rd:geo:-0.1835767,51.4906492
END:VEVENT
END:VCALENDAR