BEGIN:VCALENDAR
VERSION:2.0
PRODID:-//Events for LONDON - ECPv6.15.20//NONSGML v1.0//EN
CALSCALE:GREGORIAN
METHOD:PUBLISH
X-ORIGINAL-URL:https://eventsforlondon.co.uk
X-WR-CALDESC:Events for Events for LONDON
REFRESH-INTERVAL;VALUE=DURATION:PT1H
X-Robots-Tag:noindex
X-PUBLISHED-TTL:PT1H
BEGIN:VTIMEZONE
TZID:Europe/London
BEGIN:DAYLIGHT
TZOFFSETFROM:+0000
TZOFFSETTO:+0100
TZNAME:BST
DTSTART:20240331T010000
END:DAYLIGHT
BEGIN:STANDARD
TZOFFSETFROM:+0100
TZOFFSETTO:+0000
TZNAME:GMT
DTSTART:20241027T010000
END:STANDARD
BEGIN:DAYLIGHT
TZOFFSETFROM:+0000
TZOFFSETTO:+0100
TZNAME:BST
DTSTART:20250330T010000
END:DAYLIGHT
BEGIN:STANDARD
TZOFFSETFROM:+0100
TZOFFSETTO:+0000
TZNAME:GMT
DTSTART:20251026T010000
END:STANDARD
BEGIN:DAYLIGHT
TZOFFSETFROM:+0000
TZOFFSETTO:+0100
TZNAME:BST
DTSTART:20260329T010000
END:DAYLIGHT
BEGIN:STANDARD
TZOFFSETFROM:+0100
TZOFFSETTO:+0000
TZNAME:GMT
DTSTART:20261025T010000
END:STANDARD
END:VTIMEZONE
BEGIN:VEVENT
DTSTART;TZID=Europe/London:20250516T093000
DTEND;TZID=Europe/London:20250516T150000
DTSTAMP:20260421T001328
CREATED:20250512T060945Z
LAST-MODIFIED:20250512T060946Z
UID:30094849-1747387800-1747407600@eventsforlondon.co.uk
SUMMARY:‘Made in Central London’ - Recruitement Event by Crown Estates
DESCRIPTION:The Crown Estate in association with British Land\, Grosvenor\, Shaftesbury Capital\, Westminster City Council and the Department for Work and Pensions are hosting ‘Made in Central London’\, a recruitment event to support job seekers in the next step in their career. \nTaking place on Friday 16 May from 9:30am to 3pm at The Londoner Hotel in Leicester Square\, the event will offer up to 1\,000 applicants the opportunity to meet some of Central London’s most iconic hospitality\, retail\, construction and facilities management companies. \n‘Made in Central London’ brings together businesses and potential employees in one space\, offering short\, speed interviews for live vacancies. Attendees could go home on the day with a new role\, as the event accelerates the traditional job application process by removing the need for CV screening. \nPrevious recruitment events hosted by The Crown Estate have facilitated 4\,300 interviews\, with 876 candidates progressing to second-stage interviews across 142 different brands and businesses in the West End. Now The Crown Estate is looking to grow its impact by joining forces with other property companies operating locally. \nOver 30 businesses will be recruiting at the event\, including major retail brands such as Liberty\, Jo Malone\, Burberry and Fortnum & Mason\, as well as leisure and hospitality operators like Gordon Ramsay Restaurants\, Clays and The Chancery Rosewood\, opening late summer. Construction and facilities management businesses\, including CBRE\, will also be in attendance. \nSupporting the retail\, hospitality and construction sectors\, the event aims to support growth in the West End’s economy. Generating £9 billion annually and supporting 560\,000 jobs\, the West End has one of the highest employment densities in the world. By facilitating employment opportunities in this way\, the property sector is actively driving further growth across retail\, hospitality and leisure to enhance the wider West End’s reputation as a world-class destination. \nAll candidates will be welcomed to the event\, including those with health conditions\, disabilities and accessibility needs. The event is open to anyone looking for full time or part time employment.
URL:https://eventsforlondon.co.uk/event/made-in-central-london-recruitement-event-by-crown-estates/
LOCATION:Leicester Square\, London\, Leicester Square\, United Kingdom
CATEGORIES:Events in London,Exhibitions,Networking,People,Pop Up,Society,Work
ATTACH;FMTTYPE=image/jpeg:https://eventsforlondon.co.uk/wp-content/uploads/2025/05/The-Crown-Estate-Recruitment-Event-2-e1747029850169.jpg
ORGANIZER;CN="The Crown Estate":MAILTO:enquiries@thecrownestate.co.uk
GEO:51.5105486;-0.130845
END:VEVENT
END:VCALENDAR