BEGIN:VCALENDAR
VERSION:2.0
PRODID:-//Events for LONDON - ECPv6.15.20//NONSGML v1.0//EN
CALSCALE:GREGORIAN
METHOD:PUBLISH
X-WR-CALNAME:Events for LONDON
X-ORIGINAL-URL:https://eventsforlondon.co.uk
X-WR-CALDESC:Events for Events for LONDON
REFRESH-INTERVAL;VALUE=DURATION:PT1H
X-Robots-Tag:noindex
X-PUBLISHED-TTL:PT1H
BEGIN:VTIMEZONE
TZID:Europe/London
BEGIN:DAYLIGHT
TZOFFSETFROM:+0000
TZOFFSETTO:+0100
TZNAME:BST
DTSTART:20170326T010000
END:DAYLIGHT
BEGIN:STANDARD
TZOFFSETFROM:+0100
TZOFFSETTO:+0000
TZNAME:GMT
DTSTART:20171029T010000
END:STANDARD
BEGIN:DAYLIGHT
TZOFFSETFROM:+0000
TZOFFSETTO:+0100
TZNAME:BST
DTSTART:20180325T010000
END:DAYLIGHT
BEGIN:STANDARD
TZOFFSETFROM:+0100
TZOFFSETTO:+0000
TZNAME:GMT
DTSTART:20181028T010000
END:STANDARD
BEGIN:DAYLIGHT
TZOFFSETFROM:+0000
TZOFFSETTO:+0100
TZNAME:BST
DTSTART:20190331T010000
END:DAYLIGHT
BEGIN:STANDARD
TZOFFSETFROM:+0100
TZOFFSETTO:+0000
TZNAME:GMT
DTSTART:20191027T010000
END:STANDARD
END:VTIMEZONE
BEGIN:VEVENT
DTSTART;VALUE=DATE:20180624
DTEND;VALUE=DATE:20180625
DTSTAMP:20260426T033840
CREATED:20180615T025325Z
LAST-MODIFIED:20180615T040931Z
UID:30046884-1529798400-1529884799@eventsforlondon.co.uk
SUMMARY:Summer Solstice All Day Terrace Party London
DESCRIPTION:Just in the summer fun with the Summer Solstice Party. Chill with summer vibes of music and dance. Studio338 is blowing up with awesome summer fun. ☀☀☀ \nPurchase TICKETS to join the fun.
URL:https://eventsforlondon.co.uk/event/summer-solstice-all-day-terrace-party-london/
LOCATION:Studio 338\, 338 Boord Street London SE10 0PF United Kingdom\, London\, United Kingdom
CATEGORIES:Dance,Festivals
ATTACH;FMTTYPE=image/jpeg:https://eventsforlondon.co.uk/wp-content/uploads/2018/06/uk-0428-1077086-front.jpg
GEO:51.4954417;0.00482
X-APPLE-STRUCTURED-LOCATION;VALUE=URI;X-ADDRESS=Studio 338 338 Boord Street London SE10 0PF United Kingdom London United Kingdom;X-APPLE-RADIUS=500;X-TITLE=338 Boord Street London SE10 0PF United Kingdom:geo:0.00482,51.4954417
END:VEVENT
END:VCALENDAR