BEGIN:VCALENDAR
VERSION:2.0
PRODID:-//Events for LONDON - ECPv6.15.20//NONSGML v1.0//EN
CALSCALE:GREGORIAN
METHOD:PUBLISH
X-ORIGINAL-URL:https://eventsforlondon.co.uk
X-WR-CALDESC:Events for Events for LONDON
REFRESH-INTERVAL;VALUE=DURATION:PT1H
X-Robots-Tag:noindex
X-PUBLISHED-TTL:PT1H
BEGIN:VTIMEZONE
TZID:Europe/London
BEGIN:DAYLIGHT
TZOFFSETFROM:+0000
TZOFFSETTO:+0100
TZNAME:BST
DTSTART:20250330T010000
END:DAYLIGHT
BEGIN:STANDARD
TZOFFSETFROM:+0100
TZOFFSETTO:+0000
TZNAME:GMT
DTSTART:20251026T010000
END:STANDARD
BEGIN:DAYLIGHT
TZOFFSETFROM:+0000
TZOFFSETTO:+0100
TZNAME:BST
DTSTART:20260329T010000
END:DAYLIGHT
BEGIN:STANDARD
TZOFFSETFROM:+0100
TZOFFSETTO:+0000
TZNAME:GMT
DTSTART:20261025T010000
END:STANDARD
BEGIN:DAYLIGHT
TZOFFSETFROM:+0000
TZOFFSETTO:+0100
TZNAME:BST
DTSTART:20270328T010000
END:DAYLIGHT
BEGIN:STANDARD
TZOFFSETFROM:+0100
TZOFFSETTO:+0000
TZNAME:GMT
DTSTART:20271031T010000
END:STANDARD
END:VTIMEZONE
BEGIN:VEVENT
DTSTART;TZID=Europe/London:20260506T190000
DTEND;TZID=Europe/London:20260506T220000
DTSTAMP:20260420T141348
CREATED:20260409T184357Z
LAST-MODIFIED:20260409T184357Z
UID:30125156-1778094000-1778104800@eventsforlondon.co.uk
SUMMARY:Eurovision Your Decision
DESCRIPTION:About the show\nJoin Dimetrius and Ureatha for a live Eurovision cabaret experience where your vote counts in crowning the winner of Eurovision Your Decision\, back for our 6th year! \nPart parody\, part cabaret\, part Euro-Pop fever dream\, this love letter to Eurovision is guaranteed to be a fun night out. It has everything we love (and love to hate) about Eurovision – the incredible costumes\, unbelievable dance routines\, unplaceable accents and utterly predictable technical difficulties. \nWHAT TO EXPECT\nEurovision Your Decision is a West end Wilma nominated and 5 star cabaret show featuring live performances of songs from the last 150 years of Eurovision paying homage to the highs\, lows and questionable fashion choices of this glorious competition. \nJoin us in our live Eurovision arena as you witness 14 of the most iconic (and infamous) Eurovision acts lovingly recreated live on stage. Once you’ve seen the performances\, you get to vote for your favourite to be crowned Eurovision Your Decision 2026! \nThe show runs approximately two hours\, with the bar open throughout plus an intermission. Doors open at event start time\, and the show begins one hour afterwards. \nGrab your flags\, raise a glass to Sir Terry and head on down for a camp romp through Eurovision! \nREVIEWS \n“A fabulous show” – Musical Theatre Review ★★★★★ \n“Eurovision Your Decision is a truly awesome show“ – LondonTheatre1 ★★★★★ \n“it creates such genius parodies that you’ll be laughing hard enough to fall off your bar stool.” – Theatre and Tonic ★★★★★
URL:https://eventsforlondon.co.uk/event/eurovision-your-decision/2026-05-06/
LOCATION:Royal Vauxhall Tavern\, 372 Kennington Ln\, London\, SE11 5HY
CATEGORIES:Cheap Tickets,Comedy,Entertainment,Events in London,Live Music,London Theatre,Workshops
ATTACH;FMTTYPE=image/jpeg:https://eventsforlondon.co.uk/wp-content/uploads/2026/04/Broadway-Worls-720-x-480.jpg
END:VEVENT
END:VCALENDAR