BEGIN:VCALENDAR
VERSION:2.0
PRODID:-//Events for LONDON - ECPv6.15.20//NONSGML v1.0//EN
CALSCALE:GREGORIAN
METHOD:PUBLISH
X-WR-CALNAME:Events for LONDON
X-ORIGINAL-URL:https://eventsforlondon.co.uk
X-WR-CALDESC:Events for Events for LONDON
REFRESH-INTERVAL;VALUE=DURATION:PT1H
X-Robots-Tag:noindex
X-PUBLISHED-TTL:PT1H
BEGIN:VTIMEZONE
TZID:Europe/London
BEGIN:DAYLIGHT
TZOFFSETFROM:+0000
TZOFFSETTO:+0100
TZNAME:BST
DTSTART:20250330T010000
END:DAYLIGHT
BEGIN:STANDARD
TZOFFSETFROM:+0100
TZOFFSETTO:+0000
TZNAME:GMT
DTSTART:20251026T010000
END:STANDARD
BEGIN:DAYLIGHT
TZOFFSETFROM:+0000
TZOFFSETTO:+0100
TZNAME:BST
DTSTART:20260329T010000
END:DAYLIGHT
BEGIN:STANDARD
TZOFFSETFROM:+0100
TZOFFSETTO:+0000
TZNAME:GMT
DTSTART:20261025T010000
END:STANDARD
BEGIN:DAYLIGHT
TZOFFSETFROM:+0000
TZOFFSETTO:+0100
TZNAME:BST
DTSTART:20270328T010000
END:DAYLIGHT
BEGIN:STANDARD
TZOFFSETFROM:+0100
TZOFFSETTO:+0000
TZNAME:GMT
DTSTART:20271031T010000
END:STANDARD
END:VTIMEZONE
BEGIN:VEVENT
DTSTART;TZID=Europe/London:20260509T100000
DTEND;TZID=Europe/London:20260509T213000
DTSTAMP:20260425T165642
CREATED:20260419T052949Z
LAST-MODIFIED:20260419T053043Z
UID:30125644-1778320800-1778362200@eventsforlondon.co.uk
SUMMARY:Sonic Spheres - Conference + Concert
DESCRIPTION:A programme of talks\, panel discussions\, and workshops\, followed by a Loudspeaker Orchestra Concert\n\n\n\n\nConference + Concert\nConference: 10am – 5pm\nConcert: 7pm – 9:30pm \nLeading artists\, technologists\, and researchers present talks\, panels\, and hands-on workshops exploring the forefront of immersive audio. From 3D composition and sound architecture to psychoacoustics and spatial perception\, the programme examines how sound shapes the way we sense\, move through\, and understand the world. \nSonic Spheres transforms Woolwich Works into a living\, resonant environment where multiple spherical loudspeaker arrays animate the space with fully immersive 3D sound. Audiences are invited into an extraordinary encounter with sound in space – a world where listening becomes physical\, spatial\, and deeply embodied. \nFor full programme and timings visit sonicspheres.org. \nWe’re also offering 10 free tickets for non-academic participants who would like to attend. These bursary places are available on a first-come\, first-served basis. To apply\, email Sound-image@greenwich.ac.uk with the subject line “Sonic Spheres Bursary”\, including your name\, email address\, and profession or current role. \n  \n\n\nConcert Only\nConcert: 7pm – 9:30pm \nSonic Spheres transforms Woolwich Works into a living\, resonant environment where multiple spherical loudspeaker arrays animate the space with fully immersive 3D sound. \nAudiences are invited into an extraordinary encounter with sound in space – a world where listening becomes physical\, spatial\, and deeply embodied – inviting audiences to listen in entirely new ways. \nThe concert will include a selection of world premieres and works specifically composed for the IKO loudspeaker/s. For further information on the artists and performances\, visit sonicspheres.org. \n\n\nThis event is part of the SOUND/IMAGE Research Centre (University of Greenwich) 2025-2026 Loudspeaker Orchestra Concert Series. \nIn collaboration with UCL (University College London) and City St George’s\, University of London. \n\n\n\nTo hire a London Steel Band for Summer\, consider the Carribe Steel Band\, based in London\, available UK-wide.
URL:https://eventsforlondon.co.uk/event/sonic-spheres/
LOCATION:Woolwich Works\, The Fireworks Factory\, 11 No. 1 Street\, London\, SE18 6HD\, United Kingdom
CATEGORIES:Arts,Concerts,Conferences,Entertainment,Events in London,Gigs,Music,Performing Arts
ATTACH;FMTTYPE=image/png:https://eventsforlondon.co.uk/wp-content/uploads/2026/04/Sonic-Spheres-Instagram-Post.png
ORGANIZER;CN="SOUND/IMAGE Research Centre (University of Greenwich)":MAILTO:sound-image@greenwich.ac.uk
GEO:51.4943775;0.0700396
X-APPLE-STRUCTURED-LOCATION;VALUE=URI;X-ADDRESS=Woolwich Works The Fireworks Factory 11 No. 1 Street London SE18 6HD United Kingdom;X-APPLE-RADIUS=500;X-TITLE=The Fireworks Factory\, 11 No. 1 Street:geo:0.0700396,51.4943775
END:VEVENT
END:VCALENDAR