BEGIN:VCALENDAR
VERSION:2.0
PRODID:-//Events for LONDON - ECPv6.15.20//NONSGML v1.0//EN
CALSCALE:GREGORIAN
METHOD:PUBLISH
X-WR-CALNAME:Events for LONDON
X-ORIGINAL-URL:https://eventsforlondon.co.uk
X-WR-CALDESC:Events for Events for LONDON
REFRESH-INTERVAL;VALUE=DURATION:PT1H
X-Robots-Tag:noindex
X-PUBLISHED-TTL:PT1H
BEGIN:VTIMEZONE
TZID:Europe/London
BEGIN:DAYLIGHT
TZOFFSETFROM:+0000
TZOFFSETTO:+0100
TZNAME:BST
DTSTART:20170326T010000
END:DAYLIGHT
BEGIN:STANDARD
TZOFFSETFROM:+0100
TZOFFSETTO:+0000
TZNAME:GMT
DTSTART:20171029T010000
END:STANDARD
BEGIN:DAYLIGHT
TZOFFSETFROM:+0000
TZOFFSETTO:+0100
TZNAME:BST
DTSTART:20180325T010000
END:DAYLIGHT
BEGIN:STANDARD
TZOFFSETFROM:+0100
TZOFFSETTO:+0000
TZNAME:GMT
DTSTART:20181028T010000
END:STANDARD
BEGIN:DAYLIGHT
TZOFFSETFROM:+0000
TZOFFSETTO:+0100
TZNAME:BST
DTSTART:20190331T010000
END:DAYLIGHT
BEGIN:STANDARD
TZOFFSETFROM:+0100
TZOFFSETTO:+0000
TZNAME:GMT
DTSTART:20191027T010000
END:STANDARD
END:VTIMEZONE
BEGIN:VEVENT
DTSTART;TZID=Europe/London:20181024T183000
DTEND;TZID=Europe/London:20181028T223000
DTSTAMP:20260420T141358
CREATED:20181022T022602Z
LAST-MODIFIED:20181022T022602Z
UID:30050499-1540405800-1540765800@eventsforlondon.co.uk
SUMMARY:Art of the Wild with Perrier-Jouët at The Mandrake
DESCRIPTION:Smell the flowers as they are beautifully draped along the elegant terrace. Enjoy the curated art collection decorated with champagne. Sip and have a good time at Perrier-Jouët’s #ArtOfTheWild event series. \nTickets start from £40.\nbit.ly/PerrierJouetArtOfTheWild \nPerrier Jouët’s Art Of The Wild Menu:\nhttps://secretldn.com/perrier-jouet-menu/ \n \nThe night will be filled with classes and memorable experience that you can choose from: \nChampagne Tasting: Led by a Perrier-Jouët Champagne Ambassador\, this masterclass will take you on a journey around the unique characteristics and flavour profiles of the Maison’s cuvées. Guests will enjoy an informative and insightful introduction to the history and heritage of Perrier-Jouët while sipping some of the brand’s top selections. \nChampagne-paired Brunch: If you’re after a truly delectable midday treat\, then Perrier-Jouët’s champagne brunch is an unmissable event. Sit back on The Mandrake’s Jurema terrace\, surrounded by the incredible ‘Art Of The Wild’ installation and sip on a glass of Perrier-Jouët Blanc de Blancs NV\, followed by a glass of Perrier-Jouët Blason Rosé NV. \nChampagne-paired Lunch or Dinner: The ultimate date experience or an opportunity to spoil yourself and delight your palate. The Mandrake and Jurema terrace are already renowned for their delectable dining and lush landscape; what better to pair them with than a glass of Perrier-Jouët’s finest champagne? Each course of the bespoke menu will be matched with the perfect glass of bubbles. \nFlorist Design class: A perfect date-night or a chance to discover a new passion\, with friends in a luxurious setting: Melissa Richardson founder of London’s’ JamJar Flowers and creator of the #ARTOFTHEWILD tablescape\, will guide you through creating your own miniature garden to take home in our hands-on terrarium workshop\, all while enjoying a glass of Perrier-Jouët Blanc de Blancs. \nAny questions? Contact:\n? hello@feverup.com\n? +442036086975
URL:https://eventsforlondon.co.uk/event/art-of-the-wild-with-perrier-jouet-at-the-mandrake/
LOCATION:The Mandrake Hotel\, 20 Newman Street\, W1T 1PG\, London\, United Kingdom
CATEGORIES:Arts,Crafts,Drink Tasting,Visual Arts,Workshops
ATTACH;FMTTYPE=image/jpeg:https://eventsforlondon.co.uk/wp-content/uploads/2018/10/5a01b7a4-c0d9-11e8-913d-067dfd978c4d.jpg
GEO:51.5175219;-0.1354318
X-APPLE-STRUCTURED-LOCATION;VALUE=URI;X-ADDRESS=The Mandrake Hotel 20 Newman Street W1T 1PG London United Kingdom;X-APPLE-RADIUS=500;X-TITLE=20 Newman Street\, W1T 1PG:geo:-0.1354318,51.5175219
END:VEVENT
BEGIN:VEVENT
DTSTART;TZID=Europe/London:20181023T193000
DTEND;TZID=Europe/London:20181030T233000
DTSTAMP:20260420T141358
CREATED:20181012T044011Z
LAST-MODIFIED:20181012T044959Z
UID:30048996-1540323000-1540942200@eventsforlondon.co.uk
SUMMARY:Clapham Grand’s Halloween Movie Nights
DESCRIPTION:October comes alive or rather dead with horrific Halloween movies. If you have a heart for fright catch this classic shows that will give you the chills all month long. Among them are The Rocky Horror Picture Show\, Hocus Pocus\, Ghostbusters and Tim Burton’s Corpse Bride. \nA family event that will spook your home. Have a little bit of Halloween fun as guest are encouraged to show their dark side with costumes. Singalongs and cocktail party are what completes the night. \nGet Tickets today! \nMore information : https://secretldn.com/halloween-screenings-clapham/
URL:https://eventsforlondon.co.uk/event/clapham-grands-halloween-movie-nights/
LOCATION:Clapham Grand\, 21-25 St Johns Hill\,\, London\, SW11 1TT\, United Kingdom
CATEGORIES:Entertainment,Family Activities,Films,Movies
ATTACH;FMTTYPE=image/jpeg:https://eventsforlondon.co.uk/wp-content/uploads/2018/10/cgrand-740x431.jpg
GEO:51.4629577;-0.1693811
X-APPLE-STRUCTURED-LOCATION;VALUE=URI;X-ADDRESS=Clapham Grand 21-25 St Johns Hill London SW11 1TT United Kingdom;X-APPLE-RADIUS=500;X-TITLE=21-25 St Johns Hill\,:geo:-0.1693811,51.4629577
END:VEVENT
BEGIN:VEVENT
DTSTART;TZID=Europe/London:20181011T180000
DTEND;TZID=Europe/London:20181013T220000
DTSTAMP:20260420T141358
CREATED:20181012T051524Z
LAST-MODIFIED:20181012T062625Z
UID:30048997-1539280800-1539468000@eventsforlondon.co.uk
SUMMARY:Divine Proportions: Immersive Dining at The Vaults
DESCRIPTION:“Part stand-up\, part-cabaret\, part dinner party. And in short\, it’s an absolute blast.” \nBlurring the lines between feast and fantasy\, Divine Proportions reimagines the story of Dionysus\, the god of wine\, hedonism and ritual ecstasy. ?? \nFind your tickets here ? bit.ly/Divine-Proportions \nPrepare to be led on a mythological journey to heaven and back\, through secret\, sparkling tunnels and into subterranean paradise by your mercurial host Dionysus\, along with their cohort of cult priestesses; a cavorting band of circus sirens and party starters. ? \nExpect course after course of heavenly dishes\, cocktails of milk and honey\, partying with priestesses\, singalong with satyrs and an after party in The Underworld. ??️ ? \nParty like a greek God ? bit.ly/Divine-Proportions \n*Vegan Menu available* \n– Age requirement: 18+ with valid ID\n– This show contains nudity\, strong language and fire\n– Dress code: dress like a deity\, your most bedazzled\, bejewelled and brilliant sequinned self \nAny questions? Contact us here:\n? hello@feverup.com\n? +442036086975 \n\n\n 
URL:https://eventsforlondon.co.uk/event/divine-proportions-immersive-dining-at-the-vaults/
LOCATION:The Vaults\, Leake Street\, London\, SE1 7NN\, United Kingdom
CATEGORIES:Entertainment
ATTACH;FMTTYPE=image/jpeg:https://eventsforlondon.co.uk/wp-content/uploads/2018/10/Divine-Proportions.jpg
GEO:51.5019008;-0.1155791
X-APPLE-STRUCTURED-LOCATION;VALUE=URI;X-ADDRESS=The Vaults Leake Street London SE1 7NN United Kingdom;X-APPLE-RADIUS=500;X-TITLE=Leake Street:geo:-0.1155791,51.5019008
END:VEVENT
END:VCALENDAR