BEGIN:VCALENDAR
VERSION:2.0
PRODID:-//Events for LONDON - ECPv6.15.20//NONSGML v1.0//EN
CALSCALE:GREGORIAN
METHOD:PUBLISH
X-ORIGINAL-URL:https://eventsforlondon.co.uk
X-WR-CALDESC:Events for Events for LONDON
REFRESH-INTERVAL;VALUE=DURATION:PT1H
X-Robots-Tag:noindex
X-PUBLISHED-TTL:PT1H
BEGIN:VTIMEZONE
TZID:Europe/London
BEGIN:DAYLIGHT
TZOFFSETFROM:+0000
TZOFFSETTO:+0100
TZNAME:BST
DTSTART:20180325T010000
END:DAYLIGHT
BEGIN:STANDARD
TZOFFSETFROM:+0100
TZOFFSETTO:+0000
TZNAME:GMT
DTSTART:20181028T010000
END:STANDARD
BEGIN:DAYLIGHT
TZOFFSETFROM:+0000
TZOFFSETTO:+0100
TZNAME:BST
DTSTART:20190331T010000
END:DAYLIGHT
BEGIN:STANDARD
TZOFFSETFROM:+0100
TZOFFSETTO:+0000
TZNAME:GMT
DTSTART:20191027T010000
END:STANDARD
BEGIN:DAYLIGHT
TZOFFSETFROM:+0000
TZOFFSETTO:+0100
TZNAME:BST
DTSTART:20200329T010000
END:DAYLIGHT
BEGIN:STANDARD
TZOFFSETFROM:+0100
TZOFFSETTO:+0000
TZNAME:GMT
DTSTART:20201025T010000
END:STANDARD
END:VTIMEZONE
BEGIN:VEVENT
DTSTART;TZID=Europe/London:20191218T194500
DTEND;TZID=Europe/London:20191218T204500
DTSTAMP:20260424T022748
CREATED:20190915T035840Z
LAST-MODIFIED:20190930T103506Z
UID:30053750-1576698300-1576701900@eventsforlondon.co.uk
SUMMARY:Santhosh Dance’s Fitness & Choreography Class
DESCRIPTION:Spice up your fitness routine with our brand new class: Fitness &Choreography! The class will be led by three award-winning professional dancers who are ready to teach their best Latina moves whilst keeping your heart rate high for an exhilarating\, endorphin-boosting hour of dancercise. The classes will be every Wednesday evening 7:45-8:45\, starting with a trial class on September 25th where the discounted price is only £10 so book on our website: https://santhoshdance.com/dance/timetable/ whilst there is still space!
URL:https://eventsforlondon.co.uk/event/santhosh-dances-fitness-choreography-class/2019-12-18/
LOCATION:The Tabernacle\, 35 Powis Square\, London\, W11 2AY
CATEGORIES:Dance,Fitness,Workshops
ATTACH;FMTTYPE=image/jpeg:https://eventsforlondon.co.uk/wp-content/uploads/2019/09/4g5H7gn.jpg
ORGANIZER;CN="Santhosh Dance":MAILTO:info@santhoshdance.com
GEO:51.5167112;-0.2015456
X-APPLE-STRUCTURED-LOCATION;VALUE=URI;X-ADDRESS=The Tabernacle 35 Powis Square London W11 2AY;X-APPLE-RADIUS=500;X-TITLE=35 Powis Square:geo:-0.2015456,51.5167112
END:VEVENT
BEGIN:VEVENT
DTSTART;TZID=Europe/London:20191115T190000
DTEND;TZID=Europe/London:20191115T233000
DTSTAMP:20260424T022748
CREATED:20191018T175758Z
LAST-MODIFIED:20191018T175758Z
UID:30054212-1573844400-1573860600@eventsforlondon.co.uk
SUMMARY:Santhosh's Bohemian November Nights Dance Party
DESCRIPTION:Come and join us for a night filled with dance\, laughter and sparkle at Santhosh’s annual winter Latin dance party!  \nThe theme for this year’s Latin dance extravaganza is Bohemian Nights – so expect performances dripping with laid-back splendour and dazzling darkness. Our team of expert dancers will be on hand to guide you through join-in choreography\, with performances throughout the night. \nSanthosh dance parties are always fun\, happy and joyful – so come down with friends and loved ones\, get on the dance floor and channel your inner Boho Babe or Boy! \nDress code: Bohemian Nights – sparkles\, feathers\, decadence\, dandy \nMusic: Latin\, Latin pop\, Disco classics and just about anything that takes our fancy\, dahlings!
URL:https://eventsforlondon.co.uk/event/santhoshs-bohemian-november-nights-dance-party/
LOCATION:Seven Dials Club\, Seven Dials Club & Covent Garden\, London\, WC2H 9LA
CATEGORIES:Arts,Dance
ATTACH;FMTTYPE=image/jpeg:https://eventsforlondon.co.uk/wp-content/uploads/2019/10/santhosh-winter-party.jpg
ORGANIZER;CN="Santhosh Dance":MAILTO:info@santhoshdance.com
GEO:51.5137666;-0.1260621
X-APPLE-STRUCTURED-LOCATION;VALUE=URI;X-ADDRESS=Seven Dials Club Seven Dials Club & Covent Garden London WC2H 9LA;X-APPLE-RADIUS=500;X-TITLE=Seven Dials Club & Covent Garden:geo:-0.1260621,51.5137666
END:VEVENT
END:VCALENDAR