BEGIN:VCALENDAR
VERSION:2.0
PRODID:-//Events for LONDON - ECPv6.15.20//NONSGML v1.0//EN
CALSCALE:GREGORIAN
METHOD:PUBLISH
X-WR-CALNAME:Events for LONDON
X-ORIGINAL-URL:https://eventsforlondon.co.uk
X-WR-CALDESC:Events for Events for LONDON
REFRESH-INTERVAL;VALUE=DURATION:PT1H
X-Robots-Tag:noindex
X-PUBLISHED-TTL:PT1H
BEGIN:VTIMEZONE
TZID:Europe/London
BEGIN:DAYLIGHT
TZOFFSETFROM:+0000
TZOFFSETTO:+0100
TZNAME:BST
DTSTART:20240331T010000
END:DAYLIGHT
BEGIN:STANDARD
TZOFFSETFROM:+0100
TZOFFSETTO:+0000
TZNAME:GMT
DTSTART:20241027T010000
END:STANDARD
BEGIN:DAYLIGHT
TZOFFSETFROM:+0000
TZOFFSETTO:+0100
TZNAME:BST
DTSTART:20250330T010000
END:DAYLIGHT
BEGIN:STANDARD
TZOFFSETFROM:+0100
TZOFFSETTO:+0000
TZNAME:GMT
DTSTART:20251026T010000
END:STANDARD
BEGIN:DAYLIGHT
TZOFFSETFROM:+0000
TZOFFSETTO:+0100
TZNAME:BST
DTSTART:20260329T010000
END:DAYLIGHT
BEGIN:STANDARD
TZOFFSETFROM:+0100
TZOFFSETTO:+0000
TZNAME:GMT
DTSTART:20261025T010000
END:STANDARD
END:VTIMEZONE
BEGIN:VEVENT
DTSTART;TZID=Europe/London:20251122T140000
DTEND;TZID=Europe/London:20251122T170000
DTSTAMP:20260421T183451
CREATED:20250815T124529Z
LAST-MODIFIED:20250815T124529Z
UID:30104968-1763820000-1763830800@eventsforlondon.co.uk
SUMMARY:The Flower of Story - why we need stories\, workshop for beginners with Sally Pomme Clayton
DESCRIPTION:The Flower of Story\nSaturday November 22 \, 2.00pm – 5.00pm GMT\nOctober Gallery\, 24 Old Gloucester Street\, London\, WC1N 3AL \nWhy do we tell stories? What is a story made of? What makes a story memorable and tellable?\nThis workshop is for any beginner who would like to explore story and learn some simple storytelling skills. \nAre you a teacher or writer\, an actor or carer\, a librarian or public speaker – anyone who wants to find out more about storytelling? Join Pomme in this creative and practical workshop. She will share her knowledge about why folk and fairytales are valuable to us today and help you discover your own heritage of stories – even if you think you don’t have one! And lead you through some playful\, practical and creative tasks exploring: story structure; memory; visualisation and meaning\, to help you develop your storytelling skills. The Flower of Story is the way Pomme describes the living process of storytelling: plant; grow; bloom; scatter. This process keeps stories alive and relevant to each audience\, and is how similar stories appear in different parts of the World. The workshop will introduce you to her ideas about the magnificent Flower of Story. Pomme has been leading workshops for many years and her style is warm\, enabling and creative. Come and find out why we need stories now. And how you can bring stories and storytelling into your life and for those around you.
URL:https://eventsforlondon.co.uk/event/the-flower-of-story-why-we-need-stories-workshop-for-beginners-with-sally-pomme-clayton/
LOCATION:October Gallery\, 24 Old Gloucester Street\, London\, WC1N 3AL\, United Kingdom
CATEGORIES:Literature,Performing Arts,Workshops,Writers
ATTACH;FMTTYPE=image/jpeg:https://eventsforlondon.co.uk/wp-content/uploads/2025/08/fairytales-from-the-streets-1.jpg
ORGANIZER;CN="Sally Pomme Clayton":MAILTO:sallypommeclayton@hotmail.com
END:VEVENT
END:VCALENDAR