BEGIN:VCALENDAR
VERSION:2.0
PRODID:-//Events for LONDON - ECPv6.15.20//NONSGML v1.0//EN
CALSCALE:GREGORIAN
METHOD:PUBLISH
X-ORIGINAL-URL:https://eventsforlondon.co.uk
X-WR-CALDESC:Events for Events for LONDON
REFRESH-INTERVAL;VALUE=DURATION:PT1H
X-Robots-Tag:noindex
X-PUBLISHED-TTL:PT1H
BEGIN:VTIMEZONE
TZID:Europe/London
BEGIN:DAYLIGHT
TZOFFSETFROM:+0000
TZOFFSETTO:+0100
TZNAME:BST
DTSTART:20200329T010000
END:DAYLIGHT
BEGIN:STANDARD
TZOFFSETFROM:+0100
TZOFFSETTO:+0000
TZNAME:GMT
DTSTART:20201025T010000
END:STANDARD
BEGIN:DAYLIGHT
TZOFFSETFROM:+0000
TZOFFSETTO:+0100
TZNAME:BST
DTSTART:20210328T010000
END:DAYLIGHT
BEGIN:STANDARD
TZOFFSETFROM:+0100
TZOFFSETTO:+0000
TZNAME:GMT
DTSTART:20211031T010000
END:STANDARD
BEGIN:DAYLIGHT
TZOFFSETFROM:+0000
TZOFFSETTO:+0100
TZNAME:BST
DTSTART:20220327T010000
END:DAYLIGHT
BEGIN:STANDARD
TZOFFSETFROM:+0100
TZOFFSETTO:+0000
TZNAME:GMT
DTSTART:20221030T010000
END:STANDARD
END:VTIMEZONE
BEGIN:VEVENT
DTSTART;TZID=Europe/London:20210530T143000
DTEND;TZID=Europe/London:20210530T170000
DTSTAMP:20260423T191359
CREATED:20210415T033040Z
LAST-MODIFIED:20210415T033040Z
UID:30056351-1622385000-1622394000@eventsforlondon.co.uk
SUMMARY:Handel's Messiah at the Royal Albert Hall
DESCRIPTION:The Royal Choral Society has performed Handel’s Messiah on Good Friday afternoon at the Royal Albert Hall every year since 1876\, but in 2020 and 2021 these annual Easter performances had to be cancelled due to the coronavirus pandemic. Now\, with the lockdown restrictions easing\, we are announcing a socially-distanced performance of Handel’s masterpiece on Trinity Sunday\, 30th May 2021.  \nIn order to comply with government guidelines there will only be room for an audience of 800\, so don’t delay in booking your tickets. The choir will be conducted by Royal Choral Society Music Director Richard Cooke\, and accompanied by Richard Pearce on the mighty Royal Albert Hall organ. A quartet of superb soloists will complete the line-up. \nThe Royal Choral Society is delighted to be performing Messiah this year as part of the Royal Albert Hall’s 150th anniversary celebrations. \nRoyal Choral Society\nConductor: Richard Cooke\nOrganist: Richard Pearce\nTrumpet:\nSoprano: Mary Bevan\nMezzo-soprano: Marta Fontanals-Simmons\nTenor: Benjamin Hulett\nBass:  Edward Grint
URL:https://eventsforlondon.co.uk/event/handels-messiah-at-the-royal-albert-hall/
LOCATION:Royal Albert Hall\, Kensington Gore\,\, Kensington\, London\, SW7 2AP\, United Kingdom
CATEGORIES:Arts,Concerts,Events in London,Live Music,Music,Performing Arts
ATTACH;FMTTYPE=image/png:https://eventsforlondon.co.uk/wp-content/uploads/2021/04/FB-1200x628-1.png
ORGANIZER;CN="Royal Choral Society":MAILTO:marketing@royalchoralsociety.co.uk
GEO:51.5009132;-0.1766086
X-APPLE-STRUCTURED-LOCATION;VALUE=URI;X-ADDRESS=Royal Albert Hall Kensington Gore Kensington London SW7 2AP United Kingdom;X-APPLE-RADIUS=500;X-TITLE=Kensington Gore\,:geo:-0.1766086,51.5009132
END:VEVENT
END:VCALENDAR