BEGIN:VCALENDAR
VERSION:2.0
PRODID:-//Events for LONDON - ECPv6.15.20//NONSGML v1.0//EN
CALSCALE:GREGORIAN
METHOD:PUBLISH
X-ORIGINAL-URL:https://eventsforlondon.co.uk
X-WR-CALDESC:Events for Events for LONDON
REFRESH-INTERVAL;VALUE=DURATION:PT1H
X-Robots-Tag:noindex
X-PUBLISHED-TTL:PT1H
BEGIN:VTIMEZONE
TZID:Europe/London
BEGIN:DAYLIGHT
TZOFFSETFROM:+0000
TZOFFSETTO:+0100
TZNAME:BST
DTSTART:20230326T010000
END:DAYLIGHT
BEGIN:STANDARD
TZOFFSETFROM:+0100
TZOFFSETTO:+0000
TZNAME:GMT
DTSTART:20231029T010000
END:STANDARD
BEGIN:DAYLIGHT
TZOFFSETFROM:+0000
TZOFFSETTO:+0100
TZNAME:BST
DTSTART:20240331T010000
END:DAYLIGHT
BEGIN:STANDARD
TZOFFSETFROM:+0100
TZOFFSETTO:+0000
TZNAME:GMT
DTSTART:20241027T010000
END:STANDARD
BEGIN:DAYLIGHT
TZOFFSETFROM:+0000
TZOFFSETTO:+0100
TZNAME:BST
DTSTART:20250330T010000
END:DAYLIGHT
BEGIN:STANDARD
TZOFFSETFROM:+0100
TZOFFSETTO:+0000
TZNAME:GMT
DTSTART:20251026T010000
END:STANDARD
END:VTIMEZONE
BEGIN:VEVENT
DTSTART;TZID=Europe/London:20240626T193000
DTEND;TZID=Europe/London:20240626T213000
DTSTAMP:20260424T233902
CREATED:20240601T031724Z
LAST-MODIFIED:20240601T031724Z
UID:30069871-1719430200-1719437400@eventsforlondon.co.uk
SUMMARY:Beethoven “Missa Solemnis”
DESCRIPTION:The Parliament Choir and Southbank Sinfonia perform Beethoven’s great choral work “Missa Solemnis”.  This marks 200 years since the piece was first performed and 25 years of the choir. \nViolinist Jennifer Pike will also perform “Romance in F Major”
URL:https://eventsforlondon.co.uk/event/beethoven-missa-solemnis/2024-06-26/2/
LOCATION:Royal Festival Hall\, Southbank Centre\, Belvedere Rd\,\, London\, Lambeth\, SE1 8XX\, United Kingdom
CATEGORIES:Events in London,Free Events,Live Music,Music,Performing Arts
ATTACH;FMTTYPE=image/jpeg:https://eventsforlondon.co.uk/wp-content/uploads/2024/05/IMG_4597.jpeg
ORGANIZER;CN="Parliament Choir":MAILTO:parliamentchoir.comms@gmail.com
GEO:51.5060805;-0.1163042
X-APPLE-STRUCTURED-LOCATION;VALUE=URI;X-ADDRESS=Royal Festival Hall Southbank Centre Belvedere Rd London Lambeth SE1 8XX United Kingdom;X-APPLE-RADIUS=500;X-TITLE=Southbank Centre\, Belvedere Rd\,:geo:-0.1163042,51.5060805
END:VEVENT
END:VCALENDAR