BEGIN:VCALENDAR
VERSION:2.0
PRODID:-//Events for LONDON - ECPv6.15.20//NONSGML v1.0//EN
CALSCALE:GREGORIAN
METHOD:PUBLISH
X-WR-CALNAME:Events for LONDON
X-ORIGINAL-URL:https://eventsforlondon.co.uk
X-WR-CALDESC:Events for Events for LONDON
REFRESH-INTERVAL;VALUE=DURATION:PT1H
X-Robots-Tag:noindex
X-PUBLISHED-TTL:PT1H
BEGIN:VTIMEZONE
TZID:Europe/London
BEGIN:DAYLIGHT
TZOFFSETFROM:+0000
TZOFFSETTO:+0100
TZNAME:BST
DTSTART:20170326T010000
END:DAYLIGHT
BEGIN:STANDARD
TZOFFSETFROM:+0100
TZOFFSETTO:+0000
TZNAME:GMT
DTSTART:20171029T010000
END:STANDARD
BEGIN:DAYLIGHT
TZOFFSETFROM:+0000
TZOFFSETTO:+0100
TZNAME:BST
DTSTART:20180325T010000
END:DAYLIGHT
BEGIN:STANDARD
TZOFFSETFROM:+0100
TZOFFSETTO:+0000
TZNAME:GMT
DTSTART:20181028T010000
END:STANDARD
BEGIN:DAYLIGHT
TZOFFSETFROM:+0000
TZOFFSETTO:+0100
TZNAME:BST
DTSTART:20190331T010000
END:DAYLIGHT
BEGIN:STANDARD
TZOFFSETFROM:+0100
TZOFFSETTO:+0000
TZNAME:GMT
DTSTART:20191027T010000
END:STANDARD
BEGIN:DAYLIGHT
TZOFFSETFROM:+0000
TZOFFSETTO:+0100
TZNAME:BST
DTSTART:20200329T010000
END:DAYLIGHT
BEGIN:STANDARD
TZOFFSETFROM:+0100
TZOFFSETTO:+0000
TZNAME:GMT
DTSTART:20201025T010000
END:STANDARD
END:VTIMEZONE
BEGIN:VEVENT
DTSTART;TZID=Europe/London:20190112T100000
DTEND;TZID=Europe/London:20190112T170000
DTSTAMP:20260423T202713
CREATED:20181224T043245Z
LAST-MODIFIED:20181224T043245Z
UID:30050807-1547287200-1547312400@eventsforlondon.co.uk
SUMMARY:Breath Coaching Workshop In London
DESCRIPTION:Nevşah\nWhat is the meaning of life? Your achievements? Meaningful relationships? Being healthy and energetic? Being fit and charming? ARE YOU SURE? \nWE ALL WANT A BETTER LIFE! HAPPINESS\, JOY\, HEALTH\, SATISFACTION… \nAND NONE OF THIS HAS TO DO WITH WHAT YOU DO IN YOUR LIFE! \nYOUR PSYCHOLOGY DEPENDS ON YOUR BREATH! \nWE OFFER YOU A SOLUTION! \nCHANGE YOUR BREATH AND YOU WILL CHANGE YOUR LIFE! \nYour perception of life\, your thoughts\, your feelings\, your desires and everything depends on how you breathe! \nYou CAN be healthier\, happier\, stronger\, satisfied and successful all at the same time. \nIf you feel you are ready to close the gap between who you are and who you want to be\, move on\, create miracles in your life and call us right away! \nNEVSAHNEVSAH \nDISCOVER THE MIRACLE OF BREATH you will have two full breath sessions and lots of life coaching. You will work in groups; every 3 people will have a professional certified breath coach working with them privately. You will be analysing your breath\, recognising your dysfunctional breathing habits and start learning new habits. \nDISCOVER THE MIRACLE OF BREATH COURSE offers you; \nTotal peace\, relaxation\, positive energy\, health\, harmony\, stability\, happiness\, joy\, excellent relations\, self confidence\, strength and success in all levels of your life. \nAfter this course you will learn exercises you will continue doing in the morning. These exercises include effective transforming methods that you can follow in your daily life. \n  \nMore info; www.nevsah.com \nABOUT NEVSAH; https://www.nevsah.com/nevsah.html \nWEBSITE AND TICKETS: https://www.eventbrite.com/e/breath-coaching-workshop-in-london-tickets-53587775479
URL:https://eventsforlondon.co.uk/event/breath-coaching-workshop-in-london/
LOCATION:Conference Room\, Russell Square\,\, WC1B 4JP\, London\, United Kingdom
CATEGORIES:Exercise,Workshops
ATTACH;FMTTYPE=image/jpeg:https://eventsforlondon.co.uk/wp-content/uploads/2018/12/breathing-exercise.jpg
ORGANIZER;CN="Nev%C5%9Fah":MAILTO:claudia@abstractpr.com
GEO:51.5206076;-0.1260132
X-APPLE-STRUCTURED-LOCATION;VALUE=URI;X-ADDRESS=Conference Room Russell Square WC1B 4JP London United Kingdom;X-APPLE-RADIUS=500;X-TITLE=WC1B 4JP:geo:-0.1260132,51.5206076
END:VEVENT
BEGIN:VEVENT
DTSTART;TZID=Europe/London:20181110T090000
DTEND;TZID=Europe/London:20181110T170000
DTSTAMP:20260423T202713
CREATED:20181026T031340Z
LAST-MODIFIED:20181026T054939Z
UID:30050517-1541840400-1541869200@eventsforlondon.co.uk
SUMMARY:The Miracle Course by Nevsah
DESCRIPTION:If you find that you’re constantly questioning life\, thinking something isn’t quite right\, or not quite as happy or relaxed as you should be\, then you need to do something to change that! And quickly. We believe the solution is simple: change the way you breath!   Your physical\, psychological and emotional well-being is inextricably linked to the way you breathe. Our coaches can teach their students how to identify their dysfunctional breathing habits; help them understand why they have formed these habits; address the underlying psychological or physiological issues that cause them; and\, most importantly\, learn how to push positively past them using revolutionary breathing techniques that are guaranteed to ensure those we help gain a new lease of life and\, just as importantly\, a fresh insight into their lives. \nThroughout the course you will be supported by an impressively expert team of dedicated professionals. You will be placed in a group of three and given your very own dedicated breath coach\, who will work privately with you to make sure you get everything you want to out of the Course. So the tuition will be discreet and truly tailor-made. Your coach will be your personal breathe guru\, teaching you the revolutionary methods that thousands of people have already practiced\, learned and benefited from. \nThis workshop is done with groups of 20 people. \nA respiratory coach is working with both participants. \nCONFERENCE ROOM for 40 people in London in Marylebone \nMore info: www.nevsah.com \nABOUT NEVSAH: https://www.nevsah.com/nevsah.html \nWEBSITE AND TICKETS: https://www.nevsah.com/3564-buy.html
URL:https://eventsforlondon.co.uk/event/the-miracle-course-by-nevsah/
LOCATION:Daventry Street\, Daventry Street\, London\, United Kingdom
CATEGORIES:Family Activities,Fitness,Health Services,Workshops
ATTACH;FMTTYPE=image/jpeg:https://eventsforlondon.co.uk/wp-content/uploads/2018/10/43586858_2129644150400266_843396448673333248_n.jpg
ORGANIZER;CN="Nev%C5%9Fah":MAILTO:claudia@abstractpr.com
GEO:51.5215921;-0.1671659
X-APPLE-STRUCTURED-LOCATION;VALUE=URI;X-ADDRESS=Daventry Street Daventry Street London United Kingdom;X-APPLE-RADIUS=500;X-TITLE=Daventry Street:geo:-0.1671659,51.5215921
END:VEVENT
END:VCALENDAR