BEGIN:VCALENDAR
VERSION:2.0
PRODID:-//Events for LONDON - ECPv6.15.20//NONSGML v1.0//EN
CALSCALE:GREGORIAN
METHOD:PUBLISH
X-ORIGINAL-URL:https://eventsforlondon.co.uk
X-WR-CALDESC:Events for Events for LONDON
REFRESH-INTERVAL;VALUE=DURATION:PT1H
X-Robots-Tag:noindex
X-PUBLISHED-TTL:PT1H
BEGIN:VTIMEZONE
TZID:Europe/London
BEGIN:DAYLIGHT
TZOFFSETFROM:+0000
TZOFFSETTO:+0100
TZNAME:BST
DTSTART:20240331T010000
END:DAYLIGHT
BEGIN:STANDARD
TZOFFSETFROM:+0100
TZOFFSETTO:+0000
TZNAME:GMT
DTSTART:20241027T010000
END:STANDARD
BEGIN:DAYLIGHT
TZOFFSETFROM:+0000
TZOFFSETTO:+0100
TZNAME:BST
DTSTART:20250330T010000
END:DAYLIGHT
BEGIN:STANDARD
TZOFFSETFROM:+0100
TZOFFSETTO:+0000
TZNAME:GMT
DTSTART:20251026T010000
END:STANDARD
BEGIN:DAYLIGHT
TZOFFSETFROM:+0000
TZOFFSETTO:+0100
TZNAME:BST
DTSTART:20260329T010000
END:DAYLIGHT
BEGIN:STANDARD
TZOFFSETFROM:+0100
TZOFFSETTO:+0000
TZNAME:GMT
DTSTART:20261025T010000
END:STANDARD
END:VTIMEZONE
BEGIN:VEVENT
DTSTART;TZID=Europe/London:20251020T210000
DTEND;TZID=Europe/London:20251020T220000
DTSTAMP:20260423T174126
CREATED:20250904T064632Z
LAST-MODIFIED:20250904T064632Z
UID:30106270-1760994000-1760997600@eventsforlondon.co.uk
SUMMARY:Magic & Sex
DESCRIPTION:Comedy Magic Show \n“The most original use of magic I have ever seen” Sid Ozalid\, Magician. \nKath has been asked to do some magic tricks during Barbara’s sex show to “fill in any holes” but Barb hasn’t shown up\, leaving Kath to do it all by herself.  \n★★★★ “Hilarious and heartbreaking” Stagey Reviews “Refreshingly original” North West End \nKathryn Haywood returns after the sell-out\, five-star run of her Offie-nominated debut show Yoga & Sex…. For Women (Over 40): “Sheer delight… non-stop hilarity” Reviews Hub; “Excellent to watch… maestro of the side-eye” Chortle; “A masterclass in character-led comedy” LondonTheatre1.  \nIn her brand new show\, Magic & Sex\, Kath has decided to delve into the art of illusion and become a fully-fledged magician. She will astound with her command of a deck of cards\, she’ll can read your mind before you can say Hey Presto\, and produce the two of clubs before you can say Abra-Kath-Dabra! \nYou’ve never seen magic done like this and chances are you never will again. Come and see the hottest new conjuror on the block and leave with your head spinning and your stomach churning. (& sex) \nDirected by Dan Mersh
URL:https://eventsforlondon.co.uk/event/magic-sex/
LOCATION:Vaulty Towers\, 34 Lower Marsh\, London\, SE1 7RG
CATEGORIES:Comedy,Entertainment,Events in London,London Theatre
ATTACH;FMTTYPE=image/jpeg:https://eventsforlondon.co.uk/wp-content/uploads/2025/09/Kath-Landscape-e1756968387263.jpeg
ORGANIZER;CN="Lambeth Fringe":MAILTO:lambethfringe@breadandrosestheatre.co.uk
END:VEVENT
BEGIN:VEVENT
DTSTART;TZID=Europe/London:20251005T190000
DTEND;TZID=Europe/London:20251005T200000
DTSTAMP:20260423T174126
CREATED:20250929T104408Z
LAST-MODIFIED:20250929T104408Z
UID:30108225-1759690800-1759694400@eventsforlondon.co.uk
SUMMARY:Virtually There
DESCRIPTION:Stand by and strap in! Join us for the global product launch of the XLRealityUltimate\, the last word in virtual reality systems. Experience high-speed chases\, all action shoot’em ups and rollicking roleplays – all in High-Definition crystal clarity. Nothing could go wrong! Could it? Conceived in Lockdown and nurtured by our continuing obsession with digital technology\, Virtually There explores the tension between our fantasy lives and our reality\, who we’d like to be and who we really are. Using poetry\, song and a large helping of silliness while mixing Shakespeare\, classical philosophy and bangin’ choons\, it is a heartfelt plea for the primacy of human contact. \nVirtually There is written and performed by Stewart Taylor\, comedy poet and former national Anti-Slam winner whose previous show Spillage received a five star review when presented at the Brighton Fringe – ‘Taylor is a fabulous physical performer’ Simon Topping\, Reviews Hub. \nThis show marks Virtually There’s London debut prior to further performances next year. ‘He captivates audiences effortlessly and the text exudes both lyricism and talent.’ Anita Foxall\, in-common.co.uk
URL:https://eventsforlondon.co.uk/event/virtually-there/
LOCATION:bread and roses theatre\, london\, 68 Clapham Manor St\, London\, SW4 6DZ
CATEGORIES:Cheap Tickets,Comedy,Events in London,London Theatre,Performing Arts,Poetry
ATTACH;FMTTYPE=image/jpeg:https://eventsforlondon.co.uk/wp-content/uploads/2025/09/Hands-out-black-e1759142641381.jpg
ORGANIZER;CN="Lambeth Fringe":MAILTO:lambethfringe@breadandrosestheatre.co.uk
GEO:51.4658934;-0.1364759
X-APPLE-STRUCTURED-LOCATION;VALUE=URI;X-ADDRESS=bread and roses theatre london 68 Clapham Manor St London SW4 6DZ;X-APPLE-RADIUS=500;X-TITLE=68 Clapham Manor St:geo:-0.1364759,51.4658934
END:VEVENT
BEGIN:VEVENT
DTSTART;TZID=Europe/London:20251004T170000
DTEND;TZID=Europe/London:20251004T180000
DTSTAMP:20260423T174126
CREATED:20250929T104743Z
LAST-MODIFIED:20250929T104743Z
UID:30108232-1759597200-1759600800@eventsforlondon.co.uk
SUMMARY:Skysteamer to Athens: Steampunk Storytelling Extravaganza
DESCRIPTION:All aboard – the skysteamer is about to depart! Join C.J. Carter-Stephenson as he brings his steampunk novelette Skysteamer to Athens vividly to life at Vauxhall City Farm as part of the Lambeth Fringe Festival. See an airship fly and meet an automaton puppet in this thrilling reader’s theatre performance. A lavish sensory experience\, which will transport you back to a fictionalised 19th Century\, where top hats and corsets are the height of fashion and the wonder of steam is transforming the world. Cast off your mooring ropes and prepare to soar into the clouds.
URL:https://eventsforlondon.co.uk/event/skysteamer-to-athens-steampunk-storytelling-extravaganza/
LOCATION:vauxhall City Farm\, 165 Tyers Street\, London\, SE11 5HS\, United Kingdom
CATEGORIES:Cheap Tickets,Community Events,Literature,London Theatre,Performing Arts,Shows
ATTACH;FMTTYPE=image/jpeg:https://eventsforlondon.co.uk/wp-content/uploads/2025/09/SkysteamerToAthensPromoImageV5.jpg
ORGANIZER;CN="Lambeth Fringe":MAILTO:lambethfringe@breadandrosestheatre.co.uk
END:VEVENT
END:VCALENDAR