BEGIN:VCALENDAR
VERSION:2.0
PRODID:-//Events for LONDON - ECPv6.15.20//NONSGML v1.0//EN
CALSCALE:GREGORIAN
METHOD:PUBLISH
X-WR-CALNAME:Events for LONDON
X-ORIGINAL-URL:https://eventsforlondon.co.uk
X-WR-CALDESC:Events for Events for LONDON
REFRESH-INTERVAL;VALUE=DURATION:PT1H
X-Robots-Tag:noindex
X-PUBLISHED-TTL:PT1H
BEGIN:VTIMEZONE
TZID:Europe/London
BEGIN:DAYLIGHT
TZOFFSETFROM:+0000
TZOFFSETTO:+0100
TZNAME:BST
DTSTART:20220327T010000
END:DAYLIGHT
BEGIN:STANDARD
TZOFFSETFROM:+0100
TZOFFSETTO:+0000
TZNAME:GMT
DTSTART:20221030T010000
END:STANDARD
BEGIN:DAYLIGHT
TZOFFSETFROM:+0000
TZOFFSETTO:+0100
TZNAME:BST
DTSTART:20230326T010000
END:DAYLIGHT
BEGIN:STANDARD
TZOFFSETFROM:+0100
TZOFFSETTO:+0000
TZNAME:GMT
DTSTART:20231029T010000
END:STANDARD
BEGIN:DAYLIGHT
TZOFFSETFROM:+0000
TZOFFSETTO:+0100
TZNAME:BST
DTSTART:20240331T010000
END:DAYLIGHT
BEGIN:STANDARD
TZOFFSETFROM:+0100
TZOFFSETTO:+0000
TZNAME:GMT
DTSTART:20241027T010000
END:STANDARD
END:VTIMEZONE
BEGIN:VEVENT
DTSTART;TZID=Europe/London:20231230T220000
DTEND;TZID=Europe/London:20231230T230000
DTSTAMP:20260423T121014
CREATED:20230412T165246Z
LAST-MODIFIED:20230425T114749Z
UID:30060149-1703973600-1703977200@eventsforlondon.co.uk
SUMMARY:Yes Queens
DESCRIPTION:Some of the best comedy-improvisers in the UK\, the Yes Queens will star at London’s oldest pub theatre on the last Saturday of every month\, for what promise to be stellar nights of raucous fun and ingenious invention. Featuring top UK impro talent from Olivier Award-winning productions such as Showstopper! The Improvised Musical\, Austentatious and Mischief Theatre\, Yes Queens is interactive theatre at its best\, with the audience playing a key role in a night of games\, scenes\, sketches and songs – all improvised from the audience’s suggestions.\n\nThe Yes Queens regularly perform with top improvisation groups and shows\, including Comedy Store Players\, Paul Merton’s Impro Chums\, Whose Line Is It Anyway? Live\, Hoopla\, The Nursery\, The Free Association\, The Committee\, and Grand Theft Impro.\n\nEach show features improv games\, scenes and songs with the Yes Queens – all renowned for their quick witted\, no holds barred creativity – the perfect recipe for a great Saturday night out.\n\nIt will make you laugh\, cheer and cry all at the same time ★★★★★ – Broadway Baby\nA (musical) number that wouldn’t sound out of place in a bona fide West End musical…..(from) some of the UK’s biggest-hitting improvisers – The Guardian\n\n \n\n 
URL:https://eventsforlondon.co.uk/event/yes-queens/2023-12-30/
LOCATION:King’s Head Theatre\, 116P Upper Street\, London\, N1 1QP
CATEGORIES:Comedy,London Theatre
ATTACH;FMTTYPE=image/jpeg:https://eventsforlondon.co.uk/wp-content/uploads/2023/04/Yes-Queens-250x250-1.jpg
GEO:51.5383131;-0.1025807
X-APPLE-STRUCTURED-LOCATION;VALUE=URI;X-ADDRESS=King’s Head Theatre 116P Upper Street London N1 1QP;X-APPLE-RADIUS=500;X-TITLE=116P Upper Street:geo:-0.1025807,51.5383131
END:VEVENT
END:VCALENDAR