BEGIN:VCALENDAR
VERSION:2.0
PRODID:-//Events for LONDON - ECPv6.15.20//NONSGML v1.0//EN
CALSCALE:GREGORIAN
METHOD:PUBLISH
X-WR-CALNAME:Events for LONDON
X-ORIGINAL-URL:https://eventsforlondon.co.uk
X-WR-CALDESC:Events for Events for LONDON
REFRESH-INTERVAL;VALUE=DURATION:PT1H
X-Robots-Tag:noindex
X-PUBLISHED-TTL:PT1H
BEGIN:VTIMEZONE
TZID:Europe/London
BEGIN:DAYLIGHT
TZOFFSETFROM:+0000
TZOFFSETTO:+0100
TZNAME:BST
DTSTART:20210328T010000
END:DAYLIGHT
BEGIN:STANDARD
TZOFFSETFROM:+0100
TZOFFSETTO:+0000
TZNAME:GMT
DTSTART:20211031T010000
END:STANDARD
BEGIN:DAYLIGHT
TZOFFSETFROM:+0000
TZOFFSETTO:+0100
TZNAME:BST
DTSTART:20220327T010000
END:DAYLIGHT
BEGIN:STANDARD
TZOFFSETFROM:+0100
TZOFFSETTO:+0000
TZNAME:GMT
DTSTART:20221030T010000
END:STANDARD
BEGIN:DAYLIGHT
TZOFFSETFROM:+0000
TZOFFSETTO:+0100
TZNAME:BST
DTSTART:20230326T010000
END:DAYLIGHT
BEGIN:STANDARD
TZOFFSETFROM:+0100
TZOFFSETTO:+0000
TZNAME:GMT
DTSTART:20231029T010000
END:STANDARD
END:VTIMEZONE
BEGIN:VEVENT
DTSTART;TZID=Europe/London:20220104T100000
DTEND;TZID=Europe/London:20220118T180000
DTSTAMP:20260424T000659
CREATED:20220101T081211Z
LAST-MODIFIED:20220101T081212Z
UID:30058633-1641290400-1642528800@eventsforlondon.co.uk
SUMMARY:Dream Retro for cool and kitsch vintage shopping
DESCRIPTION:Dream Retro at Alfies Antique Market is a cosy\, colourful\, kitsch vintage shop in Central London. A must for fans of the ’40s\, ’50s and 60’s lifestyle and culture\, those who love a bit of kitsch or are looking for something a little different that’s not mainstream. \nAt Dream Retro\, you’ll find books\, men and women’s accessories\, costume jewellery\, vintage ashtrays\, retro cigarette lighters\, vinyl jazz\, blues\, soul\, swing\, r n r\, doo-wop\, jump jive records and LPs\, decorative art\, beautiful vintage handbags\, vintage clothes\, funky coloured glassware\, kitsch barware\, and a whole lot more. Items are in excellent condition. Some are still in the original packaging and has never been used. All items at Dream Retro are hand-picked and lovingly sourced and collected.\n2nd floor\, turn LEFT at the top of the wooden staircase for some wonderful vintage shopping Tuesday – Saturday\n@dreamretrouk\n#dreamretro\n#vintageshop\n#vintageshopping\n#londonvintage\n#vintagefinds\n#shopvintage
URL:https://eventsforlondon.co.uk/event/dream-retro-for-cool-and-kitsch-vintage-shopping/
LOCATION:Alfies Antiques Market\, 2nd Floor\, 13 – 25 Church Street\, LONDON\, NW8 8DT
CATEGORIES:Events in London,Family Activities,Free Events,Shopping
ATTACH;FMTTYPE=image/jpeg:https://eventsforlondon.co.uk/wp-content/uploads/2021/12/INSTAGRAM-DREAM-RETRO.jpg
ORGANIZER;CN="Jeniffer Jackson":MAILTO:dream.retro22@hotmail.com
GEO:51.5241887;-0.1688101
X-APPLE-STRUCTURED-LOCATION;VALUE=URI;X-ADDRESS=Alfies Antiques Market 2nd Floor 13 – 25 Church Street LONDON NW8 8DT;X-APPLE-RADIUS=500;X-TITLE=2nd Floor\, 13 – 25 Church Street:geo:-0.1688101,51.5241887
END:VEVENT
BEGIN:VEVENT
DTSTART;TZID=Europe/London:20220104T100000
DTEND;TZID=Europe/London:20220118T180000
DTSTAMP:20260424T000659
CREATED:20211231T184113Z
LAST-MODIFIED:20211231T184114Z
UID:30058770-1641290400-1642528800@eventsforlondon.co.uk
SUMMARY:Alfies Antiques Market and Roof top Kitchen Terrace Tuesday - Saturday
DESCRIPTION:For more than 40 years\, Alfies Antique Market has attracted serious collectors\, interior designers and celebrities to its various antiques and collectables. A former department store Jordans\, Alfies Antiques Market\, is one of only a few remaining indoor antique markets in London and the largest. \nTo this day\, people from all over the world come to Alfies to take in its chic bohemian atmosphere and to find something genuine and unique from books\, vinyl records\, perfume bottles\, costume jewellery\, ashtrays\, cigarette lighters\, barware\, cocktail items\, beautiful vintage handbags\, vintage clothing\, interiors\, vintage textiles\, antique lace from around the world\, decorative\, retro accessories\, paintings\, vintage fabrics\, art deco\, mid-century furniture\, expert jewellery\, watch and clock repairs. \nAlfies Antiques Market is well worth a visit for its diversity and the sheer volume and variety of items on sale on all four floors. From the newly opened Al Fayez lounge on the lower ground floor to the excellent vintage clothing and accessories on sale at the Vintage Modes section on the 2nd floor. As well as paintings\, art deco\, furniture\, fine arts & more. \nPlease start at the top\, head to the second floor at the top of the giant wooden staircase with its plush blue carpets\, en route to the Rooftop kitchen. Vintage clothes\, men’s wear\, books\, vinyl records\, and LPs. With its plush blue carpets\, Watch out for vintage evening wear\, handbags\, accessories and costume jewellery from the Vintage Modes. You’ll also find jewellery repairs\, designers\, and clock and watch repair specialists. \nThe Lower Ground Floor (basement) AL Fayez Middle Eastern Art\, Antiques & Design market was launched by owner Bennie Gray in 2018. Al Fayez is a Middle Eastern Art\, Antiques & Design market spanning two floors and over 4\,000 square feet in the lower ground floor of the iconic Alfies Antiques Market. Its beautiful glass staircase wraps itself seductively around a giant sculpture of the Roc bird of Arabian nights legend\, rising out from a splendid water feature. You are then met with numerous shops that offer an incredible journey through the Middle East’s different cultures\, traditions\, and aesthetics. \nYou’ll also find on the second floor the kitsch vintage shop Dream Retro for great vintage handbags\, perfume bottles\, vintage lighters and ashtrays plus curious items\, vinyl records\, books\, plus The Creative Jewellery Company for expert jewellery\, and clock repair\, bespoke jewellery designs. There’s also vintage clothes\, antique buttons\, lace\, textiles\, and sumptuous glamour. \nThe rooftop kitchen/terrace is open for breakfast\, lunches\, coffee\, teas\, wine beers\, delicious homemade cakes\, pan-fried chips and free Wi-Fi\, making a visit to Alfies Antique Market complete.\nNB: Masks need to be worn once again where possible.
URL:https://eventsforlondon.co.uk/event/alfies-antiques-market-and-roof-top-kitchen-terrace-tuesday-saturday/
LOCATION:Alfies Antiques Market\, 2nd Floor\, 13 – 25 Church Street\, LONDON\, NW8 8DT
CATEGORIES:Arts,Community Events,Events in London,Fashion,Interior Design,Restaurant Promotions,Shopping,Wine
ATTACH;FMTTYPE=image/jpeg:https://eventsforlondon.co.uk/wp-content/uploads/2021/12/Alfies-Antiques-Market-.jpg
ORGANIZER;CN="Jeniffer Jackson":MAILTO:dream.retro22@hotmail.com
GEO:51.5241887;-0.1688101
X-APPLE-STRUCTURED-LOCATION;VALUE=URI;X-ADDRESS=Alfies Antiques Market 2nd Floor 13 – 25 Church Street LONDON NW8 8DT;X-APPLE-RADIUS=500;X-TITLE=2nd Floor\, 13 – 25 Church Street:geo:-0.1688101,51.5241887
END:VEVENT
END:VCALENDAR