BEGIN:VCALENDAR
VERSION:2.0
PRODID:-//Events for LONDON - ECPv6.15.20//NONSGML v1.0//EN
CALSCALE:GREGORIAN
METHOD:PUBLISH
X-WR-CALNAME:Events for LONDON
X-ORIGINAL-URL:https://eventsforlondon.co.uk
X-WR-CALDESC:Events for Events for LONDON
REFRESH-INTERVAL;VALUE=DURATION:PT1H
X-Robots-Tag:noindex
X-PUBLISHED-TTL:PT1H
BEGIN:VTIMEZONE
TZID:Europe/London
BEGIN:DAYLIGHT
TZOFFSETFROM:+0000
TZOFFSETTO:+0100
TZNAME:BST
DTSTART:20180325T010000
END:DAYLIGHT
BEGIN:STANDARD
TZOFFSETFROM:+0100
TZOFFSETTO:+0000
TZNAME:GMT
DTSTART:20181028T010000
END:STANDARD
BEGIN:DAYLIGHT
TZOFFSETFROM:+0000
TZOFFSETTO:+0100
TZNAME:BST
DTSTART:20190331T010000
END:DAYLIGHT
BEGIN:STANDARD
TZOFFSETFROM:+0100
TZOFFSETTO:+0000
TZNAME:GMT
DTSTART:20191027T010000
END:STANDARD
BEGIN:DAYLIGHT
TZOFFSETFROM:+0000
TZOFFSETTO:+0100
TZNAME:BST
DTSTART:20200329T010000
END:DAYLIGHT
BEGIN:STANDARD
TZOFFSETFROM:+0100
TZOFFSETTO:+0000
TZNAME:GMT
DTSTART:20201025T010000
END:STANDARD
END:VTIMEZONE
BEGIN:VEVENT
DTSTART;TZID=Europe/London:20191102T193000
DTEND;TZID=Europe/London:20191102T213000
DTSTAMP:20260421T094056
CREATED:20191029T034612Z
LAST-MODIFIED:20191029T034612Z
UID:30054352-1572723000-1572730200@eventsforlondon.co.uk
SUMMARY:Jäger Soho x Doc’n Roll Festival
DESCRIPTION:Jäger Soho\, Jägermeister and Soho Radio’s collaborative events space\, is partnering with Doc’n Roll Film Festival to host the afterparty for world premiere of Cracked Open\, alongside an art exhibition from the filmmaker\, Gina Birch. \nThe event will take place next Saturday\, 2nd November following the world premiere of Cracked Open\, a film which offers a closer look to Gina Birch’s creative universe and acclaimed work as an audiovisual artist. \nA multi-talented creative\, Gina will host the event\, which will be open to the public and feature an intimate exhibition of her artwork alongside complimentary cocktails courtesy of Jägermeister\, with DJ sets from Helen McCookerybook and Anna Da Silva from The Raincoats. \nCracked Open world premiere will be on the 2nd November\, 4:45pm\, at the Institute of Contemporary Arts\, ICA. Here for more information on the film and Doc’n Roll Festival.
URL:https://eventsforlondon.co.uk/event/jager-soho-x-docn-roll-festival/
LOCATION:London\, United Kingdom
CATEGORIES:Films,Music
ATTACH;FMTTYPE=image/jpeg:https://eventsforlondon.co.uk/wp-content/uploads/2019/10/Doc-n-Roll-Jager-Square-.jpg
ORGANIZER;CN="Jager Soho":MAILTO:info@sohoradiolondon.com
END:VEVENT
BEGIN:VEVENT
DTSTART;TZID=Europe/London:20190225T100000
DTEND;TZID=Europe/London:20190303T180000
DTSTAMP:20260421T094056
CREATED:20190213T055820Z
LAST-MODIFIED:20190213T055820Z
UID:30052913-1551088800-1551636000@eventsforlondon.co.uk
SUMMARY:New label Jamboreeno Records announce launch residency at Jäger Soho
DESCRIPTION:Django Django member Jim Dixon has announced a week long residency at Jäger Soho (Jägermeister and Soho Radio’s collaborative space) to launch his new record label\, Jamboreeno Records. The week-long pop-up shop will exclusively stock Jamboreeno Records’ first four releases on cassette\, featuring artists: Marcarme\, Dr Fate\, PNAK and Hirvikolari. \nVisitors will have the opportunity to get their hands on an extremely limited acetate vinyl record featuring a compilation of Jamboreeno Records’ artists and future releases. Each acetate vinyl will be made to order with individual hand-printed sleeves. \nLabel merchandise including t-shirts\, pin badges and postcards – plus posters and artwork hand-printed by Jim Dixon during the residency\, will be available for purchase. \nA DIY record label\, Jamboreeno Records will champion cassette format releases with an emphasis on lo-fi\, experimental\, ambient\, soundscape and new-age music genres. For more information visit http://www.jamboreeno.com \nAbout #JagerSoho\nLaunched in 2017\, Jäger Soho is a collaboration between Jägermeister and Soho Radio which aims to provide a platform for musicians\, brands\, projects and makers. Their projects include; the Vinyl Sessions\, residencies at their pop-up space in Soho\, #JagerMusic radio shows and live broadcasts from some of the summer’s biggest festivals. \nAbout Jamboreeno Records\nOfficially launching on March 1st 2019\, Jamboreeno Records is a DIY record label founded by Django Django member Jim Dixon. On the first of each month\, Jamboreeno Records will launch a cassette recording\, which will also be available to download and on limited vinyl.
URL:https://eventsforlondon.co.uk/event/new-label-jamboreeno-records-announce-launch-residency-at-jager-soho/
LOCATION:London\, United Kingdom
CATEGORIES:Entertainment,Free Events,Music,Pop Up
ATTACH;FMTTYPE=image/jpeg:https://eventsforlondon.co.uk/wp-content/uploads/2019/02/Merch.jpg
ORGANIZER;CN="Jager Soho":MAILTO:info@sohoradiolondon.com
END:VEVENT
END:VCALENDAR